From mboxrd@z Thu Jan 1 00:00:00 1970 Return-Path: Received: from mails.dpdk.org (mails.dpdk.org [217.70.189.124]) by inbox.dpdk.org (Postfix) with ESMTP id 3AFD546557 for ; Fri, 11 Apr 2025 02:45:29 +0200 (CEST) Received: from mails.dpdk.org (localhost [127.0.0.1]) by mails.dpdk.org (Postfix) with ESMTP id 0C4AE4068A; Fri, 11 Apr 2025 02:45:29 +0200 (CEST) Received: from mail-pl1-f227.google.com (mail-pl1-f227.google.com [209.85.214.227]) by mails.dpdk.org (Postfix) with ESMTP id 1A88540285 for ; Fri, 11 Apr 2025 02:45:28 +0200 (CEST) Received: by mail-pl1-f227.google.com with SMTP id d9443c01a7336-2254e0b4b79so19945455ad.2 for ; Thu, 10 Apr 2025 17:45:27 -0700 (PDT) DKIM-Signature: v=1; a=rsa-sha256; c=relaxed/relaxed; d=iol.unh.edu; s=unh-iol; t=1744332327; x=1744937127; darn=dpdk.org; h=references:in-reply-to:cc:to:from:subject:message-id:date:from:to :cc:subject:date:message-id:reply-to; bh=9U/Q2o7a0yE4T/J3TPMhASS87a2LanVG0xK39SkLS9Q=; b=g0fdlrcSAtVN42b6S5vpMg5SkjpXHUHrzr9pMQRvyektuJya27sGRQV+gr03+sPQvH KwtvCDQLVweq1rNRT4PFk8v9B0CowleJV77k7hgfParov2J8xw+50yE1g8kPkcP0vD/A 5czwneL7qfK6tssQ1qi6LZIjhXSjlix3GQs3k= X-Google-DKIM-Signature: v=1; a=rsa-sha256; c=relaxed/relaxed; d=1e100.net; s=20230601; t=1744332327; x=1744937127; h=references:in-reply-to:cc:to:from:subject:message-id:date :x-gm-message-state:from:to:cc:subject:date:message-id:reply-to; bh=9U/Q2o7a0yE4T/J3TPMhASS87a2LanVG0xK39SkLS9Q=; b=ma38m48Wy/PVnJKDmr7pX1UgsVvHURJrT4f4Qep6st3zLmjNOuYPmIG6u0s2KApKBz uOjA+sDo4mebD5w5E+mkwqyHwnD2CiOsi/sDfnfyxJUdX/JuhduQI7Si33W7Bf7Srgiz SGPLhV3Suebtd1lVHIGEjBYoKD/E2nJiNqYnBV0dDI5YqHHF45tsch9OxkhFnBsFW+13 rTxDsfyPpj69Z3cSjhmqjqiwaynOI2O5psBg/mV8KWNpXEz80D9LQaP658hQiGnV/TOQ 8hr/zwKrwsrNQaDdirnQSQQwVoCJ+yz2rGTKBw/GoemVxNPHtXuAnvooXNuzkf8TEr9u OEYg== X-Gm-Message-State: AOJu0Yw1OYGh/vG+qPUXToU/RuXupXznsEzD+plzfoS3ANES6OGaf+Av 4SZR5fqqQJsdZSQWTiTkl8MDT6svUuhT2uqLiTkTIYBfcyazfgrdpE8ZnYIzZoPBntQzgqbt32X Nwj9CSMjU8ZKMnE3YV1rpcaUgM5i2U72eMuMZhSq8 X-Gm-Gg: ASbGncsIPyBOvqdt/rzTvvuOIoIsjCfaJVm+epPp5nCm0wieoNrBI+qOZSi+4IGJJPx d+EHHM4VUt+he6isjZ5SzX9uxQmkpoIebvP2QgBfLwYzR5MiKZT48I9tT/bJqIrq/tBxHJ0F3bl nHCnmi3VD3neqmvGjkNmeeIAzJ0bGQamRaoBUmexhqgorwElGz5hIULhOb22suQujgda+PKDONr hvrg/dK5S9r+su1i5BfBwWghxDtlsIc1qu2u2zO+XJ32bhpw+cwsYIBfK3fWlMKk759zJPOBdNW fK6e9ZtxfQAo9fuzqCDGpatvl2NL9h4FPK4i X-Google-Smtp-Source: AGHT+IF6WWJfc+3d3mKkV1ISSAoZzw6o/9vaO9MfhRaV/vcJQQ+XHo2NfPD0OIg0kn3miEoRPWCcGtXrErz2 X-Received: by 2002:a17:903:1c7:b0:220:e5be:29c7 with SMTP id d9443c01a7336-22bea4f180fmr12968575ad.39.1744332327109; Thu, 10 Apr 2025 17:45:27 -0700 (PDT) Received: from postal.iol.unh.edu (postal.iol.unh.edu. [132.177.123.84]) by smtp-relay.gmail.com with ESMTPS id d9443c01a7336-22ac7cb040bsm2766275ad.110.2025.04.10.17.45.26 (version=TLS1_2 cipher=ECDHE-ECDSA-AES128-GCM-SHA256 bits=128/128); Thu, 10 Apr 2025 17:45:27 -0700 (PDT) X-Relaying-Domain: iol.unh.edu Date: Thu, 10 Apr 2025 17:45:27 -0700 (PDT) Message-ID: <67f86627.170a0220.391978.b220SMTPIN_ADDED_MISSING@mx.google.com> Received: from [172.17.0.3] (unknown [172.18.0.217]) by postal.iol.unh.edu (Postfix) with ESMTP id 0347F6052471; Thu, 10 Apr 2025 20:45:26 -0400 (EDT) Subject: |SUCCESS| pw152867 [PATCH] app/testpmd: fix dump command list for MS From: dpdklab@iol.unh.edu To: Test Report Cc: dpdk-test-reports@iol.unh.edu In-Reply-To: <20250410160237.3067629-1-david.marchand@redhat.com> References: <20250410160237.3067629-1-david.marchand@redhat.com> Content-Type: text/plain X-BeenThere: test-report@dpdk.org X-Mailman-Version: 2.1.29 Precedence: list List-Id: automatic DPDK test reports List-Unsubscribe: , List-Archive: List-Post: List-Help: List-Subscribe: , Errors-To: test-report-bounces@dpdk.org Test-Label: iol-unit-arm64-testing Test-Status: SUCCESS http://dpdk.org/patch/152867 _Testing PASS_ Submitter: David Marchand Date: Thursday, April 10 2025 16:02:36 DPDK git baseline: Repo:dpdk Branch: master CommitID:b69fb7abb6d211cb74284029c6cdb2066b9ac0e9 152867 --> testing pass Upstream job id: Generic-Unit-Test-DPDK#330340 Test environment and result as below: +-----------------------------+----------------+------------------------------+---------------------------+--------------+ | Environment | dpdk_unit_test | cryptodev_sw_snow3g_autotest | cryptodev_sw_zuc_autotest | lpm_autotest | +=============================+================+==============================+===========================+==============+ | 32-bit Ubuntu 22.04.4 (ARM) | PASS | SKIPPED | SKIPPED | SKIPPED | +-----------------------------+----------------+------------------------------+---------------------------+--------------+ | CentOS Stream 9 (ARM) | PASS | SKIPPED | SKIPPED | SKIPPED | +-----------------------------+----------------+------------------------------+---------------------------+--------------+ | CentOS Stream 10 (ARM) | PASS | SKIPPED | SKIPPED | SKIPPED | +-----------------------------+----------------+------------------------------+---------------------------+--------------+ | Debian 12 (arm) | PASS | PASS | PASS | SKIPPED | +-----------------------------+----------------+------------------------------+---------------------------+--------------+ | Fedora 40 (ARM Clang) | PASS | SKIPPED | SKIPPED | SKIPPED | +-----------------------------+----------------+------------------------------+---------------------------+--------------+ | Fedora 41 (ARM) | PASS | SKIPPED | SKIPPED | SKIPPED | +-----------------------------+----------------+------------------------------+---------------------------+--------------+ | Fedora 41 (ARM Clang) | PASS | SKIPPED | SKIPPED | SKIPPED | +-----------------------------+----------------+------------------------------+---------------------------+--------------+ | Fedora 40 (ARM) | PASS | SKIPPED | SKIPPED | SKIPPED | +-----------------------------+----------------+------------------------------+---------------------------+--------------+ | Ubuntu 20.04 (ARM) | PASS | SKIPPED | SKIPPED | SKIPPED | +-----------------------------+----------------+------------------------------+---------------------------+--------------+ | Ubuntu 22.04 (ARM) | PASS | SKIPPED | SKIPPED | SKIPPED | +-----------------------------+----------------+------------------------------+---------------------------+--------------+ | Ubuntu 24.04 (ARM) | PASS | SKIPPED | SKIPPED | SKIPPED | +-----------------------------+----------------+------------------------------+---------------------------+--------------+ | RHEL9 (ARM) | PASS | SKIPPED | SKIPPED | SKIPPED | +-----------------------------+----------------+------------------------------+---------------------------+--------------+ | Ubuntu 20.04 ARM SVE | SKIPPED | SKIPPED | SKIPPED | PASS | +-----------------------------+----------------+------------------------------+---------------------------+--------------+ 32-bit Ubuntu 22.04.4 (ARM) Kernel: 5.15.83+ aarch64 Compiler: gcc (Ubuntu 11.4.0-1ubuntu1~22.04) 11.4.0 CentOS Stream 9 (ARM) Kernel: Depends on container host Compiler: gcc 11.5.0 20240719 (Red Hat 11.5.0-2) CentOS Stream 10 (ARM) Kernel: Depends on container host Compiler: gcc 14.2.1 20241104 (Red Hat 14.2.1-6) Debian 12 (arm) Kernel: Depends on container host Compiler: gcc (Debian 12.2.0-14) 12.2.0 Fedora 40 (ARM Clang) Kernel: Depends on container host Compiler: clang 18.1.8 (Fedora 18.1.8-1.fc40) Fedora 41 (ARM) Kernel: Depends on container host Compiler: gcc 14.2.1 20240912 (Red Hat 14.2.1-3) Fedora 41 (ARM Clang) Kernel: Depends on container host Compiler: clang 19.1.5 (Fedora 19.1.5-1.fc41) Fedora 40 (ARM) Kernel: Depends on container host Compiler: gcc 14.2.1 20240912 (Red Hat 14.2.1-3) Ubuntu 20.04 (ARM) Kernel: Depends on container host Compiler: gcc (Ubuntu 9.4.0-1ubuntu1~20.04.2) 9.4.0 Ubuntu 22.04 (ARM) Kernel: Depends on container host Compiler: gcc (Ubuntu 11.4.0-1ubuntu1~22.04) 11.4.0 Ubuntu 24.04 (ARM) Kernel: Depends on container host Compiler: gcc (Ubuntu 13.3.0-6ubuntu2~24.04) 13.3.0 RHEL9 (ARM) Kernel: Depends on container host Compiler: gcc 11.5.0 20240719 (Red Hat 11.5.0-2) Ubuntu 20.04 ARM SVE Kernel: Depends on container host Compiler: gcc (Ubuntu 10.5.0-1ubuntu1~20.04) 10.5.0 To view detailed results, visit: https://lab.dpdk.org/results/dashboard/patchsets/32987/ UNH-IOL DPDK Community Lab To manage your email subscriptions, visit: https://lab.dpdk.org/results/dashboard/preferences/subscriptions/