From mboxrd@z Thu Jan 1 00:00:00 1970 Return-Path: Received: from mails.dpdk.org (mails.dpdk.org [217.70.189.124]) by inbox.dpdk.org (Postfix) with ESMTP id DADBF46558 for ; Fri, 11 Apr 2025 04:00:29 +0200 (CEST) Received: from mails.dpdk.org (localhost [127.0.0.1]) by mails.dpdk.org (Postfix) with ESMTP id B13084066E; Fri, 11 Apr 2025 04:00:29 +0200 (CEST) Received: from mail-pg1-f228.google.com (mail-pg1-f228.google.com [209.85.215.228]) by mails.dpdk.org (Postfix) with ESMTP id CC9FA40285 for ; Fri, 11 Apr 2025 04:00:28 +0200 (CEST) Received: by mail-pg1-f228.google.com with SMTP id 41be03b00d2f7-af590aea813so2517133a12.0 for ; Thu, 10 Apr 2025 19:00:28 -0700 (PDT) DKIM-Signature: v=1; a=rsa-sha256; c=relaxed/relaxed; d=iol.unh.edu; s=unh-iol; t=1744336828; x=1744941628; darn=dpdk.org; h=references:in-reply-to:cc:to:from:subject:message-id:date:from:to :cc:subject:date:message-id:reply-to; bh=AMVXwW2MBz05Pd3359wECtPDdlZxdAGMOLR1rhkezH4=; b=YZt44OiKcbxG2RFbp6fqQDY4dzjAi0s3YVxGokoIg30LYsHaxGZicqNI5ZHh9dKZae ql6lShS/KPt1GMbWKrlWzgO77i0MOSqK96EnV5E5spdV0NaFhKaTMrQ7LRPSLBJeaCu8 LAQctGbmq/5VUDGUeZxaf9OPoQ3FjOsjxOeHk= X-Google-DKIM-Signature: v=1; a=rsa-sha256; c=relaxed/relaxed; d=1e100.net; s=20230601; t=1744336828; x=1744941628; h=references:in-reply-to:cc:to:from:subject:message-id:date :x-gm-message-state:from:to:cc:subject:date:message-id:reply-to; bh=AMVXwW2MBz05Pd3359wECtPDdlZxdAGMOLR1rhkezH4=; b=TEaozQcrczfET7+xKOwod4K0ZIuZxKOBpooAl5Ra4zeyyl4wsppXuyoMYpYqtQHYLH UxR3BMy4QvTciXaRVfjAIH9rRUeTzG8hujcggFwAoPzUa8GKMzDdw64/fnEZXIhyYmKP CuqJXAlPhzcmx7iJfQ7Pv7B3VKh/0Ldo/8Aeoq3P2zflvRkOHGa+T1UJkKsiycSjs2lX TyL5Q5gqoR7j71WdbKtkmQ+5fu1b3+iKRFMBaiPQ+EcoXTwSU1S2NmUASWT1eFgeuE6t s+unpavYhrLBcls2gBa/O0AGy/nhn7OkVKZsaGxua9nfM2d2L1CpMv7UTTRwHCHiFEiF 0bLw== X-Gm-Message-State: AOJu0YzLwuiW5OCVSCWb2Tkhrm/KAKQFvCKQ6oROEv+lHQObuWpwS8q4 sGk5SgGvVMbFbgI2xcNcy6nQJyl9+kKab7EjZgJvpoeQEJcki5Dk+/z2baBpA6Dfn2NtZ/Bokd6 61uymuBGnVV6FrHApfcIYOkykjpAvNexyoeZKyAkf X-Gm-Gg: ASbGncuS9KONkT3PSTC3fbMZ5mIa2CuvTKYf3jS+16twyTAchhshhCBexzHIvb+xVvQ OdSKUclI/FAq5B5W+/nEKfxaUSWkJjjHyVjZR5PGUypBSLuKc8HkVBzlXTXq9L/t75n60Dckn8A ERxNWs/D1UC+WxtAt1MwcANbngSmkN335+ZX3B5q0b82UY5zm4fQyrxIGWn0j5H5ddtF1ms/TmL XRB70mBx7s0Z4RnDRfq51aDsQEyFikCqfAvakcPsqknOLPRyepT+52TOO10N4o4/RquB19YyCvN PnhAjrvkdpZqdu4LndqweLl+3KgBQ/CLpPWG X-Google-Smtp-Source: AGHT+IE5jDPsfzO7rqIOjVxR+NuPwb3Cc/Ev0wFyGe3/rQP4Oi0bMnBXGe/B/ZHq21Pn9FVaKZcilspEapvk X-Received: by 2002:a17:902:ebcb:b0:21a:7e04:7021 with SMTP id d9443c01a7336-22bea0c6794mr18879185ad.24.1744336827873; Thu, 10 Apr 2025 19:00:27 -0700 (PDT) Received: from postal.iol.unh.edu (postal.iol.unh.edu. [132.177.123.84]) by smtp-relay.gmail.com with ESMTPS id d9443c01a7336-22ac7cc906fsm2681755ad.128.2025.04.10.19.00.27 (version=TLS1_2 cipher=ECDHE-ECDSA-AES128-GCM-SHA256 bits=128/128); Thu, 10 Apr 2025 19:00:27 -0700 (PDT) X-Relaying-Domain: iol.unh.edu Date: Thu, 10 Apr 2025 19:00:27 -0700 (PDT) Message-ID: <67f877bb.170a0220.1ddc77.aa1aSMTPIN_ADDED_MISSING@mx.google.com> Received: from [172.17.0.3] (unknown [172.18.0.217]) by postal.iol.unh.edu (Postfix) with ESMTP id EA2176052471; Thu, 10 Apr 2025 22:00:26 -0400 (EDT) Subject: |SUCCESS| pw152867 [PATCH] app/testpmd: fix dump command list for MS From: dpdklab@iol.unh.edu To: Test Report Cc: dpdk-test-reports@iol.unh.edu In-Reply-To: <20250410160237.3067629-1-david.marchand@redhat.com> References: <20250410160237.3067629-1-david.marchand@redhat.com> Content-Type: text/plain X-BeenThere: test-report@dpdk.org X-Mailman-Version: 2.1.29 Precedence: list List-Id: automatic DPDK test reports List-Unsubscribe: , List-Archive: List-Post: List-Help: List-Subscribe: , Errors-To: test-report-bounces@dpdk.org Test-Label: iol-compile-arm64-testing Test-Status: SUCCESS http://dpdk.org/patch/152867 _Testing PASS_ Submitter: David Marchand Date: Thursday, April 10 2025 16:02:36 DPDK git baseline: Repo:dpdk Branch: master CommitID:b69fb7abb6d211cb74284029c6cdb2066b9ac0e9 152867 --> testing pass Upstream job id: Generic-DPDK-Compile-Meson#379202 Test environment and result as below: +----------------------------------------+--------------------+ | Environment | dpdk_meson_compile | +========================================+====================+ | RHEL9 (ARM) | PASS | +----------------------------------------+--------------------+ | Ubuntu 20.04 ARM GCC Cross Compile | PASS | +----------------------------------------+--------------------+ | Ubuntu 20.04 ARM SVE | PASS | +----------------------------------------+--------------------+ | Debian 12 with MUSDK | PASS | +----------------------------------------+--------------------+ | Fedora 40 (ARM) | PASS | +----------------------------------------+--------------------+ | Fedora 40 (ARM Clang) | PASS | +----------------------------------------+--------------------+ | Fedora 41 (ARM) | PASS | +----------------------------------------+--------------------+ | Fedora 41 (ARM Clang) | PASS | +----------------------------------------+--------------------+ | Ubuntu 20.04 (ARM) | PASS | +----------------------------------------+--------------------+ | Ubuntu 22.04 (ARM) | PASS | +----------------------------------------+--------------------+ | Ubuntu 24.04 (ARM) | PASS | +----------------------------------------+--------------------+ | CentOS Stream 9 (ARM) | PASS | +----------------------------------------+--------------------+ | CentOS Stream 10 (ARM) | PASS | +----------------------------------------+--------------------+ | Debian 12 (arm) | PASS | +----------------------------------------+--------------------+ | Ubuntu 20.04 ARM Clang Cross Compile | PASS | +----------------------------------------+--------------------+ | Ubuntu 20.04 aarch32 GCC Cross Compile | PASS | +----------------------------------------+--------------------+ RHEL9 (ARM) Kernel: Depends on container host Compiler: gcc 11.5.0 20240719 (Red Hat 11.5.0-2) Ubuntu 20.04 ARM GCC Cross Compile Kernel: Depends on container host Compiler: aarch64-linux-gnu-gcc (Ubuntu 9.4.0-1ubuntu1~20.04.2) 9.4.0 Ubuntu 20.04 ARM SVE Kernel: Depends on container host Compiler: gcc (Ubuntu 10.5.0-1ubuntu1~20.04) 10.5.0 Debian 12 with MUSDK Kernel: Depends on container host Compiler: gcc (Debian 12.2.0-14) 12.2.0 Fedora 40 (ARM) Kernel: Depends on container host Compiler: gcc 14.2.1 20240912 (Red Hat 14.2.1-3) Fedora 40 (ARM Clang) Kernel: Depends on container host Compiler: clang 18.1.8 (Fedora 18.1.8-1.fc40) Fedora 41 (ARM) Kernel: Depends on container host Compiler: gcc 14.2.1 20240912 (Red Hat 14.2.1-3) Fedora 41 (ARM Clang) Kernel: Depends on container host Compiler: clang 19.1.5 (Fedora 19.1.5-1.fc41) Ubuntu 20.04 (ARM) Kernel: Depends on container host Compiler: gcc (Ubuntu 9.4.0-1ubuntu1~20.04.2) 9.4.0 Ubuntu 22.04 (ARM) Kernel: Depends on container host Compiler: gcc (Ubuntu 11.4.0-1ubuntu1~22.04) 11.4.0 Ubuntu 24.04 (ARM) Kernel: Depends on container host Compiler: gcc (Ubuntu 13.3.0-6ubuntu2~24.04) 13.3.0 CentOS Stream 9 (ARM) Kernel: Depends on container host Compiler: gcc 11.5.0 20240719 (Red Hat 11.5.0-2) CentOS Stream 10 (ARM) Kernel: Depends on container host Compiler: gcc 14.2.1 20241104 (Red Hat 14.2.1-6) Debian 12 (arm) Kernel: Depends on container host Compiler: gcc (Debian 12.2.0-14) 12.2.0 Ubuntu 20.04 ARM Clang Cross Compile Kernel: Depends on container host Compiler: clang 10.0.0-4ubuntu1 Ubuntu 20.04 aarch32 GCC Cross Compile Kernel: Depends on container host Compiler: gcc 9.4.0 To view detailed results, visit: https://lab.dpdk.org/results/dashboard/patchsets/32987/ UNH-IOL DPDK Community Lab To manage your email subscriptions, visit: https://lab.dpdk.org/results/dashboard/preferences/subscriptions/