From mboxrd@z Thu Jan 1 00:00:00 1970 Return-Path: Received: from mails.dpdk.org (mails.dpdk.org [217.70.189.124]) by inbox.dpdk.org (Postfix) with ESMTP id 7EF3246558 for ; Fri, 11 Apr 2025 04:06:39 +0200 (CEST) Received: from mails.dpdk.org (localhost [127.0.0.1]) by mails.dpdk.org (Postfix) with ESMTP id 4D0784066E; Fri, 11 Apr 2025 04:06:39 +0200 (CEST) Received: from mail-pl1-f228.google.com (mail-pl1-f228.google.com [209.85.214.228]) by mails.dpdk.org (Postfix) with ESMTP id B1E4440285 for ; Fri, 11 Apr 2025 04:06:38 +0200 (CEST) Received: by mail-pl1-f228.google.com with SMTP id d9443c01a7336-2254e0b4b79so20586805ad.2 for ; Thu, 10 Apr 2025 19:06:38 -0700 (PDT) DKIM-Signature: v=1; a=rsa-sha256; c=relaxed/relaxed; d=iol.unh.edu; s=unh-iol; t=1744337198; x=1744941998; darn=dpdk.org; h=references:in-reply-to:cc:to:from:subject:message-id:date:from:to :cc:subject:date:message-id:reply-to; bh=pWZ5slEItg6+3G2JaK+5sNneMolnsMYskLIq4zxM/Gg=; b=XdqynKdTQAr4LcE8SrX1roozs6Lo8gaNwogbzLYS81lRJ6aShm+8cPM5wssz0PsRK9 5MWczaoUp7gGKa2riRTFM45Q/wme131V+I0cNwbck3Dtqd4u/5N8Fc8I47EWvluKqs/s 9/6akaXgv9BW8ygqEPrk+vVZ9rpNdApnQk/fU= X-Google-DKIM-Signature: v=1; a=rsa-sha256; c=relaxed/relaxed; d=1e100.net; s=20230601; t=1744337198; x=1744941998; h=references:in-reply-to:cc:to:from:subject:message-id:date :x-gm-message-state:from:to:cc:subject:date:message-id:reply-to; bh=pWZ5slEItg6+3G2JaK+5sNneMolnsMYskLIq4zxM/Gg=; b=Feu/YPoZqZK0AgkFhwv/JpNQzBumGj5IyIbb+yJPj/CDVcpuf2wJVAIDOle0yxv8bV aVF91JcJ8o8nix4eyygxBzcN4O3BXgw5kEtzp0WC9wfhvjbdE9nOK6uzcUxhSiQxrd7I ajfIInmhYdpAWdkp0gz2r1eWrkeyuAK5DLbpiEf/vhvz+fuLoy10CBQoJHD2I5xsersg XAnT6eMTxZjuphgXI5Nx90TBIUGIbPDv9ZrqmtGZGYKlGzMGMsbjb0ua43YkdAMBb9e/ VsFS3w0tugy9XIhlYOo5zAPqdYySw7DYiNzSy/N5dwqUwPDIS4CnAhRfE7iBuOQ7IGXP r8Yw== X-Gm-Message-State: AOJu0Yx6HwHUF2quBFekGc2yCcsa+V0ydjy0QcUfcHi58N2V2DxJsMfA m9Ci0u8y/BWowxN+VSm0j37dDgCkvYa0gUV02TwFGsvLAACd0zpZdmQUHtLlhNrGlFp01sknB3k JUh40ODfGsqq59mPJiAsYsBO+OzLgrbXh8ZbgbrlJ X-Gm-Gg: ASbGncvQEZkzxOh2q6KjU3zH/GPOCCTIHaNNkXxin5s4ffA3PqkvkC3IvYR2t+ks1z+ f9tkCuuWi4UFfKEjNcJEj4YjXKkRcwoljdb5BHJI3aBT1E8sdCtF7tshC6drmm6yGUZ1hPKOuEN 4ys79LOHbge9/KwshrieSQdK5NfXbcxYqgqWro0nIxEvyVzpoGcwryuoYBeeZ/cZStsd9fcEuEV NQ0BD96MqQBvTt2FJiTuJEClmlOhH7XRlct8amwnI+KkVaSoJLmDPlfTz4LpIzv8FurCr0sb7u7 Yi+oDSIF4hp7SrzLHnGEv7jCK2gpYfCUv8Od X-Google-Smtp-Source: AGHT+IEWxXohhO+rfo0UWpGp3QUmt/g1LTWxDeUT4lyt+kJXEURWIEIZcU3CSaUzNMyFIbcbCbVfsel+xH6x X-Received: by 2002:a17:902:db0b:b0:21f:164d:93fe with SMTP id d9443c01a7336-22bea50832bmr14661305ad.53.1744337197787; Thu, 10 Apr 2025 19:06:37 -0700 (PDT) Received: from postal.iol.unh.edu (postal.iol.unh.edu. [132.177.123.84]) by smtp-relay.gmail.com with ESMTPS id d9443c01a7336-22ac7b41f07sm2856905ad.20.2025.04.10.19.06.37 (version=TLS1_2 cipher=ECDHE-ECDSA-AES128-GCM-SHA256 bits=128/128); Thu, 10 Apr 2025 19:06:37 -0700 (PDT) X-Relaying-Domain: iol.unh.edu Date: Thu, 10 Apr 2025 19:06:37 -0700 (PDT) Message-ID: <67f8792d.170a0220.3accdf.b96cSMTPIN_ADDED_MISSING@mx.google.com> Received: from [172.17.0.3] (unknown [172.18.0.217]) by postal.iol.unh.edu (Postfix) with ESMTP id 304EF6052471; Thu, 10 Apr 2025 22:06:37 -0400 (EDT) Subject: |SUCCESS| pw152867 [PATCH] app/testpmd: fix dump command list for MS From: dpdklab@iol.unh.edu To: Test Report Cc: dpdk-test-reports@iol.unh.edu In-Reply-To: <20250410160237.3067629-1-david.marchand@redhat.com> References: <20250410160237.3067629-1-david.marchand@redhat.com> Content-Type: text/plain X-BeenThere: test-report@dpdk.org X-Mailman-Version: 2.1.29 Precedence: list List-Id: automatic DPDK test reports List-Unsubscribe: , List-Archive: List-Post: List-Help: List-Subscribe: , Errors-To: test-report-bounces@dpdk.org Test-Label: iol-compile-arm64-testing Test-Status: SUCCESS http://dpdk.org/patch/152867 _Testing PASS_ Submitter: David Marchand Date: Thursday, April 10 2025 16:02:36 DPDK git baseline: Repo:dpdk Branch: master CommitID:b69fb7abb6d211cb74284029c6cdb2066b9ac0e9 152867 --> testing pass Upstream job id: Generic-DPDK-Compile-Meson#379215 Test environment and result as below: +----------------------------------------+--------------------+ | Environment | dpdk_meson_compile | +========================================+====================+ | RHEL9 (ARM) | PASS | +----------------------------------------+--------------------+ | Ubuntu 20.04 ARM GCC Cross Compile | PASS | +----------------------------------------+--------------------+ | Ubuntu 20.04 ARM SVE | PASS | +----------------------------------------+--------------------+ | Debian 12 with MUSDK | PASS | +----------------------------------------+--------------------+ | Fedora 40 (ARM) | PASS | +----------------------------------------+--------------------+ | Fedora 40 (ARM Clang) | PASS | +----------------------------------------+--------------------+ | Fedora 41 (ARM) | PASS | +----------------------------------------+--------------------+ | Fedora 41 (ARM Clang) | PASS | +----------------------------------------+--------------------+ | Ubuntu 20.04 (ARM) | PASS | +----------------------------------------+--------------------+ | Ubuntu 22.04 (ARM) | PASS | +----------------------------------------+--------------------+ | Ubuntu 24.04 (ARM) | PASS | +----------------------------------------+--------------------+ | CentOS Stream 9 (ARM) | PASS | +----------------------------------------+--------------------+ | CentOS Stream 10 (ARM) | PASS | +----------------------------------------+--------------------+ | Debian 12 (arm) | PASS | +----------------------------------------+--------------------+ | Ubuntu 20.04 ARM Clang Cross Compile | PASS | +----------------------------------------+--------------------+ | Ubuntu 20.04 aarch32 GCC Cross Compile | PASS | +----------------------------------------+--------------------+ RHEL9 (ARM) Kernel: Depends on container host Compiler: gcc 11.5.0 20240719 (Red Hat 11.5.0-2) Ubuntu 20.04 ARM GCC Cross Compile Kernel: Depends on container host Compiler: aarch64-linux-gnu-gcc (Ubuntu 9.4.0-1ubuntu1~20.04.2) 9.4.0 Ubuntu 20.04 ARM SVE Kernel: Depends on container host Compiler: gcc (Ubuntu 10.5.0-1ubuntu1~20.04) 10.5.0 Debian 12 with MUSDK Kernel: Depends on container host Compiler: gcc (Debian 12.2.0-14) 12.2.0 Fedora 40 (ARM) Kernel: Depends on container host Compiler: gcc 14.2.1 20240912 (Red Hat 14.2.1-3) Fedora 40 (ARM Clang) Kernel: Depends on container host Compiler: clang 18.1.8 (Fedora 18.1.8-1.fc40) Fedora 41 (ARM) Kernel: Depends on container host Compiler: gcc 14.2.1 20240912 (Red Hat 14.2.1-3) Fedora 41 (ARM Clang) Kernel: Depends on container host Compiler: clang 19.1.5 (Fedora 19.1.5-1.fc41) Ubuntu 20.04 (ARM) Kernel: Depends on container host Compiler: gcc (Ubuntu 9.4.0-1ubuntu1~20.04.2) 9.4.0 Ubuntu 22.04 (ARM) Kernel: Depends on container host Compiler: gcc (Ubuntu 11.4.0-1ubuntu1~22.04) 11.4.0 Ubuntu 24.04 (ARM) Kernel: Depends on container host Compiler: gcc (Ubuntu 13.3.0-6ubuntu2~24.04) 13.3.0 CentOS Stream 9 (ARM) Kernel: Depends on container host Compiler: gcc 11.5.0 20240719 (Red Hat 11.5.0-2) CentOS Stream 10 (ARM) Kernel: Depends on container host Compiler: gcc 14.2.1 20241104 (Red Hat 14.2.1-6) Debian 12 (arm) Kernel: Depends on container host Compiler: gcc (Debian 12.2.0-14) 12.2.0 Ubuntu 20.04 ARM Clang Cross Compile Kernel: Depends on container host Compiler: clang 10.0.0-4ubuntu1 Ubuntu 20.04 aarch32 GCC Cross Compile Kernel: Depends on container host Compiler: gcc 9.4.0 To view detailed results, visit: https://lab.dpdk.org/results/dashboard/patchsets/32987/ UNH-IOL DPDK Community Lab To manage your email subscriptions, visit: https://lab.dpdk.org/results/dashboard/preferences/subscriptions/