From mboxrd@z Thu Jan  1 00:00:00 1970
Return-Path: <test-report-bounces@dpdk.org>
Received: from mails.dpdk.org (mails.dpdk.org [217.70.189.124])
	by inbox.dpdk.org (Postfix) with ESMTP id 2D0F34655E
	for <public@inbox.dpdk.org>; Fri, 11 Apr 2025 09:01:56 +0200 (CEST)
Received: from mails.dpdk.org (localhost [127.0.0.1])
	by mails.dpdk.org (Postfix) with ESMTP id 40CD040696;
	Fri, 11 Apr 2025 09:01:55 +0200 (CEST)
Received: from mail-il1-f228.google.com (mail-il1-f228.google.com
 [209.85.166.228])
 by mails.dpdk.org (Postfix) with ESMTP id CBB4D40285
 for <test-report@dpdk.org>; Fri, 11 Apr 2025 09:01:53 +0200 (CEST)
Received: by mail-il1-f228.google.com with SMTP id
 e9e14a558f8ab-3d5ebc2b725so5440575ab.3
 for <test-report@dpdk.org>; Fri, 11 Apr 2025 00:01:53 -0700 (PDT)
DKIM-Signature: v=1; a=rsa-sha256; c=relaxed/relaxed;
 d=iol.unh.edu; s=unh-iol; t=1744354913; x=1744959713; darn=dpdk.org;
 h=cc:to:from:subject:message-id:date:from:to:cc:subject:date
 :message-id:reply-to;
 bh=U22J7NImlq9hruVUtvGHb+ZRg69KxwbdQ1nu5TyG+VU=;
 b=O0CVu+/AqDfA2ZPUxm4WrtOC9Ht7V3OAV70aAQUEARgfbeMIm506+tLFmc5SBBAXfM
 BiS3P4KoC2dHZd52UGi1YFL0173j18HMFIiBFkJNd83RQmZG8dbyWLxE9q0To6sPGd2q
 AOjF2w0AOr9egAxrmw8sn/qCM0pjbkykuS3G8=
X-Google-DKIM-Signature: v=1; a=rsa-sha256; c=relaxed/relaxed;
 d=1e100.net; s=20230601; t=1744354913; x=1744959713;
 h=cc:to:from:subject:message-id:date:x-gm-message-state:from:to:cc
 :subject:date:message-id:reply-to;
 bh=U22J7NImlq9hruVUtvGHb+ZRg69KxwbdQ1nu5TyG+VU=;
 b=XAy9SrZh3LeYa8EmFFbD5EEEaCa+KZA+V0XvNodH6vjW1xeh46YNOlpZAzKZhe5GN6
 +t3wF5E2rvM4LdYGid4XfDaR4ABTx7HvpYtiOhTlQ/jtTU4hb0ACeZ+ob+OBNPsQrtwT
 lHy9MpyGeQVvCiNyd61DavNjZD7GfuP121iH+X1eXKaVtC1kq8SPwUpq7QPpqCEhNyJy
 Erop/JmgWdxERfCB4eHxTwmInlT1YCmIngSgkxCXAesnhLjwG4w7OhFVS05KfdB5dwdd
 llKcMKbJZujES/6i4eZ8nbFQpfRre/6z4ugusICEOuobDFSShqDxgYniGVF6FVKrDHG9
 JXWw==
X-Gm-Message-State: AOJu0Yy61OS/QsUp6suNa+g+w5wHrG5vizJ8Db53oQtwixXm6oDfvN9V
 PckcilvCSUo+VLF1gb+nDw1tUwc1shzrCtpl5oSPGoiPrSIgjwB6iP2UQDbvHkuBWN280WNkEfs
 +Q5AN6YjW0Z4TxXKszjIjtaCqjjw+o9B2Xx0ZEunRWOzX0s+M
X-Gm-Gg: ASbGncuMgp3Vg4jhvnP8eYMeHWxaqSojGO8nvX9MEEtXE2t2e4S+iWlw9t6c7m/kP2N
 JUn3XpEmRAiyJW6RbDYDnGS+RtCIJd3qmrxEi6BkA4mJlb0cJsSKyenEhYJXnWKrGbb6m6Mmb4u
 VlB7cnsnBbhc86uoQSbT/u7uPQqVCCZjY0ptkcadrapaNMhIHJhPxd5rKp5KARx4upIMBU6MSoB
 KHDDzXeRr5a6+Tcx8moMdPsaEr8mA5i3cyvxWw7tyiU7Rx0MplztF7+0JKUgz3qn/QKTlJTItW9
 3bL5iewR04qE75ViBKwVLWpGbW9qcmvNTIqoctSgDSRiKv6H
X-Google-Smtp-Source: AGHT+IEcXgd7MAHZGuuJ216SlnImvXrd7H9AiR30NwS9DJmbPhRgicOCrqdpt4NE7WXHqwbVZDstjRa4KmfQ
X-Received: by 2002:a05:6e02:12c7:b0:3d0:21aa:a752 with SMTP id
 e9e14a558f8ab-3d7ec1ca2d6mr16695285ab.2.1744354912971; 
 Fri, 11 Apr 2025 00:01:52 -0700 (PDT)
Received: from postal.iol.unh.edu (postal.iol.unh.edu.
 [2606:4100:3880:1234::84]) by smtp-relay.gmail.com with ESMTPS id
 e9e14a558f8ab-3d7da4a01d0sm3800015ab.0.2025.04.11.00.01.52
 (version=TLS1_2 cipher=ECDHE-ECDSA-AES128-GCM-SHA256 bits=128/128);
 Fri, 11 Apr 2025 00:01:52 -0700 (PDT)
X-Relaying-Domain: iol.unh.edu
Date: Fri, 11 Apr 2025 00:01:52 -0700 (PDT)
Message-ID: <67f8be60.050a0220.1a7dd5.e34aSMTPIN_ADDED_MISSING@mx.google.com>
Received: from [172.21.0.5] (unknown [172.18.0.240])
 by postal.iol.unh.edu (Postfix) with ESMTP id 62F6F6052471;
 Fri, 11 Apr 2025 03:01:52 -0400 (EDT)
Subject: |SUCCESS| [GIT MASTER] c66daa12e76d7b4912cfb7109a761856a7a873ab
From: dpdklab@iol.unh.edu
To: Test Report <test-report@dpdk.org>
Cc: dpdk-test-reports@iol.unh.edu, Xueming Li <xuemingl@nvidia.com>,
 Christian Ehrhardt <christian.ehrhardt@canonical.com>,
 Kevin Traynor <ktraynor@redhat.com>, Luca Boccassi <bluca@debian.org>
Content-Type: text/plain
X-BeenThere: test-report@dpdk.org
X-Mailman-Version: 2.1.29
Precedence: list
List-Id: automatic DPDK test reports <test-report.dpdk.org>
List-Unsubscribe: <https://mails.dpdk.org/options/test-report>,
 <mailto:test-report-request@dpdk.org?subject=unsubscribe>
List-Archive: <http://mails.dpdk.org/archives/test-report/>
List-Post: <mailto:test-report@dpdk.org>
List-Help: <mailto:test-report-request@dpdk.org?subject=help>
List-Subscribe: <https://mails.dpdk.org/listinfo/test-report>,
 <mailto:test-report-request@dpdk.org?subject=subscribe>
Errors-To: test-report-bounces@dpdk.org

_Testing PASS_

Branch: tags/v23.11

c66daa12e76d7b4912cfb7109a761856a7a873ab --> testing pass

Upstream job id: Generic-DPDK-Compile-Meson#379266

Test environment and result as below:

+------------------------------------+--------------------+
|            Environment             | dpdk_meson_compile |
+====================================+====================+
| RHEL9 (ARM)                        | PASS               |
+------------------------------------+--------------------+
| Ubuntu 20.04 ARM GCC Cross Compile | PASS               |
+------------------------------------+--------------------+
| Ubuntu 20.04 ARM SVE               | PASS               |
+------------------------------------+--------------------+
| Debian 12 with MUSDK               | PASS               |
+------------------------------------+--------------------+
| Fedora 40 (ARM)                    | PASS               |
+------------------------------------+--------------------+
| Fedora 40 (ARM Clang)              | PASS               |
+------------------------------------+--------------------+
| Fedora 41 (ARM)                    | PASS               |
+------------------------------------+--------------------+
| Fedora 41 (ARM Clang)              | PASS               |
+------------------------------------+--------------------+
| Ubuntu 20.04 (ARM)                 | PASS               |
+------------------------------------+--------------------+
| Ubuntu 22.04 (ARM)                 | PASS               |
+------------------------------------+--------------------+
| Ubuntu 24.04 (ARM)                 | PASS               |
+------------------------------------+--------------------+
| Debian 12 (arm)                    | PASS               |
+------------------------------------+--------------------+
| CentOS Stream 10 (ARM)             | PASS               |
+------------------------------------+--------------------+
| CentOS Stream 9 (ARM)              | PASS               |
+------------------------------------+--------------------+


RHEL9 (ARM)
	Kernel: Depends on container host
	Compiler: gcc 11.5.0 20240719 (Red Hat 11.5.0-2)

Ubuntu 20.04 ARM GCC Cross Compile
	Kernel: Depends on container host
	Compiler: aarch64-linux-gnu-gcc (Ubuntu 9.4.0-1ubuntu1~20.04.2) 9.4.0

Ubuntu 20.04 ARM SVE
	Kernel: Depends on container host
	Compiler: gcc (Ubuntu 10.5.0-1ubuntu1~20.04) 10.5.0

Debian 12 with MUSDK
	Kernel: Depends on container host
	Compiler: gcc (Debian 12.2.0-14) 12.2.0

Fedora 40 (ARM)
	Kernel: Depends on container host
	Compiler: gcc 14.2.1 20240912 (Red Hat 14.2.1-3)

Fedora 40 (ARM Clang)
	Kernel: Depends on container host
	Compiler: clang 18.1.8 (Fedora 18.1.8-1.fc40)

Fedora 41 (ARM)
	Kernel: Depends on container host
	Compiler: gcc 14.2.1 20240912 (Red Hat 14.2.1-3)

Fedora 41 (ARM Clang)
	Kernel: Depends on container host
	Compiler: clang 19.1.5 (Fedora 19.1.5-1.fc41)

Ubuntu 20.04 (ARM)
	Kernel: Depends on container host
	Compiler: gcc (Ubuntu 9.4.0-1ubuntu1~20.04.2) 9.4.0

Ubuntu 22.04 (ARM)
	Kernel: Depends on container host
	Compiler: gcc (Ubuntu 11.4.0-1ubuntu1~22.04) 11.4.0

Ubuntu 24.04 (ARM)
	Kernel: Depends on container host
	Compiler: gcc (Ubuntu 13.3.0-6ubuntu2~24.04) 13.3.0

Debian 12 (arm)
	Kernel: Depends on container host
	Compiler: gcc (Debian 12.2.0-14) 12.2.0

CentOS Stream 10 (ARM)
	Kernel: Depends on container host
	Compiler: gcc 14.2.1 20241104 (Red Hat 14.2.1-6)

CentOS Stream 9 (ARM)
	Kernel: Depends on container host
	Compiler: gcc 11.5.0 20240719 (Red Hat 11.5.0-2)

To view detailed results, visit:
https://lab.dpdk.org/results/dashboard/tarballs/33223/

UNH-IOL DPDK Community Lab

To manage your email subscriptions, visit: 
https://lab.dpdk.org/results/dashboard/preferences/subscriptions/