From mboxrd@z Thu Jan  1 00:00:00 1970
Return-Path: <test-report-bounces@dpdk.org>
Received: from mails.dpdk.org (mails.dpdk.org [217.70.189.124])
	by inbox.dpdk.org (Postfix) with ESMTP id 7368946560
	for <public@inbox.dpdk.org>; Fri, 11 Apr 2025 10:44:17 +0200 (CEST)
Received: from mails.dpdk.org (localhost [127.0.0.1])
	by mails.dpdk.org (Postfix) with ESMTP id 6EDCB40A84;
	Fri, 11 Apr 2025 10:44:17 +0200 (CEST)
Received: from mail-pf1-f226.google.com (mail-pf1-f226.google.com
 [209.85.210.226])
 by mails.dpdk.org (Postfix) with ESMTP id BB90040A81
 for <test-report@dpdk.org>; Fri, 11 Apr 2025 10:44:15 +0200 (CEST)
Received: by mail-pf1-f226.google.com with SMTP id
 d2e1a72fcca58-736aa9d0f2aso1991122b3a.0
 for <test-report@dpdk.org>; Fri, 11 Apr 2025 01:44:15 -0700 (PDT)
DKIM-Signature: v=1; a=rsa-sha256; c=relaxed/relaxed;
 d=iol.unh.edu; s=unh-iol; t=1744361055; x=1744965855; darn=dpdk.org;
 h=cc:to:from:subject:message-id:date:from:to:cc:subject:date
 :message-id:reply-to;
 bh=tUASFkAft9Hk7uSdjZnGc9zTvkqP8mzqhsZDvAg7h6c=;
 b=PF+XAOFScKa0OHRHQ42xj9C02yQo23jaXLrLwBcnyoMPtoZXhekxHAP4JgPlyUqEMT
 0hvK9qF4RjPsayZszeB2ZH4tduN45xVoHkz4Fb/1YrkG5i+LgNDjUYHyZalN2LPswMAn
 W8uME4UvR5Zgh7bCX30sWyPpY5ajfhjTop2fQ=
X-Google-DKIM-Signature: v=1; a=rsa-sha256; c=relaxed/relaxed;
 d=1e100.net; s=20230601; t=1744361055; x=1744965855;
 h=cc:to:from:subject:message-id:date:x-gm-message-state:from:to:cc
 :subject:date:message-id:reply-to;
 bh=tUASFkAft9Hk7uSdjZnGc9zTvkqP8mzqhsZDvAg7h6c=;
 b=qsza2s2ciWYorGAM8//3yPKpg5GvULF6jvjjx051kWhUkhyw/Gf5aH9i2o1OGEyZO2
 SmYommdZyu01+RG0VlvdxXqx9t4kcvkvRQ60UAJnKctRd4dKRI0rEVpF2LtJGgiEKRCQ
 lC2bur6Gd6u8clY0vyAhh6qUNw6q8a/wbUk9IEqce4F/JBNmLengf7lpr2tk2PEfTk/+
 /Gq43w9sGNy3IblD7pL6fHCy8vc7F54p0fXLNVARVgVWnn+ggdo8KviCs8WLSG4AcqOX
 fdviy8ljx+B4CuEzyiMX9/CzLwKxT1h7jqSMzJjmsBB63xIJ+7wqbdGDuvyco/ehNeb8
 VJcg==
X-Gm-Message-State: AOJu0YzxHcGBISzfHxHRq1V7qQzvfgWgC3NexxFhe8Gry6zp38xLg0zE
 GDQDhT/tKHPyPiNcpoBlSPWckmldtouqmu7pljGA8LF3bfK/Bjuan1VkSuED6uvSqLRwvuglkQx
 Yrdmp93Uq7RlxYDnwF6MnVdbVUeUgz4oqZ3zIhRpy
X-Gm-Gg: ASbGncu5UEiaPKgmXapKayS4nvZR/A9nGrQiXcbQLKUfOpDFo5x3Sfxak5fuEoMVHYm
 9bnqHPrRWy0yCt5UuX8Vhm8NFRqo2FodgblbBOvkrJENeynn95p7pYoarployuTpZ229qpQpGj1
 AvE6/eqH2VYyTWddCTxR8sHAQlGp2PD55X9gsbx2VvXIfovl40blurwRxDLhFke5BHNb+hwrRt0
 fVnpfmU4iNzxtV9i1cLoGHW2IV+XNGOkfSkVxESPJ512gpv/RzLekqmlHTKEH2C2O64XjYX+c0P
 Q8XIJ0ixw33DuL/GoXW3T9R6Y5hSJIlnMGKo
X-Google-Smtp-Source: AGHT+IFa49jOX+vojHSVeiA9A20jUby5fntllblDyJ2xAUftTasEZ9XSS1XyyjZbHCJd8gocvS/aDVsgPvYC
X-Received: by 2002:a05:6a00:3990:b0:736:6d4d:ffa6 with SMTP id
 d2e1a72fcca58-73bd12558c6mr2181438b3a.15.1744361054940; 
 Fri, 11 Apr 2025 01:44:14 -0700 (PDT)
Received: from postal.iol.unh.edu (postal.iol.unh.edu. [132.177.123.84])
 by smtp-relay.gmail.com with ESMTPS id
 d2e1a72fcca58-73bd219bfe4sm58040b3a.4.2025.04.11.01.44.14
 (version=TLS1_2 cipher=ECDHE-ECDSA-AES128-GCM-SHA256 bits=128/128);
 Fri, 11 Apr 2025 01:44:14 -0700 (PDT)
X-Relaying-Domain: iol.unh.edu
Date: Fri, 11 Apr 2025 01:44:14 -0700 (PDT)
Message-ID: <67f8d65e.050a0220.1e682f.3f4dSMTPIN_ADDED_MISSING@mx.google.com>
Received: from [172.21.0.5] (unknown [172.18.0.240])
 by postal.iol.unh.edu (Postfix) with ESMTP id 0D4C06052471;
 Fri, 11 Apr 2025 04:44:14 -0400 (EDT)
Subject: |SUCCESS| [GIT MASTER] b69fb7abb6d211cb74284029c6cdb2066b9ac0e9
From: dpdklab@iol.unh.edu
To: Test Report <test-report@dpdk.org>
Cc: dpdk-test-reports@iol.unh.edu,
 Stephen Hemminger <stephen@networkplumber.org>
Content-Type: text/plain
X-BeenThere: test-report@dpdk.org
X-Mailman-Version: 2.1.29
Precedence: list
List-Id: automatic DPDK test reports <test-report.dpdk.org>
List-Unsubscribe: <https://mails.dpdk.org/options/test-report>,
 <mailto:test-report-request@dpdk.org?subject=unsubscribe>
List-Archive: <http://mails.dpdk.org/archives/test-report/>
List-Post: <mailto:test-report@dpdk.org>
List-Help: <mailto:test-report-request@dpdk.org?subject=help>
List-Subscribe: <https://mails.dpdk.org/listinfo/test-report>,
 <mailto:test-report-request@dpdk.org?subject=subscribe>
Errors-To: test-report-bounces@dpdk.org

_Testing PASS_

Branch: dpdk-next-net

b69fb7abb6d211cb74284029c6cdb2066b9ac0e9 --> testing pass

Upstream job id: Generic-Unit-Test-DPDK#330440

Test environment and result as below:

+-----------------------------+----------------+--------------+------------------------------+---------------------------+
|         Environment         | dpdk_unit_test | lpm_autotest | cryptodev_sw_snow3g_autotest | cryptodev_sw_zuc_autotest |
+=============================+================+==============+==============================+===========================+
| 32-bit Ubuntu 22.04.4 (ARM) | PASS           | SKIPPED      | SKIPPED                      | SKIPPED                   |
+-----------------------------+----------------+--------------+------------------------------+---------------------------+
| Fedora 40 (ARM)             | PASS           | SKIPPED      | SKIPPED                      | SKIPPED                   |
+-----------------------------+----------------+--------------+------------------------------+---------------------------+
| RHEL9 (ARM)                 | PASS           | SKIPPED      | SKIPPED                      | SKIPPED                   |
+-----------------------------+----------------+--------------+------------------------------+---------------------------+
| CentOS Stream 9 (ARM)       | PASS           | SKIPPED      | SKIPPED                      | SKIPPED                   |
+-----------------------------+----------------+--------------+------------------------------+---------------------------+
| Fedora 40 (ARM Clang)       | PASS           | SKIPPED      | SKIPPED                      | SKIPPED                   |
+-----------------------------+----------------+--------------+------------------------------+---------------------------+
| CentOS Stream 10 (ARM)      | PASS           | SKIPPED      | SKIPPED                      | SKIPPED                   |
+-----------------------------+----------------+--------------+------------------------------+---------------------------+
| Debian 12 (arm)             | PASS           | SKIPPED      | PASS                         | PASS                      |
+-----------------------------+----------------+--------------+------------------------------+---------------------------+
| Fedora 41 (ARM Clang)       | PASS           | SKIPPED      | SKIPPED                      | SKIPPED                   |
+-----------------------------+----------------+--------------+------------------------------+---------------------------+
| Ubuntu 20.04 (ARM)          | PASS           | SKIPPED      | SKIPPED                      | SKIPPED                   |
+-----------------------------+----------------+--------------+------------------------------+---------------------------+
| Ubuntu 22.04 (ARM)          | PASS           | SKIPPED      | SKIPPED                      | SKIPPED                   |
+-----------------------------+----------------+--------------+------------------------------+---------------------------+
| Ubuntu 24.04 (ARM)          | PASS           | SKIPPED      | SKIPPED                      | SKIPPED                   |
+-----------------------------+----------------+--------------+------------------------------+---------------------------+
| Fedora 41 (ARM)             | PASS           | SKIPPED      | SKIPPED                      | SKIPPED                   |
+-----------------------------+----------------+--------------+------------------------------+---------------------------+
| Ubuntu 20.04 ARM SVE        | SKIPPED        | PASS         | SKIPPED                      | SKIPPED                   |
+-----------------------------+----------------+--------------+------------------------------+---------------------------+


32-bit Ubuntu 22.04.4 (ARM)
	Kernel: 5.15.83+ aarch64
	Compiler: gcc (Ubuntu 11.4.0-1ubuntu1~22.04) 11.4.0

Fedora 40 (ARM)
	Kernel: Depends on container host
	Compiler: gcc 14.2.1 20240912 (Red Hat 14.2.1-3)

RHEL9 (ARM)
	Kernel: Depends on container host
	Compiler: gcc 11.5.0 20240719 (Red Hat 11.5.0-2)

CentOS Stream 9 (ARM)
	Kernel: Depends on container host
	Compiler: gcc 11.5.0 20240719 (Red Hat 11.5.0-2)

Fedora 40 (ARM Clang)
	Kernel: Depends on container host
	Compiler: clang 18.1.8 (Fedora 18.1.8-1.fc40)

CentOS Stream 10 (ARM)
	Kernel: Depends on container host
	Compiler: gcc 14.2.1 20241104 (Red Hat 14.2.1-6)

Debian 12 (arm)
	Kernel: Depends on container host
	Compiler: gcc (Debian 12.2.0-14) 12.2.0

Fedora 41 (ARM Clang)
	Kernel: Depends on container host
	Compiler: clang 19.1.5 (Fedora 19.1.5-1.fc41)

Ubuntu 20.04 (ARM)
	Kernel: Depends on container host
	Compiler: gcc (Ubuntu 9.4.0-1ubuntu1~20.04.2) 9.4.0

Ubuntu 22.04 (ARM)
	Kernel: Depends on container host
	Compiler: gcc (Ubuntu 11.4.0-1ubuntu1~22.04) 11.4.0

Ubuntu 24.04 (ARM)
	Kernel: Depends on container host
	Compiler: gcc (Ubuntu 13.3.0-6ubuntu2~24.04) 13.3.0

Fedora 41 (ARM)
	Kernel: Depends on container host
	Compiler: gcc 14.2.1 20240912 (Red Hat 14.2.1-3)

Ubuntu 20.04 ARM SVE
	Kernel: Depends on container host
	Compiler: gcc (Ubuntu 10.5.0-1ubuntu1~20.04) 10.5.0

To view detailed results, visit:
https://lab.dpdk.org/results/dashboard/tarballs/33225/

UNH-IOL DPDK Community Lab

To manage your email subscriptions, visit: 
https://lab.dpdk.org/results/dashboard/preferences/subscriptions/