From mboxrd@z Thu Jan  1 00:00:00 1970
Return-Path: <test-report-bounces@dpdk.org>
Received: from mails.dpdk.org (mails.dpdk.org [217.70.189.124])
	by inbox.dpdk.org (Postfix) with ESMTP id AFD3646560
	for <public@inbox.dpdk.org>; Fri, 11 Apr 2025 11:14:09 +0200 (CEST)
Received: from mails.dpdk.org (localhost [127.0.0.1])
	by mails.dpdk.org (Postfix) with ESMTP id 8103540A67;
	Fri, 11 Apr 2025 11:14:09 +0200 (CEST)
Received: from mail-pf1-f226.google.com (mail-pf1-f226.google.com
 [209.85.210.226])
 by mails.dpdk.org (Postfix) with ESMTP id 07003406B4
 for <test-report@dpdk.org>; Fri, 11 Apr 2025 11:14:08 +0200 (CEST)
Received: by mail-pf1-f226.google.com with SMTP id
 d2e1a72fcca58-730517040a9so2115585b3a.0
 for <test-report@dpdk.org>; Fri, 11 Apr 2025 02:14:07 -0700 (PDT)
DKIM-Signature: v=1; a=rsa-sha256; c=relaxed/relaxed;
 d=iol.unh.edu; s=unh-iol; t=1744362847; x=1744967647; darn=dpdk.org;
 h=cc:to:from:subject:message-id:date:from:to:cc:subject:date
 :message-id:reply-to;
 bh=BBrNurs3O5OhJqn2e0hooRE48WHqOAF2Fvzj+HLosTo=;
 b=ScxzJVB31WYiQPKLNIDmg4wNbV1RrFOSCKhX3mkoZtzWHZhyX+mfEVcLuxBlCBDZ12
 6QuMwaJf9W8XqFdDgSxIwxZIlIb9SyBkOvhkqlwxNyqlHZsJUMnT51URkolQrrHG+tV2
 G3BgqwmMNhRLLjkw90aOzD3zG/6Ih4k9i1x44=
X-Google-DKIM-Signature: v=1; a=rsa-sha256; c=relaxed/relaxed;
 d=1e100.net; s=20230601; t=1744362847; x=1744967647;
 h=cc:to:from:subject:message-id:date:x-gm-message-state:from:to:cc
 :subject:date:message-id:reply-to;
 bh=BBrNurs3O5OhJqn2e0hooRE48WHqOAF2Fvzj+HLosTo=;
 b=rqbTCGUiOCUZ5B7OfaYFFK0G6ucLDGV0mPdXCYsnRjne3gpgtxmEEqwyD/cJds1ARv
 JXBw9FbEjmnM2/Vv5CIj7pxdz1eNJ9Jn5pO0b5yWygJzcgPKobhQ13AT/RnseKJNJt8H
 zP3heqUTvs82DcOOqC+0RrcghAlPDrkgk7MFr05zW+m/ntjkwyFjNlklKy+G645jAvrq
 ZgMsG7yoBm9gmS98i5dK4lKpWDLUrFtJV6rk4o0+Vog+aoHUjQa8oH3iAoSrGSZPdSAw
 BXZBTDj1spaQ4bpmSCyV5gBoEm4QHfkLCBBwAXlUm9H8zkIlhZBYwzNDnTTz3tjIcMj/
 nLNA==
X-Gm-Message-State: AOJu0Yz6ldRf0w062cgSMrsyFsQ24BblCgT1tVkYI/lpr2bcSazaSsFa
 lXRxLHyQFJX3N20www+t303cCd77/NgSnIY5EERovneTys5JruFz7cJHS6C6BV5C/UQVxS8iMuR
 nGkSbGwGnO0E/0gnNim7nTAgqoychvUaL
X-Gm-Gg: ASbGncuVaIbNeETVOeghCia1hf0rYMsGXUUaRx4h1uZZQECgKJHxZBFyTdjW0odKj6X
 M2ya9K0foLhLa/VINnGNvZypd1tZJROhPljcU+T7TTtXJPWxpBUjLRMR8U0JmClmEISStUs+0f2
 KvFASEFrhZr77rxTUHD0nPwaZ/azjvonOYhqUZmGZVf2nph3U2urfXczHMemmmUUftbxqkUAbmr
 zKJwsOi0OqXH5eGfUtsMoS6doiMNIJuPTrTAkEU3EUDYCm8B69tD2WlyASFnX8VaZfr4lg8wMmx
 lDv1r5EgE5dMet05o+8TkgMZIYZ+oKt0KDJe
X-Google-Smtp-Source: AGHT+IHpPCo9UY/If/Vo95DSJwE3433+HHxjbYyfiwfaxzdNh7f/cVqWa9ED0yfGIl6nYB4kULxtOx3wkTUC
X-Received: by 2002:a05:6300:44:b0:1f5:8d3b:e294 with SMTP id
 adf61e73a8af0-201797a68damr3382295637.16.1744362846867; 
 Fri, 11 Apr 2025 02:14:06 -0700 (PDT)
Received: from postal.iol.unh.edu (postal.iol.unh.edu. [132.177.123.84])
 by smtp-relay.gmail.com with ESMTPS id
 d2e1a72fcca58-73bd21c7de3sm64575b3a.9.2025.04.11.02.14.06
 (version=TLS1_2 cipher=ECDHE-ECDSA-AES128-GCM-SHA256 bits=128/128);
 Fri, 11 Apr 2025 02:14:06 -0700 (PDT)
X-Relaying-Domain: iol.unh.edu
Date: Fri, 11 Apr 2025 02:14:06 -0700 (PDT)
Message-ID: <67f8dd5e.050a0220.39bfe6.4179SMTPIN_ADDED_MISSING@mx.google.com>
Received: from [172.21.0.6] (unknown [172.18.0.240])
 by postal.iol.unh.edu (Postfix) with ESMTP id ED5F26052471;
 Fri, 11 Apr 2025 05:14:05 -0400 (EDT)
Subject: |SUCCESS| [GIT MASTER] 4401486b5e30d43a134f80f9802f60b5f43e74a8
From: dpdklab@iol.unh.edu
To: Test Report <test-report@dpdk.org>
Cc: dpdk-test-reports@iol.unh.edu, Xueming Li <xuemingl@nvidia.com>,
 Christian Ehrhardt <christian.ehrhardt@canonical.com>,
 Kevin Traynor <ktraynor@redhat.com>, Luca Boccassi <bluca@debian.org>
Content-Type: text/plain
X-BeenThere: test-report@dpdk.org
X-Mailman-Version: 2.1.29
Precedence: list
List-Id: automatic DPDK test reports <test-report.dpdk.org>
List-Unsubscribe: <https://mails.dpdk.org/options/test-report>,
 <mailto:test-report-request@dpdk.org?subject=unsubscribe>
List-Archive: <http://mails.dpdk.org/archives/test-report/>
List-Post: <mailto:test-report@dpdk.org>
List-Help: <mailto:test-report-request@dpdk.org?subject=help>
List-Subscribe: <https://mails.dpdk.org/listinfo/test-report>,
 <mailto:test-report-request@dpdk.org?subject=subscribe>
Errors-To: test-report-bounces@dpdk.org

_Testing PASS_

Branch: tags/v22.11

4401486b5e30d43a134f80f9802f60b5f43e74a8 --> testing pass

Upstream job id: ACVP-FIPS-testing#9514

Test environment and result as below:

+--------------------+----------------------+----------------------+
|    Environment     | compressdev_zlib_pmd | dpdk_fips_validation |
+====================+======================+======================+
| Ubuntu 22.04 (ARM) | PASS                 | SKIPPED              |
+--------------------+----------------------+----------------------+
| Ubuntu 22.04       | PASS                 | SKIPPED              |
+--------------------+----------------------+----------------------+
| Ubuntu 20.04       | SKIPPED              | PASS                 |
+--------------------+----------------------+----------------------+


Ubuntu 22.04 (ARM)
	Kernel: 5.15.0-97-generic
	Compiler: gcc gcc (Ubuntu 11.4.0-1ubuntu1~22.04) 11.4.0

Ubuntu 22.04
	Kernel: 5.15.0-100-generic
	Compiler: gcc gcc (Ubuntu 11.4.0-1ubuntu1~22.04) 11.4.0

Ubuntu 20.04
	Kernel: Depends on container host
	Compiler: gcc (Ubuntu 9.4.0-1ubuntu1~20.04.2) 9.4.0

To view detailed results, visit:
https://lab.dpdk.org/results/dashboard/tarballs/33224/

UNH-IOL DPDK Community Lab

To manage your email subscriptions, visit: 
https://lab.dpdk.org/results/dashboard/preferences/subscriptions/