From mboxrd@z Thu Jan 1 00:00:00 1970 Return-Path: Received: from mails.dpdk.org (mails.dpdk.org [217.70.189.124]) by inbox.dpdk.org (Postfix) with ESMTP id D1D2D46562 for ; Fri, 11 Apr 2025 14:17:28 +0200 (CEST) Received: from mails.dpdk.org (localhost [127.0.0.1]) by mails.dpdk.org (Postfix) with ESMTP id CC9FB406B6; Fri, 11 Apr 2025 14:17:28 +0200 (CEST) Received: from mail-pg1-f226.google.com (mail-pg1-f226.google.com [209.85.215.226]) by mails.dpdk.org (Postfix) with ESMTP id 446D14025F for ; Fri, 11 Apr 2025 14:17:27 +0200 (CEST) Received: by mail-pg1-f226.google.com with SMTP id 41be03b00d2f7-af28bc68846so1738699a12.1 for ; Fri, 11 Apr 2025 05:17:27 -0700 (PDT) DKIM-Signature: v=1; a=rsa-sha256; c=relaxed/relaxed; d=iol.unh.edu; s=unh-iol; t=1744373846; x=1744978646; darn=dpdk.org; h=references:in-reply-to:cc:to:from:subject:message-id:date:from:to :cc:subject:date:message-id:reply-to; bh=U8ilX2ZcHtOQ36Jq1S8bB7kSaOtkn5Kqxmi3eVoVWOk=; b=IgYILZssWhkvGCIiyJI8y2/m3057efFrPiCGufhbYempiaq150VTC+xa80o04X+n+5 IVSDrTZFPfST0S4I/Y0VyU8x+FCdqJbcTMmT0uNdU0rmmomen44FqESvzF9lgkys/e2I o/WSBBGBUfkN6EPyVYNUlgq0ry62yEqComRho= X-Google-DKIM-Signature: v=1; a=rsa-sha256; c=relaxed/relaxed; d=1e100.net; s=20230601; t=1744373846; x=1744978646; h=references:in-reply-to:cc:to:from:subject:message-id:date :x-gm-message-state:from:to:cc:subject:date:message-id:reply-to; bh=U8ilX2ZcHtOQ36Jq1S8bB7kSaOtkn5Kqxmi3eVoVWOk=; b=MX7tpJJ6Q0nt0PEGZ2FLlhDYz98lbdtWEMSQ8330cAdS3e4UiWO5pFVOgmD6mkIMfn LtnntQ1R8UdqYntsV2J8xEh00zdeV0s7/69z/s63ytXiBv8HIxdrWDtpaynjWmeKsNLO cexNWMnsk4p8Yy4+9SFaf00zjg+eM8Jqkn7k9JTUCbmq+WPU10jzMD43BNZOhzDWEupe Ls2uSlYCdktiOoaN8wYjAM0h5cbuSdKg5DwgoCc8OQ+OrTDqdVV0lo/2F/oYFmkO1CXp JrUdNs3+wLvYnlLC4vtUSHN/oiKPkYFtIGTHjh+wo0QvnrvGRu9M3Lo23g40u6gEi3UZ VNbg== X-Gm-Message-State: AOJu0YzVqDnNref0tT1Wn9qB+0bzdUe6XdPXiBXmZQ3gq6AV7mhIhKLw gUUtFI7Wfz2GNP7SwmjJgIlZs6VZRpx2v0YU5dvLpN90Aj2XKENRjC4FY+2cAAdTtq7OXreF0U0 uEH14qj78m7dP77Vl7VVPpPpbVKAP2TimfiorPhQs9OCvqCyDr4oYQH4e X-Gm-Gg: ASbGncs54lrQS1m8RG/VuIHHmusI8y1Q8pBueWYIhLH1pCVBnHxaGBr8dRU3rUXr4xA dqwwvJsqhXTfYjFvky0u3dM9UKihEEcTXh3Bacx/EYgEX/pReMnZA3hdbh1O7Mp+peOeFMt4gDI lWoQPEYabmdegisbsSsKx0gPsI1ig6zWet5eq7IVa/0HRPGWKH54iMZqs8/psa2l1hnF+pkwrST NQAkYdCEP27bvyr0c57chMR1H8FpxdEWTeXNBT9AYuod2L5EeoXsjtoc2Cml2bsdG1Mz0fHC+Cl FXiyEZMU1G8RIs930awm6HqtSVwyD6PWjQO7QJB2Gn/L/LE5 X-Google-Smtp-Source: AGHT+IE+eNYOW6g0nX4wH2P9cYQDGONJsUF05ruWvnF85c831fwdrgaRY6y7hSv3xcxp9+xDt2lSxW9c+pQg X-Received: by 2002:a17:90a:d650:b0:2ff:5c4e:5acd with SMTP id 98e67ed59e1d1-30823785485mr3912828a91.35.1744373846225; Fri, 11 Apr 2025 05:17:26 -0700 (PDT) Received: from postal.iol.unh.edu (postal.iol.unh.edu. [2606:4100:3880:1234::84]) by smtp-relay.gmail.com with ESMTPS id 98e67ed59e1d1-306dd1708dfsm514442a91.12.2025.04.11.05.17.26 (version=TLS1_2 cipher=ECDHE-ECDSA-AES128-GCM-SHA256 bits=128/128); Fri, 11 Apr 2025 05:17:26 -0700 (PDT) X-Relaying-Domain: iol.unh.edu Date: Fri, 11 Apr 2025 05:17:26 -0700 (PDT) Message-ID: <67f90856.170a0220.1a7f04.3e9fSMTPIN_ADDED_MISSING@mx.google.com> Received: from [172.17.0.3] (unknown [172.18.0.217]) by postal.iol.unh.edu (Postfix) with ESMTP id 62A816052471; Fri, 11 Apr 2025 08:17:25 -0400 (EDT) Subject: |SUCCESS| pw152878 [PATCH] net: fix GTP packet parsing From: dpdklab@iol.unh.edu To: Test Report Cc: dpdk-test-reports@iol.unh.edu In-Reply-To: <20250411084303.770040-1-huangdengdui@huawei.com> References: <20250411084303.770040-1-huangdengdui@huawei.com> Content-Type: text/plain X-BeenThere: test-report@dpdk.org X-Mailman-Version: 2.1.29 Precedence: list List-Id: automatic DPDK test reports List-Unsubscribe: , List-Archive: List-Post: List-Help: List-Subscribe: , Errors-To: test-report-bounces@dpdk.org Test-Label: iol-abi-testing Test-Status: SUCCESS http://dpdk.org/patch/152878 _Testing PASS_ Submitter: Dengdui Huang Date: Friday, April 11 2025 08:43:03 DPDK git baseline: Repo:dpdk Branch: master CommitID:ca1690ebd224f148268285b15b97441ccdbdd07e 152878 --> testing pass Upstream job id: Generic-DPDK-Compile-ABI#123073 Test environment and result as below: +-------------------+----------+ | Environment | abi_test | +===================+==========+ | CentOS Stream 9 | PASS | +-------------------+----------+ | CentOS Stream 10 | PASS | +-------------------+----------+ | Debian 12 | PASS | +-------------------+----------+ | Fedora 40 | PASS | +-------------------+----------+ | Fedora 41 (Clang) | PASS | +-------------------+----------+ | openSUSE Leap 15 | PASS | +-------------------+----------+ | Fedora 41 | PASS | +-------------------+----------+ | RHEL8 | PASS | +-------------------+----------+ | RHEL9 | PASS | +-------------------+----------+ | Ubuntu 22.04 | PASS | +-------------------+----------+ | Ubuntu 24.04 | PASS | +-------------------+----------+ | Fedora 40 (Clang) | PASS | +-------------------+----------+ CentOS Stream 9 Kernel: Depends on container host Compiler: gcc 11.5.0 20240719 (Red Hat 11.5.0-2) CentOS Stream 10 Kernel: Depends on container host Compiler: gcc 14.2.1 20241104 (Red Hat 14.2.1-6) Debian 12 Kernel: Depends on container host Compiler: gcc (Debian 12.2.0-14) 12.2.0 Fedora 40 Kernel: Depends on container host Compiler: gcc 14.2.1 20240912 (Red Hat 14.2.1-3) Fedora 41 (Clang) Kernel: Depends on container host Compiler: clang 19.1.5 (Fedora 19.1.5-1.fc41) openSUSE Leap 15 Kernel: Depends on container host Compiler: gcc (SUSE Linux) 7.5.0 Fedora 41 Kernel: Depends on container host Compiler: gcc 14.2.1 20240912 (Red Hat 14.2.1-3) RHEL8 Kernel: Depends on container host Compiler: gcc 8.5.0 20210514 (Red Hat 8.5.0-22) RHEL9 Kernel: Depends on container host Compiler: gcc 11.5.0 20240719 (Red Hat 11.5.0-2) Ubuntu 22.04 Kernel: Depends on container host Compiler: gcc (Ubuntu 11.4.0-1ubuntu1~22.04) 11.4.0 Ubuntu 24.04 Kernel: Depends on container host Compiler: gcc (Ubuntu 13.3.0-6ubuntu2~24.04) 13.3.0 Fedora 40 (Clang) Kernel: Depends on container host Compiler: clang 18.1.8 (Fedora 18.1.8-1.fc40) To view detailed results, visit: https://lab.dpdk.org/results/dashboard/patchsets/32994/ UNH-IOL DPDK Community Lab To manage your email subscriptions, visit: https://lab.dpdk.org/results/dashboard/preferences/subscriptions/