From mboxrd@z Thu Jan 1 00:00:00 1970 Return-Path: Received: from mails.dpdk.org (mails.dpdk.org [217.70.189.124]) by inbox.dpdk.org (Postfix) with ESMTP id C390546562 for ; Fri, 11 Apr 2025 14:26:03 +0200 (CEST) Received: from mails.dpdk.org (localhost [127.0.0.1]) by mails.dpdk.org (Postfix) with ESMTP id 93D9F406B6; Fri, 11 Apr 2025 14:26:03 +0200 (CEST) Received: from mail-il1-f227.google.com (mail-il1-f227.google.com [209.85.166.227]) by mails.dpdk.org (Postfix) with ESMTP id 6F7B44025F for ; Fri, 11 Apr 2025 14:26:02 +0200 (CEST) Received: by mail-il1-f227.google.com with SMTP id e9e14a558f8ab-3d6e11cd7e2so15380015ab.3 for ; Fri, 11 Apr 2025 05:26:02 -0700 (PDT) DKIM-Signature: v=1; a=rsa-sha256; c=relaxed/relaxed; d=iol.unh.edu; s=unh-iol; t=1744374361; x=1744979161; darn=dpdk.org; h=references:in-reply-to:cc:to:from:subject:message-id:date:from:to :cc:subject:date:message-id:reply-to; bh=dmNsEORE5rJ7XQ47lqnBqQ+iSOXzTCQ77VNgqfw3EDE=; b=aDUjte1/0c0KjN3CFoRY2yqabVaCAAZi+GO+q/MTgl/eiICM6I4h8B3uqFlSg7Zeih RpyF07JSXPPiiwTHnJepriKUr+guN78v9h4MOI0mRWzWU6XQA6Aqt4ELnNG2TbtH1AOK D6N8y/kUUH/ITQTHxlw8ntUVED9XEoxEt0y0U= X-Google-DKIM-Signature: v=1; a=rsa-sha256; c=relaxed/relaxed; d=1e100.net; s=20230601; t=1744374361; x=1744979161; h=references:in-reply-to:cc:to:from:subject:message-id:date :x-gm-message-state:from:to:cc:subject:date:message-id:reply-to; bh=dmNsEORE5rJ7XQ47lqnBqQ+iSOXzTCQ77VNgqfw3EDE=; b=IztlEPeUmN+p4fOPsOSB/FKpNW5xv2s5tFwKuRM1FIEWPvD496LDbMiClQT/6uEgQM cW9sEsdydgLwoF7ZUojfJ+fZfA6R5fbOTNOFTzh20McHvIiiVTF/YeWVn+MzX8RjpuZz GSI3SKjzBQkvTrgg59bF/ro1cVndNtHReVaPwZSnGcIH4M3FNq8KM2OKZUogwGL2MPaL oGo0h7hNXx/2B10omUdwoKX1AvhNBXMIf77CEhbwYHekm9ga+egbRIV0CFcuKyHsZO5H Sn1QDchWMPrwIMchL9g+sZAZDpyPHo0ew8Q0pwI5hxe1T3lJ3hU5UZM61ra7Yf+nRYvX luKg== X-Gm-Message-State: AOJu0YwvYXtd3GEaz9TlxY+a6FH/KN2E0I27WA+A0i8zgSSZzQhRbmi2 4ICYDSyDwaznTuhjFCKl9UuTyHMIGSdAaUKLoxhZ7IrBxM4rlA+41lQnXHb5ockTvOI7Y5C6A2J HNsk7oepuic5NVdycxBfOk1HVmoS53ke+8Jo9GVtOlLMvoBCiPN/4ua8E X-Gm-Gg: ASbGncuhe8w2tcu2bzQO3tlN5EdnB4xslqG4RsmeqtobdEPhowPH+dk5013yTJX5yjD p9kuLz2Yxg01pzZiUmTYSgq0YYlQIqCQG8DdW32krtII35lzjAtyIQWn9g+LqUMuZxacgKDoBkY WpimFsMRje8eZGAB/t+7Gfq1FDOjGzVEyomPbWblIuvjNDddIggzu4RkaLCuEO1N0/ibm+LCUh8 /UBhV22TRXv4xybqHiUhl04sflxYPnrlcJN/TGq5Z0EzLPaISa/Ws508v/3LFJd7o+5UXQguccX jJCOdHXN4Ps1ARFnKXIo9+5dUXHuvfmThr7KrPGeevv8Q07X X-Google-Smtp-Source: AGHT+IFWRc99skyI37HPmoEbTxB1cmnMZU6Qworc9slkfULMAwFETrScuCd+/gzlVPpO8bl5GLid1jT5ovQC X-Received: by 2002:a05:6e02:b2a:b0:3d2:b72d:a502 with SMTP id e9e14a558f8ab-3d7ec27330bmr28491155ab.22.1744374361685; Fri, 11 Apr 2025 05:26:01 -0700 (PDT) Received: from postal.iol.unh.edu (postal.iol.unh.edu. [2606:4100:3880:1234::84]) by smtp-relay.gmail.com with ESMTPS id e9e14a558f8ab-3d7dbaa418dsm4024615ab.34.2025.04.11.05.26.01 (version=TLS1_2 cipher=ECDHE-ECDSA-AES128-GCM-SHA256 bits=128/128); Fri, 11 Apr 2025 05:26:01 -0700 (PDT) X-Relaying-Domain: iol.unh.edu Date: Fri, 11 Apr 2025 05:26:01 -0700 (PDT) Message-ID: <67f90a59.050a0220.2ca30b.0670SMTPIN_ADDED_MISSING@mx.google.com> Received: from [172.17.0.3] (unknown [172.18.0.217]) by postal.iol.unh.edu (Postfix) with ESMTP id 27D556052471; Fri, 11 Apr 2025 08:26:01 -0400 (EDT) Subject: |SUCCESS| pw152878 [PATCH] net: fix GTP packet parsing From: dpdklab@iol.unh.edu To: Test Report Cc: dpdk-test-reports@iol.unh.edu In-Reply-To: <20250411084303.770040-1-huangdengdui@huawei.com> References: <20250411084303.770040-1-huangdengdui@huawei.com> Content-Type: text/plain X-BeenThere: test-report@dpdk.org X-Mailman-Version: 2.1.29 Precedence: list List-Id: automatic DPDK test reports List-Unsubscribe: , List-Archive: List-Post: List-Help: List-Subscribe: , Errors-To: test-report-bounces@dpdk.org Test-Label: iol-sample-apps-testing Test-Status: SUCCESS http://dpdk.org/patch/152878 _Testing PASS_ Submitter: Dengdui Huang Date: Friday, April 11 2025 08:43:03 DPDK git baseline: Repo:dpdk Branch: master CommitID:ca1690ebd224f148268285b15b97441ccdbdd07e 152878 --> testing pass Upstream job id: ACVP-FIPS-testing#9517 Test environment and result as below: +--------------------+----------------------+----------------------+ | Environment | compressdev_zlib_pmd | dpdk_fips_validation | +====================+======================+======================+ | Ubuntu 22.04 (ARM) | PASS | SKIPPED | +--------------------+----------------------+----------------------+ | Ubuntu 22.04 | PASS | SKIPPED | +--------------------+----------------------+----------------------+ | Ubuntu 20.04 | SKIPPED | PASS | +--------------------+----------------------+----------------------+ Ubuntu 22.04 (ARM) Kernel: 5.15.0-97-generic Compiler: gcc gcc (Ubuntu 11.4.0-1ubuntu1~22.04) 11.4.0 Ubuntu 22.04 Kernel: 5.15.0-100-generic Compiler: gcc gcc (Ubuntu 11.4.0-1ubuntu1~22.04) 11.4.0 Ubuntu 20.04 Kernel: Depends on container host Compiler: gcc (Ubuntu 9.4.0-1ubuntu1~20.04.2) 9.4.0 To view detailed results, visit: https://lab.dpdk.org/results/dashboard/patchsets/32994/ UNH-IOL DPDK Community Lab To manage your email subscriptions, visit: https://lab.dpdk.org/results/dashboard/preferences/subscriptions/