From mboxrd@z Thu Jan 1 00:00:00 1970 Return-Path: Received: from mails.dpdk.org (mails.dpdk.org [217.70.189.124]) by inbox.dpdk.org (Postfix) with ESMTP id 3C7E146562 for ; Fri, 11 Apr 2025 14:30:12 +0200 (CEST) Received: from mails.dpdk.org (localhost [127.0.0.1]) by mails.dpdk.org (Postfix) with ESMTP id 01ADD406B6; Fri, 11 Apr 2025 14:30:12 +0200 (CEST) Received: from mail-il1-f227.google.com (mail-il1-f227.google.com [209.85.166.227]) by mails.dpdk.org (Postfix) with ESMTP id DBFAD4025F for ; Fri, 11 Apr 2025 14:30:10 +0200 (CEST) Received: by mail-il1-f227.google.com with SMTP id e9e14a558f8ab-3d439f01698so9531255ab.1 for ; Fri, 11 Apr 2025 05:30:10 -0700 (PDT) DKIM-Signature: v=1; a=rsa-sha256; c=relaxed/relaxed; d=iol.unh.edu; s=unh-iol; t=1744374610; x=1744979410; darn=dpdk.org; h=references:in-reply-to:cc:to:from:subject:message-id:date:from:to :cc:subject:date:message-id:reply-to; bh=II3BkTO3yG+ZjAw70V3SxrIqp73XqHT7chS/7UzacPE=; b=Fm4CqgpFdbCpJsi6teF/ZjHp5kF33JySVKKhk/v/cwcmTnOpKreQQzpS926SbtKxXa HOcy/QlSHMWmV/JA7Ny2Fi5QLZgpio1VZzSeckswoUNhjU4OXE5Q1X3B3Fos/Clz+uVD bdFXCvXLBX907CXIBS9kwIGBjXDnbAvfAqGUU= X-Google-DKIM-Signature: v=1; a=rsa-sha256; c=relaxed/relaxed; d=1e100.net; s=20230601; t=1744374610; x=1744979410; h=references:in-reply-to:cc:to:from:subject:message-id:date :x-gm-message-state:from:to:cc:subject:date:message-id:reply-to; bh=II3BkTO3yG+ZjAw70V3SxrIqp73XqHT7chS/7UzacPE=; b=d1kXNBn7Pj2YqFDotKPsrBXeBBxdZW+lo3k2syNQJ7zZNIdmDgwLNeLnh55sZRpt7b 3+dF+Rose+5WX5tiAtzGy9f1XQdnI819hO1b3g0aJMgzDark1Ws7h9nF/tglhgENVRdO GfUKoDVVlKyCg40IsMUDZwwBesLH2OTojbdLE0Q+W2WRcaloeqbo/l0hT/gLWKdVPYxZ TwTWO91adeWWeP+uPaQvnwzrESd4ACtobqBm5lhW5V4AKmN6VJsQeZYJg1b66btuHWB3 2ulifZwFgO8YxciXVCKHa0UhiWGgYOYFy4F0fK+8cKqRfvu9AjCSS5TzZglUZ3EL7AwL 0TPA== X-Gm-Message-State: AOJu0YwOk568NI6wPuiSnLC6BgvxmKnQMJ4vhQVnLluc0qyRLVSoUZ3P crfkfo/ZhiUr0iSE+/kJjWASfQqo010W5LvBvtc7+RQYSucf9IVD5fPx4OpRkfZdMLeKxXc/i+x /wVRb0rdhx4V2zv28CRki4uDK04Fkw3yBi29Lf7Rs X-Gm-Gg: ASbGncv4GZL/n5OZK/S5debRBJwmLIUarNLZQHr5lbfkSTi2XDH3wrnCZ1JZ3sy1FOG cIov7LSRqry8jdUzlSQRgoN5XUsG4YyydVPJ6eypmRMaHzh57SWgDoevncqpz+f1mYMo1lGkZD7 33uNngU7X8jln54b5nXf1d4tqXidDmG6rY8w/zejDaesjWxBUq+PtKcTLtUifQiACx78ao6hDNH ap0/9SWigssJfiO0hcEum5paBZCL70O8qfDPG/MttuaowAb39OFJSls7HHUHTddG2n1ZKA3sBLf 1KIDkKo9PLPRdQLrRFcMT9ta0usc9Fh4DaO/ X-Google-Smtp-Source: AGHT+IEapNIRWu1tSFl2y9I6k4FDb1P4A3kqYQ7bzFRYsjCRu7+dDbMQ2xbLKHu1VF4Z56Ms6YhBn5RLgGRY X-Received: by 2002:a92:1304:0:b0:3d3:d08d:d526 with SMTP id e9e14a558f8ab-3d7e4d0c549mr52040325ab.11.1744374610202; Fri, 11 Apr 2025 05:30:10 -0700 (PDT) Received: from postal.iol.unh.edu (postal.iol.unh.edu. [132.177.123.84]) by smtp-relay.gmail.com with ESMTPS id e9e14a558f8ab-3d7dc5857e9sm3896245ab.55.2025.04.11.05.30.10 (version=TLS1_2 cipher=ECDHE-ECDSA-AES128-GCM-SHA256 bits=128/128); Fri, 11 Apr 2025 05:30:10 -0700 (PDT) X-Relaying-Domain: iol.unh.edu Date: Fri, 11 Apr 2025 05:30:10 -0700 (PDT) Message-ID: <67f90b52.050a0220.38a8dc.fb91SMTPIN_ADDED_MISSING@mx.google.com> Received: from [172.17.0.5] (unknown [172.18.0.217]) by postal.iol.unh.edu (Postfix) with ESMTP id 94BCC6052471; Fri, 11 Apr 2025 08:30:09 -0400 (EDT) Subject: |SUCCESS| pw152878 [PATCH] net: fix GTP packet parsing From: dpdklab@iol.unh.edu To: Test Report Cc: dpdk-test-reports@iol.unh.edu In-Reply-To: <20250411084303.770040-1-huangdengdui@huawei.com> References: <20250411084303.770040-1-huangdengdui@huawei.com> Content-Type: text/plain X-BeenThere: test-report@dpdk.org X-Mailman-Version: 2.1.29 Precedence: list List-Id: automatic DPDK test reports List-Unsubscribe: , List-Archive: List-Post: List-Help: List-Subscribe: , Errors-To: test-report-bounces@dpdk.org Test-Label: iol-unit-amd64-testing Test-Status: SUCCESS http://dpdk.org/patch/152878 _Testing PASS_ Submitter: Dengdui Huang Date: Friday, April 11 2025 08:43:03 DPDK git baseline: Repo:dpdk Branch: master CommitID:ca1690ebd224f148268285b15b97441ccdbdd07e 152878 --> testing pass Upstream job id: Generic-VM-Unit-Test-DPDK#27933 Test environment and result as below: +---------------------+----------------+ | Environment | dpdk_unit_test | +=====================+================+ | Fedora 40 | PASS | +---------------------+----------------+ | CentOS Stream 10 | PASS | +---------------------+----------------+ | CentOS Stream 9 | PASS | +---------------------+----------------+ | Debian 12 | PASS | +---------------------+----------------+ | Fedora 41 (Clang) | PASS | +---------------------+----------------+ | Fedora 41 | PASS | +---------------------+----------------+ | Ubuntu 22.04 | PASS | +---------------------+----------------+ | Fedora 40 (Clang) | PASS | +---------------------+----------------+ | Ubuntu 24.04 | PASS | +---------------------+----------------+ | Ubuntu 20.04 | PASS | +---------------------+----------------+ | RHEL9 | PASS | +---------------------+----------------+ | RHEL8 | PASS | +---------------------+----------------+ | Windows Server 2022 | PASS | +---------------------+----------------+ Fedora 40 Kernel: Depends on container host Compiler: gcc 14.2.1 20240912 (Red Hat 14.2.1-3) CentOS Stream 10 Kernel: Depends on container host Compiler: gcc 14.2.1 20241104 (Red Hat 14.2.1-6) CentOS Stream 9 Kernel: Depends on container host Compiler: gcc 11.5.0 20240719 (Red Hat 11.5.0-2) Debian 12 Kernel: Depends on container host Compiler: gcc (Debian 12.2.0-14) 12.2.0 Fedora 41 (Clang) Kernel: Depends on container host Compiler: clang 19.1.5 (Fedora 19.1.5-1.fc41) Fedora 41 Kernel: Depends on container host Compiler: gcc 14.2.1 20240912 (Red Hat 14.2.1-3) Ubuntu 22.04 Kernel: Depends on container host Compiler: gcc (Ubuntu 11.4.0-1ubuntu1~22.04) 11.4.0 Fedora 40 (Clang) Kernel: Depends on container host Compiler: clang 18.1.8 (Fedora 18.1.8-1.fc40) Ubuntu 24.04 Kernel: Depends on container host Compiler: gcc (Ubuntu 13.3.0-6ubuntu2~24.04) 13.3.0 Ubuntu 20.04 Kernel: Depends on container host Compiler: gcc (Ubuntu 9.4.0-1ubuntu1~20.04.2) 9.4.0 RHEL9 Kernel: Depends on container host Compiler: gcc 11.5.0 20240719 (Red Hat 11.5.0-2) RHEL8 Kernel: Depends on container host Compiler: gcc 8.5.0 20210514 (Red Hat 8.5.0-22) Windows Server 2022 Kernel: 10.0.20348.2031 Compiler: clang 15.0.7, gcc 14.1.0 (MinGW), and MSVC VS 19.39.33521 To view detailed results, visit: https://lab.dpdk.org/results/dashboard/patchsets/32994/ UNH-IOL DPDK Community Lab To manage your email subscriptions, visit: https://lab.dpdk.org/results/dashboard/preferences/subscriptions/