From mboxrd@z Thu Jan 1 00:00:00 1970 Return-Path: Received: from mails.dpdk.org (mails.dpdk.org [217.70.189.124]) by inbox.dpdk.org (Postfix) with ESMTP id 577C946562 for ; Fri, 11 Apr 2025 14:47:19 +0200 (CEST) Received: from mails.dpdk.org (localhost [127.0.0.1]) by mails.dpdk.org (Postfix) with ESMTP id 2C194406B6; Fri, 11 Apr 2025 14:47:19 +0200 (CEST) Received: from mail-pl1-f225.google.com (mail-pl1-f225.google.com [209.85.214.225]) by mails.dpdk.org (Postfix) with ESMTP id DCC7F4025F for ; Fri, 11 Apr 2025 14:47:17 +0200 (CEST) Received: by mail-pl1-f225.google.com with SMTP id d9443c01a7336-223fd89d036so24088425ad.1 for ; Fri, 11 Apr 2025 05:47:17 -0700 (PDT) DKIM-Signature: v=1; a=rsa-sha256; c=relaxed/relaxed; d=iol.unh.edu; s=unh-iol; t=1744375637; x=1744980437; darn=dpdk.org; h=references:in-reply-to:cc:to:from:subject:message-id:date:from:to :cc:subject:date:message-id:reply-to; bh=MpoSDpAgz1UvhG81Jk0Vjdx4OTMYvTG1OUVvKyQQP5U=; b=YHdDXrf+7PD8ub5xbFSDGpX+xA6Cdf5pUq22S3rZStEw83NginQoATPIDrLGZdUnIq bA480N/f89g82kdctADFko2eA49jn5UZ/BApGyv6aZRNh8Ugi8bfnG4h3lYTkLdo+/V9 YPZLtOGff5TYNzXVrGn9kKEXiFE5LGYQTdUA4= X-Google-DKIM-Signature: v=1; a=rsa-sha256; c=relaxed/relaxed; d=1e100.net; s=20230601; t=1744375637; x=1744980437; h=references:in-reply-to:cc:to:from:subject:message-id:date :x-gm-message-state:from:to:cc:subject:date:message-id:reply-to; bh=MpoSDpAgz1UvhG81Jk0Vjdx4OTMYvTG1OUVvKyQQP5U=; b=YGol4GXkrycq3cw3GfmfFXVY5V469Ak/j5R8A+AHW+JgUtJubqSCfSpWrVNuDBfN3b HLE+3drxIcBrFXrn0tsvgC51XcGRTfEyzYUlyle5VFnDZSFcRdmJJ1apuvlAf7bwNUDG Kpt//8E24gkg2ey6Ac51Sycvqz8bps02cBHQZ0LKSSgwKnARHSBm9Cu/eHjeFSDqvpYr lx6o3dMkDzSQGBIGFKknHFHS+JKNODGob1nUCzCmosfCTVHYUUUdiMxX6o4koJDOr2NY kctHGcGLBARKiRdS7olphurcGsI1al6hdWg0vUHZ9fDNusNDP+8PiBFIjWsg487MTzJZ sSGg== X-Gm-Message-State: AOJu0YxNFzitVhYshsofZ81N/8IjrEzWTFtMQpdZnfxlvKz0cA4AuVT7 7s9WuBbEAeVislmv/gew2qWT4NPn7gDfqXZkDiVR0dZ02bI6jN+Uju339kg90tEDoMjMbYJSTJi 7LBpxK0zRXsfy+Km8X+VN7XoB+x8FEbQq4uTPH45/pNu3QoTCa+2PzGKK X-Gm-Gg: ASbGncttBm+djdW7jYCxzxpEM07d/MYdlPEpCzJgIYJrcpzMHJJPhqeaBGcdWQB6V+R Q0j4ci5IaB7qntCACNeYlhoEErxjiLIkG8Uk8UeG6IQUye//0+AfkxkswFOT6QlaYQOFeNFK7EH AiCeSnoEXvffBXcW06Yyb2UYDrfjoODjBTmGIMF40Csg3mmyMEE36O0jqADfzdkILYWcBfyHmVw m7uWKqf+2jfj9M6HH6E7FxTWeHH2wmssPSi5G/XWgXRKW8VIEEsHlc1UZ6VPcUY9TWwu1V2/39N BcnihU1wQgnGohuouB117TDMlyPeMvcEgAA0zEyzekzAsWjr X-Google-Smtp-Source: AGHT+IFGcBTTcqFbM1vveKzwYfEF0gCpUQp703ws2zIM6mDB+w13SJELTgWnhEQzQsds1foFLY+d5rMfUy9C X-Received: by 2002:a17:903:32c9:b0:223:2cae:4a96 with SMTP id d9443c01a7336-22bea50267amr36845915ad.42.1744375636801; Fri, 11 Apr 2025 05:47:16 -0700 (PDT) Received: from postal.iol.unh.edu (postal.iol.unh.edu. [2606:4100:3880:1234::84]) by smtp-relay.gmail.com with ESMTPS id d9443c01a7336-22ac7c93a19sm3181165ad.86.2025.04.11.05.47.16 (version=TLS1_2 cipher=ECDHE-ECDSA-AES128-GCM-SHA256 bits=128/128); Fri, 11 Apr 2025 05:47:16 -0700 (PDT) X-Relaying-Domain: iol.unh.edu Date: Fri, 11 Apr 2025 05:47:16 -0700 (PDT) Message-ID: <67f90f54.170a0220.27378e.e24fSMTPIN_ADDED_MISSING@mx.google.com> Received: from [172.21.0.6] (unknown [172.18.0.240]) by postal.iol.unh.edu (Postfix) with ESMTP id EE53C6052471; Fri, 11 Apr 2025 08:47:15 -0400 (EDT) Subject: |SUCCESS| pw152878 [PATCH] net: fix GTP packet parsing From: dpdklab@iol.unh.edu To: Test Report Cc: dpdk-test-reports@iol.unh.edu In-Reply-To: <20250411084303.770040-1-huangdengdui@huawei.com> References: <20250411084303.770040-1-huangdengdui@huawei.com> Content-Type: text/plain X-BeenThere: test-report@dpdk.org X-Mailman-Version: 2.1.29 Precedence: list List-Id: automatic DPDK test reports List-Unsubscribe: , List-Archive: List-Post: List-Help: List-Subscribe: , Errors-To: test-report-bounces@dpdk.org Test-Label: iol-unit-arm64-testing Test-Status: SUCCESS http://dpdk.org/patch/152878 _Testing PASS_ Submitter: Dengdui Huang Date: Friday, April 11 2025 08:43:03 DPDK git baseline: Repo:dpdk Branch: master CommitID:ca1690ebd224f148268285b15b97441ccdbdd07e 152878 --> testing pass Upstream job id: Generic-Unit-Test-DPDK#330485 Test environment and result as below: +-----------------------------+----------------+--------------+------------------------------+---------------------------+ | Environment | dpdk_unit_test | lpm_autotest | cryptodev_sw_snow3g_autotest | cryptodev_sw_zuc_autotest | +=============================+================+==============+==============================+===========================+ | 32-bit Ubuntu 22.04.4 (ARM) | PASS | SKIPPED | SKIPPED | SKIPPED | +-----------------------------+----------------+--------------+------------------------------+---------------------------+ | CentOS Stream 9 (ARM) | PASS | SKIPPED | SKIPPED | SKIPPED | +-----------------------------+----------------+--------------+------------------------------+---------------------------+ | CentOS Stream 10 (ARM) | PASS | SKIPPED | SKIPPED | SKIPPED | +-----------------------------+----------------+--------------+------------------------------+---------------------------+ | Debian 12 (arm) | PASS | SKIPPED | PASS | PASS | +-----------------------------+----------------+--------------+------------------------------+---------------------------+ | RHEL9 (ARM) | PASS | SKIPPED | SKIPPED | SKIPPED | +-----------------------------+----------------+--------------+------------------------------+---------------------------+ | Ubuntu 20.04 (ARM) | PASS | SKIPPED | SKIPPED | SKIPPED | +-----------------------------+----------------+--------------+------------------------------+---------------------------+ | Fedora 40 (ARM) | PASS | SKIPPED | SKIPPED | SKIPPED | +-----------------------------+----------------+--------------+------------------------------+---------------------------+ | Fedora 41 (ARM Clang) | PASS | SKIPPED | SKIPPED | SKIPPED | +-----------------------------+----------------+--------------+------------------------------+---------------------------+ | Fedora 40 (ARM Clang) | PASS | SKIPPED | SKIPPED | SKIPPED | +-----------------------------+----------------+--------------+------------------------------+---------------------------+ | Fedora 41 (ARM) | PASS | SKIPPED | SKIPPED | SKIPPED | +-----------------------------+----------------+--------------+------------------------------+---------------------------+ | Ubuntu 24.04 (ARM) | PASS | SKIPPED | SKIPPED | SKIPPED | +-----------------------------+----------------+--------------+------------------------------+---------------------------+ | Ubuntu 22.04 (ARM) | PASS | SKIPPED | SKIPPED | SKIPPED | +-----------------------------+----------------+--------------+------------------------------+---------------------------+ | Ubuntu 20.04 ARM SVE | SKIPPED | PASS | SKIPPED | SKIPPED | +-----------------------------+----------------+--------------+------------------------------+---------------------------+ 32-bit Ubuntu 22.04.4 (ARM) Kernel: 5.15.83+ aarch64 Compiler: gcc (Ubuntu 11.4.0-1ubuntu1~22.04) 11.4.0 CentOS Stream 9 (ARM) Kernel: Depends on container host Compiler: gcc 11.5.0 20240719 (Red Hat 11.5.0-2) CentOS Stream 10 (ARM) Kernel: Depends on container host Compiler: gcc 14.2.1 20241104 (Red Hat 14.2.1-6) Debian 12 (arm) Kernel: Depends on container host Compiler: gcc (Debian 12.2.0-14) 12.2.0 RHEL9 (ARM) Kernel: Depends on container host Compiler: gcc 11.5.0 20240719 (Red Hat 11.5.0-2) Ubuntu 20.04 (ARM) Kernel: Depends on container host Compiler: gcc (Ubuntu 9.4.0-1ubuntu1~20.04.2) 9.4.0 Fedora 40 (ARM) Kernel: Depends on container host Compiler: gcc 14.2.1 20240912 (Red Hat 14.2.1-3) Fedora 41 (ARM Clang) Kernel: Depends on container host Compiler: clang 19.1.5 (Fedora 19.1.5-1.fc41) Fedora 40 (ARM Clang) Kernel: Depends on container host Compiler: clang 18.1.8 (Fedora 18.1.8-1.fc40) Fedora 41 (ARM) Kernel: Depends on container host Compiler: gcc 14.2.1 20240912 (Red Hat 14.2.1-3) Ubuntu 24.04 (ARM) Kernel: Depends on container host Compiler: gcc (Ubuntu 13.3.0-6ubuntu2~24.04) 13.3.0 Ubuntu 22.04 (ARM) Kernel: Depends on container host Compiler: gcc (Ubuntu 11.4.0-1ubuntu1~22.04) 11.4.0 Ubuntu 20.04 ARM SVE Kernel: Depends on container host Compiler: gcc (Ubuntu 10.5.0-1ubuntu1~20.04) 10.5.0 To view detailed results, visit: https://lab.dpdk.org/results/dashboard/patchsets/32994/ UNH-IOL DPDK Community Lab To manage your email subscriptions, visit: https://lab.dpdk.org/results/dashboard/preferences/subscriptions/