From mboxrd@z Thu Jan 1 00:00:00 1970 Return-Path: Received: from mails.dpdk.org (mails.dpdk.org [217.70.189.124]) by inbox.dpdk.org (Postfix) with ESMTP id 5756A46562 for ; Fri, 11 Apr 2025 14:47:38 +0200 (CEST) Received: from mails.dpdk.org (localhost [127.0.0.1]) by mails.dpdk.org (Postfix) with ESMTP id 4EE14406B6; Fri, 11 Apr 2025 14:47:38 +0200 (CEST) Received: from mail-il1-f226.google.com (mail-il1-f226.google.com [209.85.166.226]) by mails.dpdk.org (Postfix) with ESMTP id A0EB84025F for ; Fri, 11 Apr 2025 14:47:36 +0200 (CEST) Received: by mail-il1-f226.google.com with SMTP id e9e14a558f8ab-3ce868498d3so5911975ab.3 for ; Fri, 11 Apr 2025 05:47:36 -0700 (PDT) DKIM-Signature: v=1; a=rsa-sha256; c=relaxed/relaxed; d=iol.unh.edu; s=unh-iol; t=1744375656; x=1744980456; darn=dpdk.org; h=references:in-reply-to:cc:to:from:subject:message-id:date:from:to :cc:subject:date:message-id:reply-to; bh=4w4jZ0xtoYKXVKeoZ4kqidKH/VWbuV8CS3ubVjRWarE=; b=PNQElVyvJQOLUAdYiST2u7pokk+qPmNWYYc61vmW+TEP/kSfzlR7YZHqAymJ3AlDar nfOt2J36wEUdSqg8YcUbm6iZNi51J6aFYt1MI0WotmzY6f1XO+uIIluTk9N/AYciQcEu QaRAcgzwFvuvTPyRx3ZsfLdIjceMPlR2jBUOY= X-Google-DKIM-Signature: v=1; a=rsa-sha256; c=relaxed/relaxed; d=1e100.net; s=20230601; t=1744375656; x=1744980456; h=references:in-reply-to:cc:to:from:subject:message-id:date :x-gm-message-state:from:to:cc:subject:date:message-id:reply-to; bh=4w4jZ0xtoYKXVKeoZ4kqidKH/VWbuV8CS3ubVjRWarE=; b=wvwWWSJGEgKZD/rcPkLM1qZFNs+DKc8K5iKa5BBlpAmpOjaLdiJxMv4vaK2cAowsZM Wdet+kKqmVqCMC2xxLuo823r464yD/0G2rn73MEox5G3bpONjLIZFM8BOUgBF1KMq8z6 aidbgLUxn4KPSICKGh87C390s7GtXlc1l4fnjjTJeMV4mPok4bPrV2QdNmiHZiXGVVrB AlIDce2nSvX1/YWBhTfhBza6uJI2a6WH3JpIP28EBCablB+P8Pxwt+Qw/DpJO8aJPGf6 Tv8XHgfeCGy47CBwj28UKrl+ALxpKThgjHUWA94l5nPMy6qUoC3l7KfacLakM5PN8LSm +3xw== X-Gm-Message-State: AOJu0YwSCkoo8Y7GegaKYvG0g3Bk64SEewveNx3qnwE9FLoaF2SfCmgM nOaTk2i0v66R78TnGg3AL9p+iaAxRnA3qB2UpxqjBXMOW7yAz0rzKSO52uEhz3J9rCCNgXmA98c jxuzHUfruPP/USysU4+7GEQHqlPyWiNXAhJcx/Tka X-Gm-Gg: ASbGnctOuOyg/AKhPD01tp+1TNY8vBjPmvrvjrK6g6IFaIIz5ac+9Ov+WPAR0yOjQnF MHS9ejnyMjLwsZtbiFyqxxJJarYQfJdXbIgJMb6S+YuDcOenO2sQDqFmgKoEJabB+3HIakFvZ7y GTSbgphJmd0w4OWEA+8mnsjVtL6aSfwlwoiGJqWDZE942CVSssO1jTqlKOa792VKiiOyhajU1Pe 6hg8Nrq71jltFD3eiMUxFywrhiS4vEC/lFIMzdxSGPst48K7JqgQPOP35GnGyXuSqI8YSk4oNxz 5rJ3814uYDBzCjkWzBjWVOVS/asSbqjEw4s+ X-Google-Smtp-Source: AGHT+IFWTq20SrNaa4zq2WDVgFYrsGRXTsCMx3QZuaQQUapMD6hP3xW8vUUW5ncqsB8MFM9lw6x+dLBXGzxl X-Received: by 2002:a05:6e02:190f:b0:3d4:3eed:2755 with SMTP id e9e14a558f8ab-3d7ec225f65mr30304755ab.12.1744375655973; Fri, 11 Apr 2025 05:47:35 -0700 (PDT) Received: from postal.iol.unh.edu (postal.iol.unh.edu. [132.177.123.84]) by smtp-relay.gmail.com with ESMTPS id 8926c6da1cb9f-4f505d188b6sm368086173.26.2025.04.11.05.47.35 (version=TLS1_2 cipher=ECDHE-ECDSA-AES128-GCM-SHA256 bits=128/128); Fri, 11 Apr 2025 05:47:35 -0700 (PDT) X-Relaying-Domain: iol.unh.edu Date: Fri, 11 Apr 2025 05:47:35 -0700 (PDT) Message-ID: <67f90f67.050a0220.33f6a7.ebe3SMTPIN_ADDED_MISSING@mx.google.com> Received: from [172.21.0.5] (unknown [172.18.0.240]) by postal.iol.unh.edu (Postfix) with ESMTP id 908846052471; Fri, 11 Apr 2025 08:47:35 -0400 (EDT) Subject: |SUCCESS| pw152878 [PATCH] net: fix GTP packet parsing From: dpdklab@iol.unh.edu To: Test Report Cc: dpdk-test-reports@iol.unh.edu In-Reply-To: <20250411084303.770040-1-huangdengdui@huawei.com> References: <20250411084303.770040-1-huangdengdui@huawei.com> Content-Type: text/plain X-BeenThere: test-report@dpdk.org X-Mailman-Version: 2.1.29 Precedence: list List-Id: automatic DPDK test reports List-Unsubscribe: , List-Archive: List-Post: List-Help: List-Subscribe: , Errors-To: test-report-bounces@dpdk.org Test-Label: iol-unit-amd64-testing Test-Status: SUCCESS http://dpdk.org/patch/152878 _Testing PASS_ Submitter: Dengdui Huang Date: Friday, April 11 2025 08:43:03 DPDK git baseline: Repo:dpdk Branch: master CommitID:ca1690ebd224f148268285b15b97441ccdbdd07e 152878 --> testing pass Upstream job id: Generic-VM-Unit-Test-DPDK#27934 Test environment and result as below: +---------------------+----------------+ | Environment | dpdk_unit_test | +=====================+================+ | Fedora 40 | PASS | +---------------------+----------------+ | CentOS Stream 10 | PASS | +---------------------+----------------+ | CentOS Stream 9 | PASS | +---------------------+----------------+ | Debian 12 | PASS | +---------------------+----------------+ | Fedora 41 (Clang) | PASS | +---------------------+----------------+ | Fedora 41 | PASS | +---------------------+----------------+ | Ubuntu 22.04 | PASS | +---------------------+----------------+ | Fedora 40 (Clang) | PASS | +---------------------+----------------+ | Ubuntu 24.04 | PASS | +---------------------+----------------+ | Ubuntu 20.04 | PASS | +---------------------+----------------+ | RHEL9 | PASS | +---------------------+----------------+ | RHEL8 | PASS | +---------------------+----------------+ | Windows Server 2022 | PASS | +---------------------+----------------+ Fedora 40 Kernel: Depends on container host Compiler: gcc 14.2.1 20240912 (Red Hat 14.2.1-3) CentOS Stream 10 Kernel: Depends on container host Compiler: gcc 14.2.1 20241104 (Red Hat 14.2.1-6) CentOS Stream 9 Kernel: Depends on container host Compiler: gcc 11.5.0 20240719 (Red Hat 11.5.0-2) Debian 12 Kernel: Depends on container host Compiler: gcc (Debian 12.2.0-14) 12.2.0 Fedora 41 (Clang) Kernel: Depends on container host Compiler: clang 19.1.5 (Fedora 19.1.5-1.fc41) Fedora 41 Kernel: Depends on container host Compiler: gcc 14.2.1 20240912 (Red Hat 14.2.1-3) Ubuntu 22.04 Kernel: Depends on container host Compiler: gcc (Ubuntu 11.4.0-1ubuntu1~22.04) 11.4.0 Fedora 40 (Clang) Kernel: Depends on container host Compiler: clang 18.1.8 (Fedora 18.1.8-1.fc40) Ubuntu 24.04 Kernel: Depends on container host Compiler: gcc (Ubuntu 13.3.0-6ubuntu2~24.04) 13.3.0 Ubuntu 20.04 Kernel: Depends on container host Compiler: gcc (Ubuntu 9.4.0-1ubuntu1~20.04.2) 9.4.0 RHEL9 Kernel: Depends on container host Compiler: gcc 11.5.0 20240719 (Red Hat 11.5.0-2) RHEL8 Kernel: Depends on container host Compiler: gcc 8.5.0 20210514 (Red Hat 8.5.0-22) Windows Server 2022 Kernel: 10.0.20348.2031 Compiler: clang 15.0.7, gcc 14.1.0 (MinGW), and MSVC VS 19.39.33521 To view detailed results, visit: https://lab.dpdk.org/results/dashboard/patchsets/32994/ UNH-IOL DPDK Community Lab To manage your email subscriptions, visit: https://lab.dpdk.org/results/dashboard/preferences/subscriptions/