From mboxrd@z Thu Jan 1 00:00:00 1970 Return-Path: Received: from mails.dpdk.org (mails.dpdk.org [217.70.189.124]) by inbox.dpdk.org (Postfix) with ESMTP id 212E546563 for ; Fri, 11 Apr 2025 16:04:02 +0200 (CEST) Received: from mails.dpdk.org (localhost [127.0.0.1]) by mails.dpdk.org (Postfix) with ESMTP id ED4AA40A7F; Fri, 11 Apr 2025 16:04:01 +0200 (CEST) Received: from mail-pl1-f228.google.com (mail-pl1-f228.google.com [209.85.214.228]) by mails.dpdk.org (Postfix) with ESMTP id A6DF24025F for ; Fri, 11 Apr 2025 16:04:00 +0200 (CEST) Received: by mail-pl1-f228.google.com with SMTP id d9443c01a7336-22438c356c8so22943675ad.1 for ; Fri, 11 Apr 2025 07:04:00 -0700 (PDT) DKIM-Signature: v=1; a=rsa-sha256; c=relaxed/relaxed; d=iol.unh.edu; s=unh-iol; t=1744380239; x=1744985039; darn=dpdk.org; h=references:in-reply-to:cc:to:from:subject:message-id:date:from:to :cc:subject:date:message-id:reply-to; bh=p1bX+Q409UrDgoqdGmCSXDAc5/FXqI2gQHIJDoYFbTQ=; b=bGVNs1Cw92XENVsfygoKZmSI+m/Y9EQ9Yl2U85C5rBi951i4xDBs7OfB8IYIQVKInW y48xcRsLnT1i9iMC8oPT9+s7hlvNmA3oHouZWn6yMq3FIEkmNEHO8Y5SqVc1670tzBpo GNEftYXh4BW74QHU9hEl9n9kDnnSQDSl6RkbQ= X-Google-DKIM-Signature: v=1; a=rsa-sha256; c=relaxed/relaxed; d=1e100.net; s=20230601; t=1744380239; x=1744985039; h=references:in-reply-to:cc:to:from:subject:message-id:date :x-gm-message-state:from:to:cc:subject:date:message-id:reply-to; bh=p1bX+Q409UrDgoqdGmCSXDAc5/FXqI2gQHIJDoYFbTQ=; b=GsnqY08mTQ8XefmNFjZaaC5BLSQUY2/JKeZC2zKsNyy8v1qQyp9NzqCl5gWkf77Bif D4hkccnM0Jbdtjl6EXFKpTGdWuQ5HtoYykxqGr4qAiq4R3WeVvH6Xv78vXOCwSl/FVWD ygoDQr/+7dHbqPQJSKii/cCyCWFJoC+v4R/voP02RiXn5CuX2n9eWNnYfyYrfa+KzeTl 8HXhsMEgYaI1evj65axM9zdDyIAkW9I0PyXmSSJruuZnDWEgbKWuRJJyW4En0Zl/J80v tc/1Ra4U8hrzTC5/4PArEhfuzRR3D0MctgKo8lcdEHlP0bTqn1BLWs0iBzDtTQV1YhGv +uBA== X-Gm-Message-State: AOJu0YwNXFAr6Z7TDiJ2KmZMPsKT+Sy4VORLHyzX8VDsSlsmIC8MOZKd yR6zkow0KpDpqKZdmqsKqB13t2uFQA0d8OBF0UWQy0eQ63+My8A8h5qdjS9AOIH3TtjQmKnPe+x O/9MY9luZBQq6mEUvBRaO1CRmo9GXScisXmlOMlpMuq2bjry/WP/5gX11 X-Gm-Gg: ASbGncvy0r0CphUFfT0mqeSxI0w6ERpacuirbaYw9eFxY8Wh9iICWJIdNDsSM61rdcb h7B5XY7qVAY+33eHCE9UcaZu/Dsm9pGGuCyIJ/NycbY5jjqN0dmLXb+9GZxFsKoIE45jMKg+oQa HaRtDkhl0mfxCzCA2k8GsUnqrNTCoxEiEjmMf63z6lrpkzsFHmpablsUHY8eQ4HmxR1ZgcikiL3 MFxFk/w99vdjz0TYtlHT1jf2evw90SRRR9SC4TD0ZzNpqvophNqV+8v0piPb2PNjQnUKJSIOCJb fcuxgCF7vZ9XvAyxs+33UFJmmzvWUz97dQ+hPCw8drp1DQhr X-Google-Smtp-Source: AGHT+IET206aOmUEX4XlHOcR3uL2v9BuTTM2goEl8wYiLBu161oawkRTLBwGDPHMMJvBb64Mg3+Glv+Jixb2 X-Received: by 2002:a17:903:22ce:b0:215:acb3:3786 with SMTP id d9443c01a7336-22bea4b9995mr46987715ad.19.1744380239676; Fri, 11 Apr 2025 07:03:59 -0700 (PDT) Received: from postal.iol.unh.edu (postal.iol.unh.edu. [2606:4100:3880:1234::84]) by smtp-relay.gmail.com with ESMTPS id d9443c01a7336-22ac7b964c6sm3192985ad.55.2025.04.11.07.03.59 (version=TLS1_2 cipher=ECDHE-ECDSA-AES128-GCM-SHA256 bits=128/128); Fri, 11 Apr 2025 07:03:59 -0700 (PDT) X-Relaying-Domain: iol.unh.edu Date: Fri, 11 Apr 2025 07:03:59 -0700 (PDT) Message-ID: <67f9214f.170a0220.12b3d1.d7a8SMTPIN_ADDED_MISSING@mx.google.com> Received: from [172.17.0.3] (unknown [172.18.0.217]) by postal.iol.unh.edu (Postfix) with ESMTP id BD6AE6052471; Fri, 11 Apr 2025 10:03:58 -0400 (EDT) Subject: |SUCCESS| pw152875-152877 [PATCH] [3/3] app/testpmd: add a command t From: dpdklab@iol.unh.edu To: Test Report Cc: dpdk-test-reports@iol.unh.edu In-Reply-To: <20250411081005.1133509-4-chaoyong.he@corigine.com> References: <20250411081005.1133509-4-chaoyong.he@corigine.com> Content-Type: text/plain X-BeenThere: test-report@dpdk.org X-Mailman-Version: 2.1.29 Precedence: list List-Id: automatic DPDK test reports List-Unsubscribe: , List-Archive: List-Post: List-Help: List-Subscribe: , Errors-To: test-report-bounces@dpdk.org Test-Label: iol-sample-apps-testing Test-Status: SUCCESS http://dpdk.org/patch/152877 _Testing PASS_ Submitter: Chaoyong He Date: Friday, April 11 2025 08:10:05 DPDK git baseline: Repo:dpdk Branch: master CommitID:ca1690ebd224f148268285b15b97441ccdbdd07e 152875-152877 --> testing pass Upstream job id: ACVP-FIPS-testing#9518 Test environment and result as below: +--------------------+----------------------+----------------------+ | Environment | compressdev_zlib_pmd | dpdk_fips_validation | +====================+======================+======================+ | Ubuntu 22.04 (ARM) | PASS | SKIPPED | +--------------------+----------------------+----------------------+ | Ubuntu 22.04 | PASS | SKIPPED | +--------------------+----------------------+----------------------+ | Ubuntu 20.04 | SKIPPED | PASS | +--------------------+----------------------+----------------------+ Ubuntu 22.04 (ARM) Kernel: 5.15.0-97-generic Compiler: gcc gcc (Ubuntu 11.4.0-1ubuntu1~22.04) 11.4.0 Ubuntu 22.04 Kernel: 5.15.0-100-generic Compiler: gcc gcc (Ubuntu 11.4.0-1ubuntu1~22.04) 11.4.0 Ubuntu 20.04 Kernel: Depends on container host Compiler: gcc (Ubuntu 9.4.0-1ubuntu1~20.04.2) 9.4.0 To view detailed results, visit: https://lab.dpdk.org/results/dashboard/patchsets/32993/ UNH-IOL DPDK Community Lab To manage your email subscriptions, visit: https://lab.dpdk.org/results/dashboard/preferences/subscriptions/