From mboxrd@z Thu Jan 1 00:00:00 1970 Return-Path: Received: from mails.dpdk.org (mails.dpdk.org [217.70.189.124]) by inbox.dpdk.org (Postfix) with ESMTP id 97DD646563 for ; Fri, 11 Apr 2025 16:59:57 +0200 (CEST) Received: from mails.dpdk.org (localhost [127.0.0.1]) by mails.dpdk.org (Postfix) with ESMTP id 6D88F40A72; Fri, 11 Apr 2025 16:59:57 +0200 (CEST) Received: from mail-oa1-f98.google.com (mail-oa1-f98.google.com [209.85.160.98]) by mails.dpdk.org (Postfix) with ESMTP id 5E8A64025F for ; Fri, 11 Apr 2025 16:59:55 +0200 (CEST) Received: by mail-oa1-f98.google.com with SMTP id 586e51a60fabf-2c7e5f7f0e3so507147fac.3 for ; Fri, 11 Apr 2025 07:59:55 -0700 (PDT) DKIM-Signature: v=1; a=rsa-sha256; c=relaxed/relaxed; d=iol.unh.edu; s=unh-iol; t=1744383594; x=1744988394; darn=dpdk.org; h=references:in-reply-to:cc:to:from:subject:message-id:date:from:to :cc:subject:date:message-id:reply-to; bh=d1Eqnq0JkmyQgXCJY5jVE/gTSIEyYoueiJXObYwBD2c=; b=BZP2dHQlRXhUHH0fqhbGqEgxQgI/oghg2sE8GLoH/TUI8nE3+DzpXtC6pkGZX+wJ5J /YTSWZmDoZRMrlIoxfun9gUQDrofw51NRqWSlmeix6nZvgRHjp67yHyvRSk+ZHBZDyw1 PHM3hIy/N3iB4VcXkB0pfB59Ple1EDSy3Nm38= X-Google-DKIM-Signature: v=1; a=rsa-sha256; c=relaxed/relaxed; d=1e100.net; s=20230601; t=1744383594; x=1744988394; h=references:in-reply-to:cc:to:from:subject:message-id:date :x-gm-message-state:from:to:cc:subject:date:message-id:reply-to; bh=d1Eqnq0JkmyQgXCJY5jVE/gTSIEyYoueiJXObYwBD2c=; b=W+OR7qXJpL3WN2S1Akrgb9T+WMKGpK71qoXBFw640A/JSFNn8eAUb1blQkC+4C5mI2 e2yEeLV4MoS2DwTBth7MSCfW+GtOilZs86Clv6huZnehueVEgGiGsLVHL1Z1hd9NPdx9 PcD1zib99HewkPKxMlpPhjjM+6Lkm3PBVMYuMw1UdCNFs186nrSNSfu1u2ia5WcjiIy5 L/qyfgD2KKomVLiqtY2ReNZ5YURdg56+2UHMWIOCdTK08calxfnPY3aD/jVuaVCxwu4p ihXhnzV2TA83yfUYlJCKERjI229siuzpA7fiLfkXgG7Y/WwmQGo2oAqfRFmgcq2lH9I2 RdMQ== X-Gm-Message-State: AOJu0Yw72i7T5GgEvoecplDTh2OyOrygA8/9nESHm6rgb+2K+AeXTEL+ f0y4+un97UlCDqvoZdq/KM0S94AnBosAPERlHWzjMVV4LdGm0VDXkxe/pkYGTGQrA0VmYpI1V+Y cqqSSq6osYzM1nMLjlVUySF7mquyVmuDMegu3WG7V3mDYDR75DjN4Re5n X-Gm-Gg: ASbGncubcfuqliZg+B5XXM4VJO22Ze7YVCTa4YMtSxIJCx8kaUayQQcB4YkPTS4U7l2 C2iZaU6CJO6XaOyUpu5C99thNhKro0eiDkdFp+JXass0/RVCDPQhgowQQYS/kc+0VNMT4N3Po6t 9enqfGezUwwocuohgJCCqhPsyPpZXso1yFgv4/X1cI8myxqPb35LrSVDWDx2eig3jKSLd1qNql5 oZFWfbLlibnXoMhA5cnukb1B8c59IDCz+7qzGsFSEPub/W+aahqiYUl8/v243I/xtXCHaCY/Mi8 Myw45NEgAORYTo432p9LX+JY6C2nz5CmH+cbb/K3x/zQgNod X-Google-Smtp-Source: AGHT+IHa5hTenyccmDMZSXPVEgXqUdmHJZ7wxaR5DphqGkug8CwPzM8OPP/xnrefdQ1eDsCI3N1lLi6/ZMy1 X-Received: by 2002:a05:6871:6182:b0:29e:4c37:b471 with SMTP id 586e51a60fabf-2d0d5f30fa2mr1908952fac.30.1744383594325; Fri, 11 Apr 2025 07:59:54 -0700 (PDT) Received: from postal.iol.unh.edu (postal.iol.unh.edu. [2606:4100:3880:1234::84]) by smtp-relay.gmail.com with ESMTPS id 586e51a60fabf-2d096ccfa3asm359058fac.28.2025.04.11.07.59.54 (version=TLS1_2 cipher=ECDHE-ECDSA-AES128-GCM-SHA256 bits=128/128); Fri, 11 Apr 2025 07:59:54 -0700 (PDT) X-Relaying-Domain: iol.unh.edu Date: Fri, 11 Apr 2025 07:59:54 -0700 (PDT) Message-ID: <67f92e6a.050a0220.113476.e26fSMTPIN_ADDED_MISSING@mx.google.com> Received: from [172.17.0.3] (unknown [172.18.0.217]) by postal.iol.unh.edu (Postfix) with ESMTP id B99826052471; Fri, 11 Apr 2025 10:59:53 -0400 (EDT) Subject: |SUCCESS| pw152875-152877 [PATCH] [3/3] app/testpmd: add a command t From: dpdklab@iol.unh.edu To: Test Report Cc: dpdk-test-reports@iol.unh.edu In-Reply-To: <20250411081005.1133509-4-chaoyong.he@corigine.com> References: <20250411081005.1133509-4-chaoyong.he@corigine.com> Content-Type: text/plain X-BeenThere: test-report@dpdk.org X-Mailman-Version: 2.1.29 Precedence: list List-Id: automatic DPDK test reports List-Unsubscribe: , List-Archive: List-Post: List-Help: List-Subscribe: , Errors-To: test-report-bounces@dpdk.org Test-Label: iol-unit-arm64-testing Test-Status: SUCCESS http://dpdk.org/patch/152877 _Testing PASS_ Submitter: Chaoyong He Date: Friday, April 11 2025 08:10:05 DPDK git baseline: Repo:dpdk Branch: master CommitID:ca1690ebd224f148268285b15b97441ccdbdd07e 152875-152877 --> testing pass Upstream job id: Generic-Unit-Test-DPDK#330518 Test environment and result as below: +-----------------------------+----------------+------------------------------+--------------+---------------------------+ | Environment | dpdk_unit_test | cryptodev_sw_snow3g_autotest | lpm_autotest | cryptodev_sw_zuc_autotest | +=============================+================+==============================+==============+===========================+ | 32-bit Ubuntu 22.04.4 (ARM) | PASS | SKIPPED | SKIPPED | SKIPPED | +-----------------------------+----------------+------------------------------+--------------+---------------------------+ | Debian 12 (arm) | PASS | PASS | SKIPPED | PASS | +-----------------------------+----------------+------------------------------+--------------+---------------------------+ | CentOS Stream 9 (ARM) | PASS | SKIPPED | SKIPPED | SKIPPED | +-----------------------------+----------------+------------------------------+--------------+---------------------------+ | CentOS Stream 10 (ARM) | PASS | SKIPPED | SKIPPED | SKIPPED | +-----------------------------+----------------+------------------------------+--------------+---------------------------+ | Fedora 41 (ARM Clang) | PASS | SKIPPED | SKIPPED | SKIPPED | +-----------------------------+----------------+------------------------------+--------------+---------------------------+ | Fedora 40 (ARM Clang) | PASS | SKIPPED | SKIPPED | SKIPPED | +-----------------------------+----------------+------------------------------+--------------+---------------------------+ | Fedora 40 (ARM) | PASS | SKIPPED | SKIPPED | SKIPPED | +-----------------------------+----------------+------------------------------+--------------+---------------------------+ | Fedora 41 (ARM) | PASS | SKIPPED | SKIPPED | SKIPPED | +-----------------------------+----------------+------------------------------+--------------+---------------------------+ | RHEL9 (ARM) | PASS | SKIPPED | SKIPPED | SKIPPED | +-----------------------------+----------------+------------------------------+--------------+---------------------------+ | Ubuntu 20.04 (ARM) | PASS | SKIPPED | SKIPPED | SKIPPED | +-----------------------------+----------------+------------------------------+--------------+---------------------------+ | Ubuntu 24.04 (ARM) | PASS | SKIPPED | SKIPPED | SKIPPED | +-----------------------------+----------------+------------------------------+--------------+---------------------------+ | Ubuntu 22.04 (ARM) | PASS | SKIPPED | SKIPPED | SKIPPED | +-----------------------------+----------------+------------------------------+--------------+---------------------------+ | Ubuntu 20.04 ARM SVE | SKIPPED | SKIPPED | PASS | SKIPPED | +-----------------------------+----------------+------------------------------+--------------+---------------------------+ 32-bit Ubuntu 22.04.4 (ARM) Kernel: 5.15.83+ aarch64 Compiler: gcc (Ubuntu 11.4.0-1ubuntu1~22.04) 11.4.0 Debian 12 (arm) Kernel: Depends on container host Compiler: gcc (Debian 12.2.0-14) 12.2.0 CentOS Stream 9 (ARM) Kernel: Depends on container host Compiler: gcc 11.5.0 20240719 (Red Hat 11.5.0-2) CentOS Stream 10 (ARM) Kernel: Depends on container host Compiler: gcc 14.2.1 20241104 (Red Hat 14.2.1-6) Fedora 41 (ARM Clang) Kernel: Depends on container host Compiler: clang 19.1.5 (Fedora 19.1.5-1.fc41) Fedora 40 (ARM Clang) Kernel: Depends on container host Compiler: clang 18.1.8 (Fedora 18.1.8-1.fc40) Fedora 40 (ARM) Kernel: Depends on container host Compiler: gcc 14.2.1 20240912 (Red Hat 14.2.1-3) Fedora 41 (ARM) Kernel: Depends on container host Compiler: gcc 14.2.1 20240912 (Red Hat 14.2.1-3) RHEL9 (ARM) Kernel: Depends on container host Compiler: gcc 11.5.0 20240719 (Red Hat 11.5.0-2) Ubuntu 20.04 (ARM) Kernel: Depends on container host Compiler: gcc (Ubuntu 9.4.0-1ubuntu1~20.04.2) 9.4.0 Ubuntu 24.04 (ARM) Kernel: Depends on container host Compiler: gcc (Ubuntu 13.3.0-6ubuntu2~24.04) 13.3.0 Ubuntu 22.04 (ARM) Kernel: Depends on container host Compiler: gcc (Ubuntu 11.4.0-1ubuntu1~22.04) 11.4.0 Ubuntu 20.04 ARM SVE Kernel: Depends on container host Compiler: gcc (Ubuntu 10.5.0-1ubuntu1~20.04) 10.5.0 To view detailed results, visit: https://lab.dpdk.org/results/dashboard/patchsets/32993/ UNH-IOL DPDK Community Lab To manage your email subscriptions, visit: https://lab.dpdk.org/results/dashboard/preferences/subscriptions/