From mboxrd@z Thu Jan 1 00:00:00 1970 Return-Path: Received: from mails.dpdk.org (mails.dpdk.org [217.70.189.124]) by inbox.dpdk.org (Postfix) with ESMTP id 0793246563 for ; Fri, 11 Apr 2025 17:04:30 +0200 (CEST) Received: from mails.dpdk.org (localhost [127.0.0.1]) by mails.dpdk.org (Postfix) with ESMTP id D0C2D40A72; Fri, 11 Apr 2025 17:04:30 +0200 (CEST) Received: from mail-qv1-f97.google.com (mail-qv1-f97.google.com [209.85.219.97]) by mails.dpdk.org (Postfix) with ESMTP id 647F04025F for ; Fri, 11 Apr 2025 17:04:29 +0200 (CEST) Received: by mail-qv1-f97.google.com with SMTP id 6a1803df08f44-6ecfbf1c7cbso28831656d6.2 for ; Fri, 11 Apr 2025 08:04:29 -0700 (PDT) DKIM-Signature: v=1; a=rsa-sha256; c=relaxed/relaxed; d=iol.unh.edu; s=unh-iol; t=1744383868; x=1744988668; darn=dpdk.org; h=references:in-reply-to:cc:to:from:subject:message-id:date:from:to :cc:subject:date:message-id:reply-to; bh=hnqa8lV8WtLgcuvPlFN/1D4ssoM4+bLO0k+nIodppJ8=; b=MVqhXqlE8YWO08iB6tak65g9rp5XUcL4dZqsYZ53YpLaQKoKcrj6CelOqJ0OHupGGC g5RS1dybAnkYTUSfM8JpolvWj+KXtn9kGmcmvlc5FUl70Q8jaZGE7HGBkdsS6G8VgPdM 9cuWnJUbvufUQJFRdRLMmshQFIxV12Kbc0S/E= X-Google-DKIM-Signature: v=1; a=rsa-sha256; c=relaxed/relaxed; d=1e100.net; s=20230601; t=1744383868; x=1744988668; h=references:in-reply-to:cc:to:from:subject:message-id:date :x-gm-message-state:from:to:cc:subject:date:message-id:reply-to; bh=hnqa8lV8WtLgcuvPlFN/1D4ssoM4+bLO0k+nIodppJ8=; b=MZ/QCTujc1Ax+YhvitswDUAeNH7CW9cZtFlJ9l5YaJxtdoOLEdPnP56FrcajLOip7e WmibAWJhEWbrQ2ULf5NCVjzlkZz4e17B6Vl0K44eQ1Kv/zSwf60AuwA7wTeOWparwK9J TqKH5OoyJbhXbyurWHbNbjQd5q3lskTWWrBQh3LIv7s4TaHRr99YyeG5k0Na+EN/g0Dx tb6TP/0IrvbjTb+Cz7y2K3Nl5kU4do8O3v+67r8YC7cVOqDJ699g753o6aIT/GhyRo/1 jhqBg1pMWk6uLF8kCjivq6bN6nOOpPDSJrIMrk93qJ3GPhF2Ep7bxLOXUjlTll9UjP8l ckZg== X-Gm-Message-State: AOJu0YyatwqnPrzf6256yuZMkeS46vJCjuFJkKy+fCFjZIwool4tJRHT CCtPyoyIQj/5Awx6uNLtx9FFaNkJapB3f95yclyTvWccSJvbwflNR9BqvMsP91H0b5PV3IhkFdU xgiQz81oGY45XrrTv0QNPBnd3kjWNVr/2bt1JNI7O X-Gm-Gg: ASbGnctkxLysJqPOSntolTFNeQ+ZVmeWptvqenx0yaSFS42WHrY/RGxDdAhtJ5HIO+o DettVnHN+QOQS0KmEpDyVqtK/LmbM8BDyIa6mad3RVqROQY829RsrIdBcZdQeHm2f/709ZTPHR2 gx8u8kAjBqQmKjQ0qz+1H6rUiLAeHkGGQEKAI7kCQjoCy3lG4NCWqCF+hbJ/qfK/tyGX9pOu/o5 SHq2E8l+/wwjMJtIx+4JGvHCwt3fB2NUIF5QiW8R07CGYInGqRVEGxwnwX4PE1CtYhdZaR0WP2b /A+RUoTxVhwhbjnhq/ppqXk2uHqZdVdfQ8cJ X-Google-Smtp-Source: AGHT+IG1YsmTrJhoSPE+L0OTcNWwkqdbj0t6LTF48EWS3NEVPBKR+fqc+P4Ekf4SeWx5Vu9NfI/VwvZ4NsES X-Received: by 2002:a05:6214:260f:b0:6ed:1659:76b0 with SMTP id 6a1803df08f44-6f230d64eb0mr45794436d6.20.1744383868623; Fri, 11 Apr 2025 08:04:28 -0700 (PDT) Received: from postal.iol.unh.edu (postal.iol.unh.edu. [132.177.123.84]) by smtp-relay.gmail.com with ESMTPS id 6a1803df08f44-6f0de830d2asm3865996d6.0.2025.04.11.08.04.28 (version=TLS1_2 cipher=ECDHE-ECDSA-AES128-GCM-SHA256 bits=128/128); Fri, 11 Apr 2025 08:04:28 -0700 (PDT) X-Relaying-Domain: iol.unh.edu Date: Fri, 11 Apr 2025 08:04:28 -0700 (PDT) Message-ID: <67f92f7c.050a0220.190453.f765SMTPIN_ADDED_MISSING@mx.google.com> Received: from [172.17.0.3] (unknown [172.18.0.217]) by postal.iol.unh.edu (Postfix) with ESMTP id 3ECD06052471; Fri, 11 Apr 2025 11:04:28 -0400 (EDT) Subject: |SUCCESS| pw152878 [PATCH] net: fix GTP packet parsing From: dpdklab@iol.unh.edu To: Test Report Cc: dpdk-test-reports@iol.unh.edu In-Reply-To: <20250411084303.770040-1-huangdengdui@huawei.com> References: <20250411084303.770040-1-huangdengdui@huawei.com> Content-Type: text/plain X-BeenThere: test-report@dpdk.org X-Mailman-Version: 2.1.29 Precedence: list List-Id: automatic DPDK test reports List-Unsubscribe: , List-Archive: List-Post: List-Help: List-Subscribe: , Errors-To: test-report-bounces@dpdk.org Test-Label: iol-compile-arm64-testing Test-Status: SUCCESS http://dpdk.org/patch/152878 _Testing PASS_ Submitter: Dengdui Huang Date: Friday, April 11 2025 08:43:03 DPDK git baseline: Repo:dpdk Branch: master CommitID:ca1690ebd224f148268285b15b97441ccdbdd07e 152878 --> testing pass Upstream job id: Generic-DPDK-Compile-Meson#379411 Test environment and result as below: +----------------------------------------+--------------------+ | Environment | dpdk_meson_compile | +========================================+====================+ | RHEL9 (ARM) | PASS | +----------------------------------------+--------------------+ | Debian 12 with MUSDK | PASS | +----------------------------------------+--------------------+ | Fedora 40 (ARM Clang) | PASS | +----------------------------------------+--------------------+ | Ubuntu 20.04 ARM GCC Cross Compile | PASS | +----------------------------------------+--------------------+ | Ubuntu 20.04 ARM SVE | PASS | +----------------------------------------+--------------------+ | Fedora 40 (ARM) | PASS | +----------------------------------------+--------------------+ | Fedora 41 (ARM) | PASS | +----------------------------------------+--------------------+ | Fedora 41 (ARM Clang) | PASS | +----------------------------------------+--------------------+ | Ubuntu 20.04 (ARM) | PASS | +----------------------------------------+--------------------+ | Ubuntu 22.04 (ARM) | PASS | +----------------------------------------+--------------------+ | Ubuntu 20.04 ARM Clang Cross Compile | PASS | +----------------------------------------+--------------------+ | CentOS Stream 9 (ARM) | PASS | +----------------------------------------+--------------------+ | Ubuntu 24.04 (ARM) | PASS | +----------------------------------------+--------------------+ | CentOS Stream 10 (ARM) | PASS | +----------------------------------------+--------------------+ | Ubuntu 20.04 aarch32 GCC Cross Compile | PASS | +----------------------------------------+--------------------+ | Debian 12 (arm) | PASS | +----------------------------------------+--------------------+ RHEL9 (ARM) Kernel: Depends on container host Compiler: gcc 11.5.0 20240719 (Red Hat 11.5.0-2) Debian 12 with MUSDK Kernel: Depends on container host Compiler: gcc (Debian 12.2.0-14) 12.2.0 Fedora 40 (ARM Clang) Kernel: Depends on container host Compiler: clang 18.1.8 (Fedora 18.1.8-1.fc40) Ubuntu 20.04 ARM GCC Cross Compile Kernel: Depends on container host Compiler: aarch64-linux-gnu-gcc (Ubuntu 9.4.0-1ubuntu1~20.04.2) 9.4.0 Ubuntu 20.04 ARM SVE Kernel: Depends on container host Compiler: gcc (Ubuntu 10.5.0-1ubuntu1~20.04) 10.5.0 Fedora 40 (ARM) Kernel: Depends on container host Compiler: gcc 14.2.1 20240912 (Red Hat 14.2.1-3) Fedora 41 (ARM) Kernel: Depends on container host Compiler: gcc 14.2.1 20240912 (Red Hat 14.2.1-3) Fedora 41 (ARM Clang) Kernel: Depends on container host Compiler: clang 19.1.5 (Fedora 19.1.5-1.fc41) Ubuntu 20.04 (ARM) Kernel: Depends on container host Compiler: gcc (Ubuntu 9.4.0-1ubuntu1~20.04.2) 9.4.0 Ubuntu 22.04 (ARM) Kernel: Depends on container host Compiler: gcc (Ubuntu 11.4.0-1ubuntu1~22.04) 11.4.0 Ubuntu 20.04 ARM Clang Cross Compile Kernel: Depends on container host Compiler: clang 10.0.0-4ubuntu1 CentOS Stream 9 (ARM) Kernel: Depends on container host Compiler: gcc 11.5.0 20240719 (Red Hat 11.5.0-2) Ubuntu 24.04 (ARM) Kernel: Depends on container host Compiler: gcc (Ubuntu 13.3.0-6ubuntu2~24.04) 13.3.0 CentOS Stream 10 (ARM) Kernel: Depends on container host Compiler: gcc 14.2.1 20241104 (Red Hat 14.2.1-6) Ubuntu 20.04 aarch32 GCC Cross Compile Kernel: Depends on container host Compiler: gcc 9.4.0 Debian 12 (arm) Kernel: Depends on container host Compiler: gcc (Debian 12.2.0-14) 12.2.0 To view detailed results, visit: https://lab.dpdk.org/results/dashboard/patchsets/32994/ UNH-IOL DPDK Community Lab To manage your email subscriptions, visit: https://lab.dpdk.org/results/dashboard/preferences/subscriptions/