From mboxrd@z Thu Jan 1 00:00:00 1970 Return-Path: Received: from mails.dpdk.org (mails.dpdk.org [217.70.189.124]) by inbox.dpdk.org (Postfix) with ESMTP id CB42346566 for ; Fri, 11 Apr 2025 23:28:57 +0200 (CEST) Received: from mails.dpdk.org (localhost [127.0.0.1]) by mails.dpdk.org (Postfix) with ESMTP id 9F34940B90; Fri, 11 Apr 2025 23:28:57 +0200 (CEST) Received: from mail-qv1-f97.google.com (mail-qv1-f97.google.com [209.85.219.97]) by mails.dpdk.org (Postfix) with ESMTP id 3FEB24025F for ; Fri, 11 Apr 2025 23:28:56 +0200 (CEST) Received: by mail-qv1-f97.google.com with SMTP id 6a1803df08f44-6e8ec399427so19245606d6.2 for ; Fri, 11 Apr 2025 14:28:56 -0700 (PDT) DKIM-Signature: v=1; a=rsa-sha256; c=relaxed/relaxed; d=iol.unh.edu; s=unh-iol; t=1744406935; x=1745011735; darn=dpdk.org; h=references:in-reply-to:cc:to:from:subject:message-id:date:from:to :cc:subject:date:message-id:reply-to; bh=XVJ2FCqZ2ikzDCU8be29jnAW3NsR1AnDP7mYX2ReTQQ=; b=Jb9+lX4Br73IsAZnYOy+WueQ/aRXmJl+1jFwdb8bMI6cFcSU+Q/5+IGBcWKQMLp1UU zdAdFAo4N7/uH1NMAte4LyiByfZGMd2B1Zjs2PgxuzgbloPTYTfyMieOfXgk6NJTRb9V k0sbWwUv5RIagD6JmuOTv+Y4z6YUJrbTo9TZc= X-Google-DKIM-Signature: v=1; a=rsa-sha256; c=relaxed/relaxed; d=1e100.net; s=20230601; t=1744406935; x=1745011735; h=references:in-reply-to:cc:to:from:subject:message-id:date :x-gm-message-state:from:to:cc:subject:date:message-id:reply-to; bh=XVJ2FCqZ2ikzDCU8be29jnAW3NsR1AnDP7mYX2ReTQQ=; b=UFJJBRuqDKEb4SUxxkMXtIxPxd6qKDQlFfeu2w7wuHcaq2eIgSCnE7wYw8rt+uywPb vMG58mEhLfK7OH/eRTUX+UK/5PBlbNYamNbVitVdOO93KbbFGkQzn2atNSlZwaVwEHc2 07CX9JJU44IL4AbTr7ADbxZVb50TRux7iWxVjnEdxcoYFhCNJKDhwZ4aNAWOiaIbGyxv sNqGKYN2/xB2eRIx8SV++bLQ2DDL/eguFsKWA6JoenOF+nqXTn1O68teTca74nsXOULA lutnVJjsNNSN9bOmccXmO4xS+V4EXyMkKW7jb/Q33Y8GPABXoe6ju1NkswdbT+LSSkX5 ocHA== X-Gm-Message-State: AOJu0YyvlZGApcflSp/6UGEvtXZVLniVChrD1XrNqTW3dZHGuK/fCVOA prpXuKnyf3ak6YFZdvE0MQkxI6/ga7UkzjnEjqINN9xWnmF8jSeD01HgAAy/PwnWk4V8Uw+hiWx +5uO5sAi4dQPl0gMZ7UPGqVMZP7qnIrKkzLgcNcFdVVBld73GmR11Vypf X-Gm-Gg: ASbGncuTMMJXEcDJMYScrf6cp5LQYpoh3Ko5qW6UZ/boa1GIFZgzaQDbwFzIKg7OsMA W1RT4o4fdqBtKwXV3R7denS/9tyWVETZBVygaDpqe56970rzzjX7aH80IaU4iaNI1lXBPDXvsKJ nQECSB7yU9luGI8GwaWRG0xQivZwCSyuloCK3CJw33SZs9gYzzQnlFoI26zp5FKWfr7UQt5aAbY /S70nEi8BHGYSO4Eoj7fzFXTM8zXSmCabRUbM22MH6pgnPr2hn5ce6caW2C+WDXUxnvtSH0uMWN 8kKyOaTgH47fbkBnyixXxHdFtjaLBfrqi9VrJ9OfEPEYDs3e X-Google-Smtp-Source: AGHT+IFHWZE6miG0gTweDVIZYmKmjusA/Q/rMeEUjLituJ65NhBTgVRqi3lWAL4tWfuqn7cjQ7FlNaKjYGyd X-Received: by 2002:a05:6214:21a5:b0:6e6:6686:afcf with SMTP id 6a1803df08f44-6f230cb3475mr61454596d6.4.1744406935359; Fri, 11 Apr 2025 14:28:55 -0700 (PDT) Received: from postal.iol.unh.edu (postal.iol.unh.edu. [2606:4100:3880:1234::84]) by smtp-relay.gmail.com with ESMTPS id 6a1803df08f44-6f0dea0a3f3sm4009156d6.56.2025.04.11.14.28.55 (version=TLS1_2 cipher=ECDHE-ECDSA-AES128-GCM-SHA256 bits=128/128); Fri, 11 Apr 2025 14:28:55 -0700 (PDT) X-Relaying-Domain: iol.unh.edu Date: Fri, 11 Apr 2025 14:28:55 -0700 (PDT) Message-ID: <67f98997.050a0220.3c048.024fSMTPIN_ADDED_MISSING@mx.google.com> Received: from [172.21.0.5] (unknown [172.18.0.240]) by postal.iol.unh.edu (Postfix) with ESMTP id 03F176052471; Fri, 11 Apr 2025 17:28:55 -0400 (EDT) Subject: |SUCCESS| pw152886-152889 [PATCH] [4/4] drivers: use macro to embed From: dpdklab@iol.unh.edu To: Test Report Cc: dpdk-test-reports@iol.unh.edu In-Reply-To: <1744400374-26620-5-git-send-email-andremue@linux.microsoft.com> References: <1744400374-26620-5-git-send-email-andremue@linux.microsoft.com> Content-Type: text/plain X-BeenThere: test-report@dpdk.org X-Mailman-Version: 2.1.29 Precedence: list List-Id: automatic DPDK test reports List-Unsubscribe: , List-Archive: List-Post: List-Help: List-Subscribe: , Errors-To: test-report-bounces@dpdk.org Test-Label: iol-abi-testing Test-Status: SUCCESS http://dpdk.org/patch/152889 _Testing PASS_ Submitter: Andre Muezerie Date: Friday, April 11 2025 19:39:33 DPDK git baseline: Repo:dpdk Branch: master CommitID:ca1690ebd224f148268285b15b97441ccdbdd07e 152886-152889 --> testing pass Upstream job id: Generic-DPDK-Compile-ABI#123100 Test environment and result as below: +-------------------+----------+ | Environment | abi_test | +===================+==========+ | CentOS Stream 10 | PASS | +-------------------+----------+ | CentOS Stream 9 | PASS | +-------------------+----------+ | Fedora 40 | PASS | +-------------------+----------+ | Fedora 40 (Clang) | PASS | +-------------------+----------+ | Debian 12 | PASS | +-------------------+----------+ | Ubuntu 22.04 | PASS | +-------------------+----------+ | Ubuntu 24.04 | PASS | +-------------------+----------+ | Fedora 41 | PASS | +-------------------+----------+ | Fedora 41 (Clang) | PASS | +-------------------+----------+ | RHEL9 | PASS | +-------------------+----------+ | openSUSE Leap 15 | PASS | +-------------------+----------+ | RHEL8 | PASS | +-------------------+----------+ CentOS Stream 10 Kernel: Depends on container host Compiler: gcc 14.2.1 20241104 (Red Hat 14.2.1-6) CentOS Stream 9 Kernel: Depends on container host Compiler: gcc 11.5.0 20240719 (Red Hat 11.5.0-2) Fedora 40 Kernel: Depends on container host Compiler: gcc 14.2.1 20240912 (Red Hat 14.2.1-3) Fedora 40 (Clang) Kernel: Depends on container host Compiler: clang 18.1.8 (Fedora 18.1.8-1.fc40) Debian 12 Kernel: Depends on container host Compiler: gcc (Debian 12.2.0-14) 12.2.0 Ubuntu 22.04 Kernel: Depends on container host Compiler: gcc (Ubuntu 11.4.0-1ubuntu1~22.04) 11.4.0 Ubuntu 24.04 Kernel: Depends on container host Compiler: gcc (Ubuntu 13.3.0-6ubuntu2~24.04) 13.3.0 Fedora 41 Kernel: Depends on container host Compiler: gcc 14.2.1 20240912 (Red Hat 14.2.1-3) Fedora 41 (Clang) Kernel: Depends on container host Compiler: clang 19.1.5 (Fedora 19.1.5-1.fc41) RHEL9 Kernel: Depends on container host Compiler: gcc 11.5.0 20240719 (Red Hat 11.5.0-2) openSUSE Leap 15 Kernel: Depends on container host Compiler: gcc (SUSE Linux) 7.5.0 RHEL8 Kernel: Depends on container host Compiler: gcc 8.5.0 20210514 (Red Hat 8.5.0-22) To view detailed results, visit: https://lab.dpdk.org/results/dashboard/patchsets/32998/ UNH-IOL DPDK Community Lab To manage your email subscriptions, visit: https://lab.dpdk.org/results/dashboard/preferences/subscriptions/