From mboxrd@z Thu Jan 1 00:00:00 1970 Return-Path: Received: from mails.dpdk.org (mails.dpdk.org [217.70.189.124]) by inbox.dpdk.org (Postfix) with ESMTP id C733C46566 for ; Fri, 11 Apr 2025 23:30:03 +0200 (CEST) Received: from mails.dpdk.org (localhost [127.0.0.1]) by mails.dpdk.org (Postfix) with ESMTP id C16B640B90; Fri, 11 Apr 2025 23:30:03 +0200 (CEST) Received: from mail-yw1-f226.google.com (mail-yw1-f226.google.com [209.85.128.226]) by mails.dpdk.org (Postfix) with ESMTP id 3937B4025F for ; Fri, 11 Apr 2025 23:30:02 +0200 (CEST) Received: by mail-yw1-f226.google.com with SMTP id 00721157ae682-7023843e467so23301527b3.2 for ; Fri, 11 Apr 2025 14:30:02 -0700 (PDT) DKIM-Signature: v=1; a=rsa-sha256; c=relaxed/relaxed; d=iol.unh.edu; s=unh-iol; t=1744407001; x=1745011801; darn=dpdk.org; h=references:in-reply-to:cc:to:from:subject:message-id:date:from:to :cc:subject:date:message-id:reply-to; bh=bcvpjBpZI+tLbWcsKhkjYnrZQzvWd8CoEyxCmqTHVEg=; b=Bgvjs/s/t+iHuP3kUhNHd7yI37V5LHIHaeCdocxGS29PZNC64PyWUo9qq83CqiN3yV HaimBdabnSqEeKdiVrUSvbDy7+tfwDGDhZsBBpbWwbco1YvN5LhRV/yttoVmmK3iXUDi bgZ28r6T5nyBPD/G+UXlruocoPcnLyBZUcgMI= X-Google-DKIM-Signature: v=1; a=rsa-sha256; c=relaxed/relaxed; d=1e100.net; s=20230601; t=1744407001; x=1745011801; h=references:in-reply-to:cc:to:from:subject:message-id:date :x-gm-message-state:from:to:cc:subject:date:message-id:reply-to; bh=bcvpjBpZI+tLbWcsKhkjYnrZQzvWd8CoEyxCmqTHVEg=; b=DS8XDAqqq0z9Yl3nlgxw52bcceaDMxJQDKOdPEtE+c8gd2PIs/twk1EIb4E0kw0aeD FML1TcrW1wa60X+L9+3xMTSeW+8DroAu/KYYOJQV4664kLoret+MS00m62/OfhogR9Ac EiK9imGtql3vdI0sm7/ofcExTkX8B/6Uff9ruIPhIA/gkjqAacOWX0/zuCgmeIYaezll Ndja2TXdt1rULqlF71T9yZf7GoW2mku8fPl9Ul7L9DxdB5d6UvdgUQWdqmrCQ1qPqmM/ 0EVKu0bgSb1ARuwrh0m5Jk/S4hHAJ0bffVSwYXmMEU/xkQpJjUMK+89NR6oPpkO969Xa niHA== X-Gm-Message-State: AOJu0Yy9cl9degbt7iVm+jmE2xMERsZ3uUlOM2RzXQsuAT5xQ69H5Tez QFNDncx1UmSQQlS6cQxJHtIu4Nayc53bpKRwXyaoDIOsO4yNuMH5pQPcEGjLLZrSDNYBtJ8vr9t yGvvFkfuETB5HqljWZ08pVfmUWREZmP/3NhpnMYCFcfJn9H4dSMHeGrUg X-Gm-Gg: ASbGnctieASYXaprZqkUJhgOSgK1XtojntugQJVsSRk4EDnrpQ7wnGtUP8on7J+Aweg 3k2uPo+QP5VKqeLJy3vt6yjCvilIEJBD+SNm8keYBYfV9r05iF9bF/jPXJBqOAh024wPTocxrQk i07yQ4IOHgSLiw40s7GYD2Xh+Ge+4xm5YWzGH84yeQjSgQv/seEuD2G51AwJhIuchnDdNjc8Lbe 2tmYS3CD/eNJO/9w1MsiYAc0IE8r7MqBRTLSj/SqhBHMcGHifwxM3bfmw83+a1NCBVGtC8WtQOr PpDuTOo/ApGSvCLr4MVt6bh//Posp3rvvZOeBKgx/5Q3BS2j X-Google-Smtp-Source: AGHT+IE3H0j91ZpyoGaGW4J49DuQJII8MvufWgq+7XJ3W5DIr3xXyqgnnrz9qcjB6imyrC95NxSBSrDt9afN X-Received: by 2002:a05:690c:7:b0:702:52fb:4629 with SMTP id 00721157ae682-70559aa5037mr65821807b3.23.1744407001487; Fri, 11 Apr 2025 14:30:01 -0700 (PDT) Received: from postal.iol.unh.edu (postal.iol.unh.edu. [2606:4100:3880:1234::84]) by smtp-relay.gmail.com with ESMTPS id 00721157ae682-7053e382778sm5362977b3.65.2025.04.11.14.30.01 (version=TLS1_2 cipher=ECDHE-ECDSA-AES128-GCM-SHA256 bits=128/128); Fri, 11 Apr 2025 14:30:01 -0700 (PDT) X-Relaying-Domain: iol.unh.edu Date: Fri, 11 Apr 2025 14:30:01 -0700 (PDT) Message-ID: <67f989d9.0d0a0220.2991da.99f4SMTPIN_ADDED_MISSING@mx.google.com> Received: from [172.21.0.5] (unknown [172.18.0.240]) by postal.iol.unh.edu (Postfix) with ESMTP id 155396052471; Fri, 11 Apr 2025 17:30:01 -0400 (EDT) Subject: |SUCCESS| pw152886-152889 [PATCH] [4/4] drivers: use macro to embed From: dpdklab@iol.unh.edu To: Test Report Cc: dpdk-test-reports@iol.unh.edu In-Reply-To: <1744400374-26620-5-git-send-email-andremue@linux.microsoft.com> References: <1744400374-26620-5-git-send-email-andremue@linux.microsoft.com> Content-Type: text/plain X-BeenThere: test-report@dpdk.org X-Mailman-Version: 2.1.29 Precedence: list List-Id: automatic DPDK test reports List-Unsubscribe: , List-Archive: List-Post: List-Help: List-Subscribe: , Errors-To: test-report-bounces@dpdk.org Test-Label: iol-sample-apps-testing Test-Status: SUCCESS http://dpdk.org/patch/152889 _Testing PASS_ Submitter: Andre Muezerie Date: Friday, April 11 2025 19:39:33 DPDK git baseline: Repo:dpdk Branch: master CommitID:ca1690ebd224f148268285b15b97441ccdbdd07e 152886-152889 --> testing pass Upstream job id: Template-DTS-Pipeline#221311 Test environment and result as below: +--------------------+----------------------+----------------------+ | Environment | dpdk_fips_validation | compressdev_zlib_pmd | +====================+======================+======================+ | Ubuntu 20.04 | PASS | SKIPPED | +--------------------+----------------------+----------------------+ | Ubuntu 22.04 (ARM) | SKIPPED | PASS | +--------------------+----------------------+----------------------+ | Ubuntu 22.04 | SKIPPED | PASS | +--------------------+----------------------+----------------------+ Ubuntu 20.04 Kernel: Depends on container host Compiler: gcc (Ubuntu 9.4.0-1ubuntu1~20.04.2) 9.4.0 Ubuntu 22.04 (ARM) Kernel: 5.15.0-97-generic Compiler: gcc gcc (Ubuntu 11.4.0-1ubuntu1~22.04) 11.4.0 Ubuntu 22.04 Kernel: 5.15.0-100-generic Compiler: gcc gcc (Ubuntu 11.4.0-1ubuntu1~22.04) 11.4.0 To view detailed results, visit: https://lab.dpdk.org/results/dashboard/patchsets/32998/ UNH-IOL DPDK Community Lab To manage your email subscriptions, visit: https://lab.dpdk.org/results/dashboard/preferences/subscriptions/