From mboxrd@z Thu Jan 1 00:00:00 1970 Return-Path: Received: from mails.dpdk.org (mails.dpdk.org [217.70.189.124]) by inbox.dpdk.org (Postfix) with ESMTP id E0FB546566 for ; Fri, 11 Apr 2025 23:30:51 +0200 (CEST) Received: from mails.dpdk.org (localhost [127.0.0.1]) by mails.dpdk.org (Postfix) with ESMTP id DCB3240B90; Fri, 11 Apr 2025 23:30:51 +0200 (CEST) Received: from mail-yw1-f228.google.com (mail-yw1-f228.google.com [209.85.128.228]) by mails.dpdk.org (Postfix) with ESMTP id 4E74D4025F for ; Fri, 11 Apr 2025 23:30:51 +0200 (CEST) Received: by mail-yw1-f228.google.com with SMTP id 00721157ae682-6feb229b716so25791337b3.3 for ; Fri, 11 Apr 2025 14:30:51 -0700 (PDT) DKIM-Signature: v=1; a=rsa-sha256; c=relaxed/relaxed; d=iol.unh.edu; s=unh-iol; t=1744407050; x=1745011850; darn=dpdk.org; h=references:in-reply-to:cc:to:from:subject:message-id:date:from:to :cc:subject:date:message-id:reply-to; bh=39T7GPLDzeJg8yKpkWjmSO6tQC1OOIBfRezec9fwgkQ=; b=ExKdQRJH3o5l6GzENnufcFBqJVcIuEY3fTsLKvSVwBql8EUkGAJrGBGtoLTenPQVnq DfsVh9Xhrv+tnBtE6kTmEmju71/HKs3AOqGa6XpA9lQw8j0B6qYHGOYUmpQxa41Km7NS fgBKy6Exq8E4GI6Mb3JeIPu98DRLvXKmJFNzo= X-Google-DKIM-Signature: v=1; a=rsa-sha256; c=relaxed/relaxed; d=1e100.net; s=20230601; t=1744407050; x=1745011850; h=references:in-reply-to:cc:to:from:subject:message-id:date :x-gm-message-state:from:to:cc:subject:date:message-id:reply-to; bh=39T7GPLDzeJg8yKpkWjmSO6tQC1OOIBfRezec9fwgkQ=; b=g0ZVdosheK7y+AACToF/pLj5hPW6ajVG/JpQEpsEV13T5XOwgNk9x7GQOfhzmUAa1v TH7/UPbfv8kV46pZVjqxslWXN9xpp5Ugg4TC15fVdd/IuGi+9VNzzNPy54b51eO5MGqh NlUsJKaly3zrFpvIuFmTodGbx9VwqOewkIChicYITqrakzV4rSTL076lsHfv74ABBaqB fVsoRRj3jYk6+EmGuXVn9kpqfHOnxOUFscQ127WzQeQfoBh29D1CJHGUDVxEphMZ8fsA 9ovtSqVDFf6G/jErAhR4xLRyFldy7PVKVl5Bvq/97g6mkZHx3Mw0sv5nMO2ipKdYaLiJ VjPA== X-Gm-Message-State: AOJu0YyE1ohF4oL5NB78ev1GFg6PRbidHXcsuH2HJp+HX2oqpUpeKVPl etCfkYexIzNIjTzNprjXjAgaYKna0Njy8zJ2j156oXlfeSRnQ7exv0152c0EurpDaMzhixq8+sH QonFBBi4wW0dGD4ESDfp8F7AM2ihgJG/g4jquHgPX X-Gm-Gg: ASbGncvtGFzmSqLGMI91mlRugutQ9CujNkPRxBW1nZN57zKJGRmWPsgKTXV8N8EMH5l ihfVxRIQs5JZongjCq5YPc7rCIaPLuTHPhAZpdhpd1DcdGgZ5EQOiH70O9k5UYdeI7Wn0YQG0Bj eouYOA1zVuSXRE3lh3usGXh2w9UrjaNpKwb7GhpBM7oRyPoa+08Yvi3INQDA9Fql2HtSRsP8J8u +E/cXs6MM7mPC+RCkyiBXNJnnaU8VJi5glksSX0Vu3Bg1cL9VLCgSnE7TvAZvrbmi5v1LFZ0g4K ylDxfRxv+5G0nKP5MDM8cT69s22LrTVorwty X-Google-Smtp-Source: AGHT+IHeOsc6Z6QBMOcIeNwng+n4HcXdW5ewZEuU4xUNz2yGtVoearR4xgHitza7agmUyLzKenuGKrZ5sVSs X-Received: by 2002:a05:690c:7348:b0:6ff:1fac:c4f2 with SMTP id 00721157ae682-70559a99205mr69863977b3.33.1744407050649; Fri, 11 Apr 2025 14:30:50 -0700 (PDT) Received: from postal.iol.unh.edu (postal.iol.unh.edu. [132.177.123.84]) by smtp-relay.gmail.com with ESMTPS id 00721157ae682-7053e0f432fsm3443707b3.12.2025.04.11.14.30.50 (version=TLS1_2 cipher=ECDHE-ECDSA-AES128-GCM-SHA256 bits=128/128); Fri, 11 Apr 2025 14:30:50 -0700 (PDT) X-Relaying-Domain: iol.unh.edu Date: Fri, 11 Apr 2025 14:30:50 -0700 (PDT) Message-ID: <67f98a0a.050a0220.277fd4.c1feSMTPIN_ADDED_MISSING@mx.google.com> Received: from [172.17.0.5] (unknown [172.18.0.217]) by postal.iol.unh.edu (Postfix) with ESMTP id 2F96E6052471; Fri, 11 Apr 2025 17:30:50 -0400 (EDT) Subject: |SUCCESS| pw152886-152889 [PATCH] [4/4] drivers: use macro to embed From: dpdklab@iol.unh.edu To: Test Report Cc: dpdk-test-reports@iol.unh.edu In-Reply-To: <1744400374-26620-5-git-send-email-andremue@linux.microsoft.com> References: <1744400374-26620-5-git-send-email-andremue@linux.microsoft.com> Content-Type: text/plain X-BeenThere: test-report@dpdk.org X-Mailman-Version: 2.1.29 Precedence: list List-Id: automatic DPDK test reports List-Unsubscribe: , List-Archive: List-Post: List-Help: List-Subscribe: , Errors-To: test-report-bounces@dpdk.org Test-Label: iol-unit-amd64-testing Test-Status: SUCCESS http://dpdk.org/patch/152889 _Testing PASS_ Submitter: Andre Muezerie Date: Friday, April 11 2025 19:39:33 DPDK git baseline: Repo:dpdk Branch: master CommitID:ca1690ebd224f148268285b15b97441ccdbdd07e 152886-152889 --> testing pass Upstream job id: Generic-Unit-Test-DPDK#330543 Test environment and result as below: +---------------------+----------------+ | Environment | dpdk_unit_test | +=====================+================+ | CentOS Stream 9 | PASS | +---------------------+----------------+ | Debian 12 | PASS | +---------------------+----------------+ | CentOS Stream 10 | PASS | +---------------------+----------------+ | Fedora 40 (Clang) | PASS | +---------------------+----------------+ | Fedora 40 | PASS | +---------------------+----------------+ | Fedora 41 (Clang) | PASS | +---------------------+----------------+ | Fedora 41 | PASS | +---------------------+----------------+ | Ubuntu 24.04 | PASS | +---------------------+----------------+ | Ubuntu 20.04 | PASS | +---------------------+----------------+ | RHEL9 | PASS | +---------------------+----------------+ | Ubuntu 22.04 | PASS | +---------------------+----------------+ | RHEL8 | PASS | +---------------------+----------------+ | Windows Server 2022 | PASS | +---------------------+----------------+ CentOS Stream 9 Kernel: Depends on container host Compiler: gcc 11.5.0 20240719 (Red Hat 11.5.0-2) Debian 12 Kernel: Depends on container host Compiler: gcc (Debian 12.2.0-14) 12.2.0 CentOS Stream 10 Kernel: Depends on container host Compiler: gcc 14.2.1 20241104 (Red Hat 14.2.1-6) Fedora 40 (Clang) Kernel: Depends on container host Compiler: clang 18.1.8 (Fedora 18.1.8-1.fc40) Fedora 40 Kernel: Depends on container host Compiler: gcc 14.2.1 20240912 (Red Hat 14.2.1-3) Fedora 41 (Clang) Kernel: Depends on container host Compiler: clang 19.1.5 (Fedora 19.1.5-1.fc41) Fedora 41 Kernel: Depends on container host Compiler: gcc 14.2.1 20240912 (Red Hat 14.2.1-3) Ubuntu 24.04 Kernel: Depends on container host Compiler: gcc (Ubuntu 13.3.0-6ubuntu2~24.04) 13.3.0 Ubuntu 20.04 Kernel: Depends on container host Compiler: gcc (Ubuntu 9.4.0-1ubuntu1~20.04.2) 9.4.0 RHEL9 Kernel: Depends on container host Compiler: gcc 11.5.0 20240719 (Red Hat 11.5.0-2) Ubuntu 22.04 Kernel: Depends on container host Compiler: gcc (Ubuntu 11.4.0-1ubuntu1~22.04) 11.4.0 RHEL8 Kernel: Depends on container host Compiler: gcc 8.5.0 20210514 (Red Hat 8.5.0-22) Windows Server 2022 Kernel: 10.0.20348.2031 Compiler: clang 15.0.7, gcc 14.1.0 (MinGW), and MSVC VS 19.39.33521 To view detailed results, visit: https://lab.dpdk.org/results/dashboard/patchsets/32998/ UNH-IOL DPDK Community Lab To manage your email subscriptions, visit: https://lab.dpdk.org/results/dashboard/preferences/subscriptions/