From mboxrd@z Thu Jan 1 00:00:00 1970 Return-Path: Received: from mails.dpdk.org (mails.dpdk.org [217.70.189.124]) by inbox.dpdk.org (Postfix) with ESMTP id AD39F46566 for ; Sat, 12 Apr 2025 00:35:37 +0200 (CEST) Received: from mails.dpdk.org (localhost [127.0.0.1]) by mails.dpdk.org (Postfix) with ESMTP id 8A7E04025F; Sat, 12 Apr 2025 00:35:37 +0200 (CEST) Received: from mail-ot1-f99.google.com (mail-ot1-f99.google.com [209.85.210.99]) by mails.dpdk.org (Postfix) with ESMTP id 015B34021E for ; Sat, 12 Apr 2025 00:35:35 +0200 (CEST) Received: by mail-ot1-f99.google.com with SMTP id 46e09a7af769-72c13802133so708580a34.3 for ; Fri, 11 Apr 2025 15:35:35 -0700 (PDT) DKIM-Signature: v=1; a=rsa-sha256; c=relaxed/relaxed; d=iol.unh.edu; s=unh-iol; t=1744410935; x=1745015735; darn=dpdk.org; h=references:in-reply-to:cc:to:from:subject:message-id:date:from:to :cc:subject:date:message-id:reply-to; bh=EdE188tYehk0GayNCMPCbz4hMIxLFJy3b/jr5tWemCU=; b=X3P4j2Bzh04ixZazVgJ1UYE5XF984SQzaGDVkaG5dU2vAdlhXZf5VWg/QlTxs0kCTD yx6+0/4o5A8nyNZ6WlRN3aYfHLqRih1pgsK/zKG/BlHv8/rytoHjoIE3Qr97h4l0t7gy fnupJudtWqwucLc+VhTAbnjvoF/sE1YuyhY40= X-Google-DKIM-Signature: v=1; a=rsa-sha256; c=relaxed/relaxed; d=1e100.net; s=20230601; t=1744410935; x=1745015735; h=references:in-reply-to:cc:to:from:subject:message-id:date :x-gm-message-state:from:to:cc:subject:date:message-id:reply-to; bh=EdE188tYehk0GayNCMPCbz4hMIxLFJy3b/jr5tWemCU=; b=lzlTsG3G4LC4TxBxDDn3cDituu8YcqKVUoM/rjXo1P990cPUN0uGQx+YjJtBVuV03h hWq81n93gd3MyKt4woD6lCtGQFzyxId79zL8ccPVd7jxHx8qKeScu6rZr4pMMW+Cnf4Y VrSPJK8zUHEKnUzjFLolv7udip9qgrcXfG01lWqRgE8LEIVACx7Ds+lFqo1PDQc7sAdt N2MPSHtAVwLXJcjfi7amgziR0wsDWAHWlXlDTMjX4C2wCw9CXBwuY2UhpUp51lnIOshS TA5PTTL9HF8Bf2X2CHRtpvp67ivcQHQpuuQzNFxQhZgLiwREibkYJCD5/hm1i2Ft0Ztd uMqg== X-Gm-Message-State: AOJu0YyufL8Na9rNSs0HllU0hv1HIXgskGG2O5L+0ysnO2hAO3kE9ym/ dG5MSQcYedhNS5IDoZFcMGo5jX3FFS2QEEg7xJZAj7jhQtOp312eslNHDNhpuw1MYicy+RVMWbx QfUvtlgQtv23ack18L1V2haV+G09juTHGHjhi0MW8bRqO3EUbW0xamLTW X-Gm-Gg: ASbGncswkDImrCoeqMc1HOx2zILBD4f9kfgc/jIpNdpirNH2p0iy7YbBVHmha2yAMsW QSzpgRGlB2pGYPJedBVIt6xHBl2e1wwgI6JkKZ3ncaEB00nlhprqYc5m8MZdSm3jodAwJxjhdLu uco1wKxD3woy89GnA/388nOpT8mmU7uWryOTniDPw421kPVBA7YB+3fz04nNMu6m5reF7PA9Oxn gqk1KSahWVDmoweYBF3Y6pf0P7EB+q7S4AwxBvbs1bhU8WXhJqVK+f/LbhPMGW0S3Vee7R/qlj3 lGUwEbn6FD1j/GQB9IIvwH2m1qVa+i9WpvQg8uTS0r8W8xhz X-Google-Smtp-Source: AGHT+IG8q6K8I5VmtbK0YovcY1QZFzYgWasPUEWwE1FrYd0TwXVF0DlBuzatT+WC4CNZWRxYGWmosgxa4Ps3 X-Received: by 2002:a05:6830:369b:b0:72c:3235:9c5b with SMTP id 46e09a7af769-72e8633d0bemr2798229a34.16.1744410934964; Fri, 11 Apr 2025 15:35:34 -0700 (PDT) Received: from postal.iol.unh.edu (postal.iol.unh.edu. [2606:4100:3880:1234::84]) by smtp-relay.gmail.com with ESMTPS id 006d021491bc7-6045f5c776bsm244941eaf.21.2025.04.11.15.35.34 (version=TLS1_2 cipher=ECDHE-ECDSA-AES128-GCM-SHA256 bits=128/128); Fri, 11 Apr 2025 15:35:34 -0700 (PDT) X-Relaying-Domain: iol.unh.edu Date: Fri, 11 Apr 2025 15:35:34 -0700 (PDT) Message-ID: <67f99936.050a0220.40895.9f9dSMTPIN_ADDED_MISSING@mx.google.com> Received: from [172.17.0.3] (unknown [172.18.0.217]) by postal.iol.unh.edu (Postfix) with ESMTP id 65E9F6052471; Fri, 11 Apr 2025 18:35:34 -0400 (EDT) Subject: |SUCCESS| pw152886-152889 [PATCH] [4/4] drivers: use macro to embed From: dpdklab@iol.unh.edu To: Test Report Cc: dpdk-test-reports@iol.unh.edu In-Reply-To: <1744400374-26620-5-git-send-email-andremue@linux.microsoft.com> References: <1744400374-26620-5-git-send-email-andremue@linux.microsoft.com> Content-Type: text/plain X-BeenThere: test-report@dpdk.org X-Mailman-Version: 2.1.29 Precedence: list List-Id: automatic DPDK test reports List-Unsubscribe: , List-Archive: List-Post: List-Help: List-Subscribe: , Errors-To: test-report-bounces@dpdk.org Test-Label: iol-unit-arm64-testing Test-Status: SUCCESS http://dpdk.org/patch/152889 _Testing PASS_ Submitter: Andre Muezerie Date: Friday, April 11 2025 19:39:33 DPDK git baseline: Repo:dpdk Branch: master CommitID:ca1690ebd224f148268285b15b97441ccdbdd07e 152886-152889 --> testing pass Upstream job id: Generic-Unit-Test-DPDK#330537 Test environment and result as below: +-----------------------------+----------------+------------------------------+---------------------------+--------------+ | Environment | dpdk_unit_test | cryptodev_sw_snow3g_autotest | cryptodev_sw_zuc_autotest | lpm_autotest | +=============================+================+==============================+===========================+==============+ | 32-bit Ubuntu 22.04.4 (ARM) | PASS | SKIPPED | SKIPPED | SKIPPED | +-----------------------------+----------------+------------------------------+---------------------------+--------------+ | Debian 12 (arm) | PASS | PASS | PASS | SKIPPED | +-----------------------------+----------------+------------------------------+---------------------------+--------------+ | CentOS Stream 10 (ARM) | PASS | SKIPPED | SKIPPED | SKIPPED | +-----------------------------+----------------+------------------------------+---------------------------+--------------+ | Fedora 40 (ARM) | PASS | SKIPPED | SKIPPED | SKIPPED | +-----------------------------+----------------+------------------------------+---------------------------+--------------+ | CentOS Stream 9 (ARM) | PASS | SKIPPED | SKIPPED | SKIPPED | +-----------------------------+----------------+------------------------------+---------------------------+--------------+ | Fedora 40 (ARM Clang) | PASS | SKIPPED | SKIPPED | SKIPPED | +-----------------------------+----------------+------------------------------+---------------------------+--------------+ | Ubuntu 24.04 (ARM) | PASS | SKIPPED | SKIPPED | SKIPPED | +-----------------------------+----------------+------------------------------+---------------------------+--------------+ | RHEL9 (ARM) | PASS | SKIPPED | SKIPPED | SKIPPED | +-----------------------------+----------------+------------------------------+---------------------------+--------------+ | Ubuntu 22.04 (ARM) | PASS | SKIPPED | SKIPPED | SKIPPED | +-----------------------------+----------------+------------------------------+---------------------------+--------------+ | Ubuntu 20.04 (ARM) | PASS | SKIPPED | SKIPPED | SKIPPED | +-----------------------------+----------------+------------------------------+---------------------------+--------------+ | Fedora 41 (ARM) | PASS | SKIPPED | SKIPPED | SKIPPED | +-----------------------------+----------------+------------------------------+---------------------------+--------------+ | Fedora 41 (ARM Clang) | PASS | SKIPPED | SKIPPED | SKIPPED | +-----------------------------+----------------+------------------------------+---------------------------+--------------+ | Ubuntu 20.04 ARM SVE | SKIPPED | SKIPPED | SKIPPED | PASS | +-----------------------------+----------------+------------------------------+---------------------------+--------------+ 32-bit Ubuntu 22.04.4 (ARM) Kernel: 5.15.83+ aarch64 Compiler: gcc (Ubuntu 11.4.0-1ubuntu1~22.04) 11.4.0 Debian 12 (arm) Kernel: Depends on container host Compiler: gcc (Debian 12.2.0-14) 12.2.0 CentOS Stream 10 (ARM) Kernel: Depends on container host Compiler: gcc 14.2.1 20241104 (Red Hat 14.2.1-6) Fedora 40 (ARM) Kernel: Depends on container host Compiler: gcc 14.2.1 20240912 (Red Hat 14.2.1-3) CentOS Stream 9 (ARM) Kernel: Depends on container host Compiler: gcc 11.5.0 20240719 (Red Hat 11.5.0-2) Fedora 40 (ARM Clang) Kernel: Depends on container host Compiler: clang 18.1.8 (Fedora 18.1.8-1.fc40) Ubuntu 24.04 (ARM) Kernel: Depends on container host Compiler: gcc (Ubuntu 13.3.0-6ubuntu2~24.04) 13.3.0 RHEL9 (ARM) Kernel: Depends on container host Compiler: gcc 11.5.0 20240719 (Red Hat 11.5.0-2) Ubuntu 22.04 (ARM) Kernel: Depends on container host Compiler: gcc (Ubuntu 11.4.0-1ubuntu1~22.04) 11.4.0 Ubuntu 20.04 (ARM) Kernel: Depends on container host Compiler: gcc (Ubuntu 9.4.0-1ubuntu1~20.04.2) 9.4.0 Fedora 41 (ARM) Kernel: Depends on container host Compiler: gcc 14.2.1 20240912 (Red Hat 14.2.1-3) Fedora 41 (ARM Clang) Kernel: Depends on container host Compiler: clang 19.1.5 (Fedora 19.1.5-1.fc41) Ubuntu 20.04 ARM SVE Kernel: Depends on container host Compiler: gcc (Ubuntu 10.5.0-1ubuntu1~20.04) 10.5.0 To view detailed results, visit: https://lab.dpdk.org/results/dashboard/patchsets/32998/ UNH-IOL DPDK Community Lab To manage your email subscriptions, visit: https://lab.dpdk.org/results/dashboard/preferences/subscriptions/