From mboxrd@z Thu Jan 1 00:00:00 1970 Return-Path: Received: from mails.dpdk.org (mails.dpdk.org [217.70.189.124]) by inbox.dpdk.org (Postfix) with ESMTP id 3D5FC46566 for ; Sat, 12 Apr 2025 01:27:51 +0200 (CEST) Received: from mails.dpdk.org (localhost [127.0.0.1]) by mails.dpdk.org (Postfix) with ESMTP id 102AF4025F; Sat, 12 Apr 2025 01:27:51 +0200 (CEST) Received: from mail-yb1-f226.google.com (mail-yb1-f226.google.com [209.85.219.226]) by mails.dpdk.org (Postfix) with ESMTP id 8CE2A4021E for ; Sat, 12 Apr 2025 01:27:49 +0200 (CEST) Received: by mail-yb1-f226.google.com with SMTP id 3f1490d57ef6-e7040987879so2346452276.2 for ; Fri, 11 Apr 2025 16:27:49 -0700 (PDT) DKIM-Signature: v=1; a=rsa-sha256; c=relaxed/relaxed; d=iol.unh.edu; s=unh-iol; t=1744414069; x=1745018869; darn=dpdk.org; h=references:in-reply-to:cc:to:from:subject:message-id:date:from:to :cc:subject:date:message-id:reply-to; bh=35+NywpN1ZqzC1+Vsqj+kyEkyfByRvvLxnSSOyLtsss=; b=JYwd9LbAIrB0zEp1i8JTMQHhNFGWaWwZkfBxk25jfy6AhyF/rHpKoTpJ0+ScXoU3Hq EU+uoBvj/T/KYa0L4JRK8Ej1vYi2WtBuX1QritRkTnHJQ/MkNYD3TPd+QwKYSCGG9ZYx feIqllNDpjI1A4QGSMCvv1olzK58wqgbUs1gg= X-Google-DKIM-Signature: v=1; a=rsa-sha256; c=relaxed/relaxed; d=1e100.net; s=20230601; t=1744414069; x=1745018869; h=references:in-reply-to:cc:to:from:subject:message-id:date :x-gm-message-state:from:to:cc:subject:date:message-id:reply-to; bh=35+NywpN1ZqzC1+Vsqj+kyEkyfByRvvLxnSSOyLtsss=; b=XbSdGdUh81rTWrmP+NMMMXbGZwxbzHXNNNBtjJEdnBJmEg/CDMD2SIEO26mg0euM78 Af4s7xnfORQMzj177ZzoEafQpLYq5oBTVRMD2K/ydNv8wGAmDCMGWQ644l2+nhLqWvt2 1oZRvk0R+y5jGYIq4NPItJdSPAtJNyP0LliAUlCsVDAHqoIwf1s9RQ/YwWShLQrs88vj KoDtXHcCigTLenxEmX4QAVybnz/V3YghPa0yKKCPMRHYW8d8hvqcXZF54+X003anN2DL DJjG++IUg6oayolwtlq6/CzCzMh71sH3ePd3IDCU53voRK6eRZv1fe6s2+WVPfvQvBhN 8wew== X-Gm-Message-State: AOJu0Yye355c51XP56WFkAv7DF2r9qRUC9yUbzbbbd3ZnmwVE4vTDzRh I5IXLJLTtB1SVWiutjFBKAC4V5qddSYuyf2IsLWaNzJ+eoh/HcZtxxSA699s3wqptsd3TE+yvTL BYPqXdChEQGWUlJoe7YvcQ0hqfxBCVKYaJJ2qr9qH X-Gm-Gg: ASbGncvZaCGY6OLZyc6rNljIkMhM/xlTB+0QVuy3A+FpDN0hMtuSPw0Zegisbf3zGRS E9Y+N7alzHcNetg/6I1yl0NPAd6/2D+ry1rnAJw2CX8aOtfEBb/HWARPjiBBEd5ULMBcZMbn81I FOV1jSYmh3Zo0TCppD3bmYgaQ4xK19bDQ9BFVgu6vG7jkBdRvKhrCsAviLEfSCo6B3JaSRLzobV aNwwl9w+DHhxJex5GB+IfeAozsCCks/+t6qoInREE0xHlpz6lpZDk5ZVZOi3TDuN/5830ZYNY2L 3NTRChhQKmBCYoS1Wc9AjMQcmuxIa8NrIIDj X-Google-Smtp-Source: AGHT+IG9sBiwk7H7gXilQ+kV4wrc51fliNXjGNshZjSVTJIwh8nWzkYFgp5o8HVJ3cqpolvtMx/0VBU1P7AZ X-Received: by 2002:a05:6902:2e0a:b0:e6d:f90e:f8d0 with SMTP id 3f1490d57ef6-e704df92890mr8502978276.49.1744414068679; Fri, 11 Apr 2025 16:27:48 -0700 (PDT) Received: from postal.iol.unh.edu (postal.iol.unh.edu. [132.177.123.84]) by smtp-relay.gmail.com with ESMTPS id 3f1490d57ef6-e703245ac57sm440032276.10.2025.04.11.16.27.48 (version=TLS1_2 cipher=ECDHE-ECDSA-AES128-GCM-SHA256 bits=128/128); Fri, 11 Apr 2025 16:27:48 -0700 (PDT) X-Relaying-Domain: iol.unh.edu Date: Fri, 11 Apr 2025 16:27:48 -0700 (PDT) Message-ID: <67f9a574.250a0220.78c69.31eaSMTPIN_ADDED_MISSING@mx.google.com> Received: from [172.17.0.3] (unknown [172.18.0.217]) by postal.iol.unh.edu (Postfix) with ESMTP id 4755E6052471; Fri, 11 Apr 2025 19:27:48 -0400 (EDT) Subject: |SUCCESS| pw152886-152889 [PATCH] [4/4] drivers: use macro to embed From: dpdklab@iol.unh.edu To: Test Report Cc: dpdk-test-reports@iol.unh.edu In-Reply-To: <1744400374-26620-5-git-send-email-andremue@linux.microsoft.com> References: <1744400374-26620-5-git-send-email-andremue@linux.microsoft.com> Content-Type: text/plain X-BeenThere: test-report@dpdk.org X-Mailman-Version: 2.1.29 Precedence: list List-Id: automatic DPDK test reports List-Unsubscribe: , List-Archive: List-Post: List-Help: List-Subscribe: , Errors-To: test-report-bounces@dpdk.org Test-Label: iol-compile-arm64-testing Test-Status: SUCCESS http://dpdk.org/patch/152889 _Testing PASS_ Submitter: Andre Muezerie Date: Friday, April 11 2025 19:39:33 DPDK git baseline: Repo:dpdk Branch: master CommitID:ca1690ebd224f148268285b15b97441ccdbdd07e 152886-152889 --> testing pass Upstream job id: Generic-DPDK-Compile-Meson#379451 Test environment and result as below: +----------------------------------------+--------------------+ | Environment | dpdk_meson_compile | +========================================+====================+ | RHEL9 (ARM) | PASS | +----------------------------------------+--------------------+ | Ubuntu 20.04 ARM GCC Cross Compile | PASS | +----------------------------------------+--------------------+ | Ubuntu 20.04 ARM SVE | PASS | +----------------------------------------+--------------------+ | Ubuntu 20.04 (ARM) | PASS | +----------------------------------------+--------------------+ | Fedora 40 (ARM) | PASS | +----------------------------------------+--------------------+ | Fedora 40 (ARM Clang) | PASS | +----------------------------------------+--------------------+ | Fedora 41 (ARM) | PASS | +----------------------------------------+--------------------+ | Debian 12 with MUSDK | PASS | +----------------------------------------+--------------------+ | Fedora 41 (ARM Clang) | PASS | +----------------------------------------+--------------------+ | CentOS Stream 9 (ARM) | PASS | +----------------------------------------+--------------------+ | Ubuntu 24.04 (ARM) | PASS | +----------------------------------------+--------------------+ | Ubuntu 22.04 (ARM) | PASS | +----------------------------------------+--------------------+ | CentOS Stream 10 (ARM) | PASS | +----------------------------------------+--------------------+ | Debian 12 (arm) | PASS | +----------------------------------------+--------------------+ | Ubuntu 20.04 aarch32 GCC Cross Compile | PASS | +----------------------------------------+--------------------+ | Ubuntu 20.04 ARM Clang Cross Compile | PASS | +----------------------------------------+--------------------+ RHEL9 (ARM) Kernel: Depends on container host Compiler: gcc 11.5.0 20240719 (Red Hat 11.5.0-2) Ubuntu 20.04 ARM GCC Cross Compile Kernel: Depends on container host Compiler: aarch64-linux-gnu-gcc (Ubuntu 9.4.0-1ubuntu1~20.04.2) 9.4.0 Ubuntu 20.04 ARM SVE Kernel: Depends on container host Compiler: gcc (Ubuntu 10.5.0-1ubuntu1~20.04) 10.5.0 Ubuntu 20.04 (ARM) Kernel: Depends on container host Compiler: gcc (Ubuntu 9.4.0-1ubuntu1~20.04.2) 9.4.0 Fedora 40 (ARM) Kernel: Depends on container host Compiler: gcc 14.2.1 20240912 (Red Hat 14.2.1-3) Fedora 40 (ARM Clang) Kernel: Depends on container host Compiler: clang 18.1.8 (Fedora 18.1.8-1.fc40) Fedora 41 (ARM) Kernel: Depends on container host Compiler: gcc 14.2.1 20240912 (Red Hat 14.2.1-3) Debian 12 with MUSDK Kernel: Depends on container host Compiler: gcc (Debian 12.2.0-14) 12.2.0 Fedora 41 (ARM Clang) Kernel: Depends on container host Compiler: clang 19.1.5 (Fedora 19.1.5-1.fc41) CentOS Stream 9 (ARM) Kernel: Depends on container host Compiler: gcc 11.5.0 20240719 (Red Hat 11.5.0-2) Ubuntu 24.04 (ARM) Kernel: Depends on container host Compiler: gcc (Ubuntu 13.3.0-6ubuntu2~24.04) 13.3.0 Ubuntu 22.04 (ARM) Kernel: Depends on container host Compiler: gcc (Ubuntu 11.4.0-1ubuntu1~22.04) 11.4.0 CentOS Stream 10 (ARM) Kernel: Depends on container host Compiler: gcc 14.2.1 20241104 (Red Hat 14.2.1-6) Debian 12 (arm) Kernel: Depends on container host Compiler: gcc (Debian 12.2.0-14) 12.2.0 Ubuntu 20.04 aarch32 GCC Cross Compile Kernel: Depends on container host Compiler: gcc 9.4.0 Ubuntu 20.04 ARM Clang Cross Compile Kernel: Depends on container host Compiler: clang 10.0.0-4ubuntu1 To view detailed results, visit: https://lab.dpdk.org/results/dashboard/patchsets/32998/ UNH-IOL DPDK Community Lab To manage your email subscriptions, visit: https://lab.dpdk.org/results/dashboard/preferences/subscriptions/