From mboxrd@z Thu Jan  1 00:00:00 1970
Return-Path: <test-report-bounces@dpdk.org>
Received: from mails.dpdk.org (mails.dpdk.org [217.70.189.124])
	by inbox.dpdk.org (Postfix) with ESMTP id E583646568
	for <public@inbox.dpdk.org>; Sat, 12 Apr 2025 04:19:00 +0200 (CEST)
Received: from mails.dpdk.org (localhost [127.0.0.1])
	by mails.dpdk.org (Postfix) with ESMTP id DFB3340658;
	Sat, 12 Apr 2025 04:19:00 +0200 (CEST)
Received: from mail-pg1-f226.google.com (mail-pg1-f226.google.com
 [209.85.215.226])
 by mails.dpdk.org (Postfix) with ESMTP id 041BD40285
 for <test-report@dpdk.org>; Sat, 12 Apr 2025 04:18:59 +0200 (CEST)
Received: by mail-pg1-f226.google.com with SMTP id
 41be03b00d2f7-af548cb1f83so2548478a12.3
 for <test-report@dpdk.org>; Fri, 11 Apr 2025 19:18:58 -0700 (PDT)
DKIM-Signature: v=1; a=rsa-sha256; c=relaxed/relaxed;
 d=iol.unh.edu; s=unh-iol; t=1744424338; x=1745029138; darn=dpdk.org;
 h=cc:to:from:subject:message-id:date:from:to:cc:subject:date
 :message-id:reply-to;
 bh=9e3Y29gZD5/fbl4EXU/xP0vOLuwkdbersQppiSG9wno=;
 b=dncOYrujC83BApYrz4yVrMc1URnVFeIvBSfjDdG3BNu3TTfD5vbvEWi8s/0cvq6WSU
 MSb1N70lyjrtGAtYXkHfefr6E1wS3ZkFhvJJAmj6UqY85EZB3VQ+Mwoqu+b8TYIJYjMN
 rmU8xnbavgqX6p1Aat+T3E7FPaA5Z3ICkZEKc=
X-Google-DKIM-Signature: v=1; a=rsa-sha256; c=relaxed/relaxed;
 d=1e100.net; s=20230601; t=1744424338; x=1745029138;
 h=cc:to:from:subject:message-id:date:x-gm-message-state:from:to:cc
 :subject:date:message-id:reply-to;
 bh=9e3Y29gZD5/fbl4EXU/xP0vOLuwkdbersQppiSG9wno=;
 b=RXglzXYZyYLdZn0ImCbIrihqyXUtk1dCWP77l6rd+E96Mszli6b/cVOperf3V4DHMI
 xqygUdv+PgNwuf1cNr6OQ49AYynLjUe9wc9W+OSTGtzyhp/FG1yZDUVacK8DBHtSMojP
 z/cXsPdq0T58YYUO0Yhpq1zNuudFpXadwkLYTs9TJ9Cq2+FaGpS7K3K4G5UIrN3dsd1M
 SIXZ1NjCkjtL6dUz3ODVe95xuD5p6Ys58qkadxrs13mh3VELPyHSwJ4kbbVkSxkgYIk0
 zbiCVyKZk92IJK8Otc005++9qAtQ5OGegohpPdPKuehDhR5lg+ljQfix//ORmyGUBbBC
 UI9A==
X-Gm-Message-State: AOJu0Yxd/34qjWjO/dKi39c1nYrISRPXDg4GzrGTk4jjp7CcfOl8BkjZ
 XQ34VXPSoYhVG0rc+nlMkfFBMN9mDk1FRZ5aCuOX4SRuLiPL8BIoiRjnlVLNow9LGNkFGk6OoaO
 B1zwXx5w16dU3zt2J7cDnYfqBVN8u79jYdxOiXzr/XE5I/5QPlp0xEbZ/
X-Gm-Gg: ASbGncuL2XVC+U9nJqaveAMX0i3Dl0hZo5QFMVSs1kMSNo1ruPbbWsteJGkUkpGH7Ct
 uD6+xQvVmsGnmydpxHGcGhOX65exxZ5B/E+oGYV5yOgNO2+9P7PLFdjkzoNNRd6GCJ9+QIGqvTf
 XviH0pxn0G6eg7tPWbYXSi1i85lOFNKK9UlWTk3/33upC66s0TaRR1dlFUnTYwIeWjIzCenks6P
 ol/2KhLKJ9lg+XOS5O49rvRmR8jWP8Mo2abnKg3GomPT3d573IJZcELHWUMzP622ubvR15rBhXz
 ZQ0yrz0pth5CkNa76JEscambW79rzZSFrZO4cvOzzHPOiaaV
X-Google-Smtp-Source: AGHT+IEutQam2oae4LXLH2V48Gr32LlsHyswBk4JDtmz4xbhhJlwsv244IEjDwFxJQEHgDLAd3HBl45Lsb5U
X-Received: by 2002:a17:903:17ce:b0:220:c178:b2e with SMTP id
 d9443c01a7336-22bea4b6177mr68083495ad.17.1744424337782; 
 Fri, 11 Apr 2025 19:18:57 -0700 (PDT)
Received: from postal.iol.unh.edu (postal.iol.unh.edu.
 [2606:4100:3880:1234::84]) by smtp-relay.gmail.com with ESMTPS id
 d9443c01a7336-22ac7c939basm3857065ad.71.2025.04.11.19.18.57
 (version=TLS1_2 cipher=ECDHE-ECDSA-AES128-GCM-SHA256 bits=128/128);
 Fri, 11 Apr 2025 19:18:57 -0700 (PDT)
X-Relaying-Domain: iol.unh.edu
Date: Fri, 11 Apr 2025 19:18:57 -0700 (PDT)
Message-ID: <67f9cd91.170a0220.107517.0d6eSMTPIN_ADDED_MISSING@mx.google.com>
Received: from [172.21.0.6] (unknown [172.18.0.240])
 by postal.iol.unh.edu (Postfix) with ESMTP id E6EC26052471;
 Fri, 11 Apr 2025 22:18:56 -0400 (EDT)
Subject: |SUCCESS| [GIT MASTER] ca1690ebd224f148268285b15b97441ccdbdd07e
From: dpdklab@iol.unh.edu
To: Test Report <test-report@dpdk.org>
Cc: dpdk-test-reports@iol.unh.edu
Content-Type: text/plain
X-BeenThere: test-report@dpdk.org
X-Mailman-Version: 2.1.29
Precedence: list
List-Id: automatic DPDK test reports <test-report.dpdk.org>
List-Unsubscribe: <https://mails.dpdk.org/options/test-report>,
 <mailto:test-report-request@dpdk.org?subject=unsubscribe>
List-Archive: <http://mails.dpdk.org/archives/test-report/>
List-Post: <mailto:test-report@dpdk.org>
List-Help: <mailto:test-report-request@dpdk.org?subject=help>
List-Subscribe: <https://mails.dpdk.org/listinfo/test-report>,
 <mailto:test-report-request@dpdk.org?subject=subscribe>
Errors-To: test-report-bounces@dpdk.org

_Testing PASS_

Branch: dpdk

ca1690ebd224f148268285b15b97441ccdbdd07e --> testing pass

Upstream job id: Generic-DPDK-Compile-Meson#379499

Test environment and result as below:

+----------------------------------------+--------------------+
|              Environment               | dpdk_meson_compile |
+========================================+====================+
| RHEL9 (ARM)                            | PASS               |
+----------------------------------------+--------------------+
| Ubuntu 20.04 ARM GCC Cross Compile     | PASS               |
+----------------------------------------+--------------------+
| Fedora 40 (ARM)                        | PASS               |
+----------------------------------------+--------------------+
| Ubuntu 20.04 ARM SVE                   | PASS               |
+----------------------------------------+--------------------+
| Debian 12 with MUSDK                   | PASS               |
+----------------------------------------+--------------------+
| Fedora 41 (ARM)                        | PASS               |
+----------------------------------------+--------------------+
| Fedora 40 (ARM Clang)                  | PASS               |
+----------------------------------------+--------------------+
| Ubuntu 20.04 (ARM)                     | PASS               |
+----------------------------------------+--------------------+
| Fedora 41 (ARM Clang)                  | PASS               |
+----------------------------------------+--------------------+
| Ubuntu 24.04 (ARM)                     | PASS               |
+----------------------------------------+--------------------+
| CentOS Stream 10 (ARM)                 | PASS               |
+----------------------------------------+--------------------+
| CentOS Stream 9 (ARM)                  | PASS               |
+----------------------------------------+--------------------+
| Ubuntu 22.04 (ARM)                     | PASS               |
+----------------------------------------+--------------------+
| Debian 12 (arm)                        | PASS               |
+----------------------------------------+--------------------+
| Ubuntu 20.04 ARM Clang Cross Compile   | PASS               |
+----------------------------------------+--------------------+
| Ubuntu 20.04 aarch32 GCC Cross Compile | PASS               |
+----------------------------------------+--------------------+


RHEL9 (ARM)
	Kernel: Depends on container host
	Compiler: gcc 11.5.0 20240719 (Red Hat 11.5.0-2)

Ubuntu 20.04 ARM GCC Cross Compile
	Kernel: Depends on container host
	Compiler: aarch64-linux-gnu-gcc (Ubuntu 9.4.0-1ubuntu1~20.04.2) 9.4.0

Fedora 40 (ARM)
	Kernel: Depends on container host
	Compiler: gcc 14.2.1 20240912 (Red Hat 14.2.1-3)

Ubuntu 20.04 ARM SVE
	Kernel: Depends on container host
	Compiler: gcc (Ubuntu 10.5.0-1ubuntu1~20.04) 10.5.0

Debian 12 with MUSDK
	Kernel: Depends on container host
	Compiler: gcc (Debian 12.2.0-14) 12.2.0

Fedora 41 (ARM)
	Kernel: Depends on container host
	Compiler: gcc 14.2.1 20240912 (Red Hat 14.2.1-3)

Fedora 40 (ARM Clang)
	Kernel: Depends on container host
	Compiler: clang 18.1.8 (Fedora 18.1.8-1.fc40)

Ubuntu 20.04 (ARM)
	Kernel: Depends on container host
	Compiler: gcc (Ubuntu 9.4.0-1ubuntu1~20.04.2) 9.4.0

Fedora 41 (ARM Clang)
	Kernel: Depends on container host
	Compiler: clang 19.1.5 (Fedora 19.1.5-1.fc41)

Ubuntu 24.04 (ARM)
	Kernel: Depends on container host
	Compiler: gcc (Ubuntu 13.3.0-6ubuntu2~24.04) 13.3.0

CentOS Stream 10 (ARM)
	Kernel: Depends on container host
	Compiler: gcc 14.2.1 20241104 (Red Hat 14.2.1-6)

CentOS Stream 9 (ARM)
	Kernel: Depends on container host
	Compiler: gcc 11.5.0 20240719 (Red Hat 11.5.0-2)

Ubuntu 22.04 (ARM)
	Kernel: Depends on container host
	Compiler: gcc (Ubuntu 11.4.0-1ubuntu1~22.04) 11.4.0

Debian 12 (arm)
	Kernel: Depends on container host
	Compiler: gcc (Debian 12.2.0-14) 12.2.0

Ubuntu 20.04 ARM Clang Cross Compile
	Kernel: Depends on container host
	Compiler: clang 10.0.0-4ubuntu1

Ubuntu 20.04 aarch32 GCC Cross Compile
	Kernel: Depends on container host
	Compiler: gcc 9.4.0

To view detailed results, visit:
https://lab.dpdk.org/results/dashboard/tarballs/33233/

UNH-IOL DPDK Community Lab

To manage your email subscriptions, visit: 
https://lab.dpdk.org/results/dashboard/preferences/subscriptions/