From mboxrd@z Thu Jan  1 00:00:00 1970
Return-Path: <test-report-bounces@dpdk.org>
Received: from mails.dpdk.org (mails.dpdk.org [217.70.189.124])
	by inbox.dpdk.org (Postfix) with ESMTP id 5785846585
	for <public@inbox.dpdk.org>; Mon, 14 Apr 2025 03:18:33 +0200 (CEST)
Received: from mails.dpdk.org (localhost [127.0.0.1])
	by mails.dpdk.org (Postfix) with ESMTP id 50645402C2;
	Mon, 14 Apr 2025 03:18:33 +0200 (CEST)
Received: from mail-yw1-f227.google.com (mail-yw1-f227.google.com
 [209.85.128.227])
 by mails.dpdk.org (Postfix) with ESMTP id 2513C400D7
 for <test-report@dpdk.org>; Mon, 14 Apr 2025 03:18:32 +0200 (CEST)
Received: by mail-yw1-f227.google.com with SMTP id
 00721157ae682-6fecfae554bso30732427b3.0
 for <test-report@dpdk.org>; Sun, 13 Apr 2025 18:18:32 -0700 (PDT)
DKIM-Signature: v=1; a=rsa-sha256; c=relaxed/relaxed;
 d=iol.unh.edu; s=unh-iol; t=1744593511; x=1745198311; darn=dpdk.org;
 h=cc:to:from:subject:message-id:date:from:to:cc:subject:date
 :message-id:reply-to;
 bh=rzX93Nha/t85BK67XfLWG5hy51Jhv7DJRaJzfFSgB88=;
 b=VGkG2VcrNPb3y5mIalWeqnDqcL6KmVh2Rw8ztQIPimj5eBBT3eD7zzhsyz8v/GetVX
 aMA/S+Jd+Xme5IMh77vZru4scOOwy70tROye/hW82E1JVyQ6sRvJEJ8CuD8UMM2YNSCr
 zx/SkIPg6FoveYZdxEa8W70aQJgtWaUhKVmys=
X-Google-DKIM-Signature: v=1; a=rsa-sha256; c=relaxed/relaxed;
 d=1e100.net; s=20230601; t=1744593511; x=1745198311;
 h=cc:to:from:subject:message-id:date:x-gm-message-state:from:to:cc
 :subject:date:message-id:reply-to;
 bh=rzX93Nha/t85BK67XfLWG5hy51Jhv7DJRaJzfFSgB88=;
 b=j3f2N39PkwU0OAHqPg+KF5mI70V9I+gAIcRw0sDa8hMCmK+3pMdzMvwvS5OJGyr6pH
 IsemYmhe8DoS9ttE5mKuxJ2iGAOOwVv3VysCUxR5fSElsdcsC62T0vcLOpO6AC7lG3S/
 ZjAnxZ2qwpTXmMGDPJn1TXyAWAUx2YwyRYbm5mWWha1cwd7mytT8Vo0P1O1zqOK8zfHC
 UNDD96RreZt+BnOABHCeaxi3Mt9a/NoGOx/pa/McueHhlA7BzDH83SsfbfIb/PQVYEBy
 nxYUtSIE54NjKSy61o2rJSLc1hW8qHNXBf2qcrGQhCtI0cEZ6xgymR1ouH1zORfGXFfg
 Dypw==
X-Gm-Message-State: AOJu0YxzlJxlaTQs9iV2d9NzP3lHk89+pYA4nC5bF01UC1thG8f2nFbO
 mBHaZGAohJR6ZfLCcP+2+ORoAFtHpmul2p6ObPlXNySbPcN3D5l5LrOHeYs9wArCtxgar81R+Jf
 vL/AxTIQGdxWj3IQp3fo/lryoSUtmt7ulkblkHMAZ
X-Gm-Gg: ASbGncsu3Wp9cCbUev2nPPJm0HoQNKJuO/4tuL+R6un78tFFOq31bej/Yp/PU2pQGR8
 IPmPt42QectcKB9zbJfqyCGhzRq3q81lKbP7D/NnvvD4u4SU660OdRpSGcci34Q1MKsYZ/6pqQl
 Mg9efNNXXZkaCSNwcuDXnXvwntp1g9u3XoDpfbrfvVfYws82F2MaTOE4jEoQT6R7l/CgtKE7BVt
 bgmCX3+Bi1irR1cpVZlt9cEjcZFs11Uvjc1211FLkMXQ+wba6sXZf++ANVGqQ/Evye2ZxGmbEYX
 B6aqtB/pXHaKWFslIj/PPgy+f87EqjK/ngNa
X-Google-Smtp-Source: AGHT+IEFZ7CMskifF1MunvsA5p6JmLSwX+fekER+QH4JnKevb07rmJb28QLMLfG97ZzS3MVgLNqiN0/7Bg+n
X-Received: by 2002:a05:690c:74ca:b0:703:b5ae:987e with SMTP id
 00721157ae682-7055998ef2bmr181691197b3.2.1744593511321; 
 Sun, 13 Apr 2025 18:18:31 -0700 (PDT)
Received: from postal.iol.unh.edu (postal.iol.unh.edu. [132.177.123.84])
 by smtp-relay.gmail.com with ESMTPS id
 00721157ae682-7053e13fbfcsm5224937b3.27.2025.04.13.18.18.31
 (version=TLS1_2 cipher=ECDHE-ECDSA-AES128-GCM-SHA256 bits=128/128);
 Sun, 13 Apr 2025 18:18:31 -0700 (PDT)
X-Relaying-Domain: iol.unh.edu
Date: Sun, 13 Apr 2025 18:18:31 -0700 (PDT)
Message-ID: <67fc6267.050a0220.189c48.6ff9SMTPIN_ADDED_MISSING@mx.google.com>
Received: from [172.21.0.6] (unknown [172.18.0.240])
 by postal.iol.unh.edu (Postfix) with ESMTP id DECDB6052471;
 Sun, 13 Apr 2025 21:18:30 -0400 (EDT)
Subject: |SUCCESS| [GIT MASTER] ca1690ebd224f148268285b15b97441ccdbdd07e
From: dpdklab@iol.unh.edu
To: Test Report <test-report@dpdk.org>
Cc: dpdk-test-reports@iol.unh.edu
Content-Type: text/plain
X-BeenThere: test-report@dpdk.org
X-Mailman-Version: 2.1.29
Precedence: list
List-Id: automatic DPDK test reports <test-report.dpdk.org>
List-Unsubscribe: <https://mails.dpdk.org/options/test-report>,
 <mailto:test-report-request@dpdk.org?subject=unsubscribe>
List-Archive: <http://mails.dpdk.org/archives/test-report/>
List-Post: <mailto:test-report@dpdk.org>
List-Help: <mailto:test-report-request@dpdk.org?subject=help>
List-Subscribe: <https://mails.dpdk.org/listinfo/test-report>,
 <mailto:test-report-request@dpdk.org?subject=subscribe>
Errors-To: test-report-bounces@dpdk.org

_Testing PASS_

Branch: dpdk

ca1690ebd224f148268285b15b97441ccdbdd07e --> testing pass

Upstream job id: Generic-DPDK-Compile-ABI#123222

Test environment and result as below:

+-------------------+----------+
|    Environment    | abi_test |
+===================+==========+
| CentOS Stream 10  | PASS     |
+-------------------+----------+
| Debian 12         | PASS     |
+-------------------+----------+
| CentOS Stream 9   | PASS     |
+-------------------+----------+
| Fedora 41 (Clang) | PASS     |
+-------------------+----------+
| Fedora 40 (Clang) | PASS     |
+-------------------+----------+
| Fedora 40         | PASS     |
+-------------------+----------+
| RHEL9             | PASS     |
+-------------------+----------+
| RHEL8             | PASS     |
+-------------------+----------+
| Ubuntu 24.04      | PASS     |
+-------------------+----------+
| Fedora 41         | PASS     |
+-------------------+----------+
| openSUSE Leap 15  | PASS     |
+-------------------+----------+
| Ubuntu 22.04      | PASS     |
+-------------------+----------+
| Arch Linux        | PASS     |
+-------------------+----------+


CentOS Stream 10
	Kernel: Depends on container host
	Compiler: gcc 14.2.1 20241104 (Red Hat 14.2.1-6)

Debian 12
	Kernel: Depends on container host
	Compiler: gcc (Debian 12.2.0-14) 12.2.0

CentOS Stream 9
	Kernel: Depends on container host
	Compiler: gcc 11.5.0 20240719 (Red Hat 11.5.0-2)

Fedora 41 (Clang)
	Kernel: Depends on container host
	Compiler: clang 19.1.5 (Fedora 19.1.5-1.fc41)

Fedora 40 (Clang)
	Kernel: Depends on container host
	Compiler: clang 18.1.8 (Fedora 18.1.8-1.fc40)

Fedora 40
	Kernel: Depends on container host
	Compiler: gcc 14.2.1 20240912 (Red Hat 14.2.1-3)

RHEL9
	Kernel: Depends on container host
	Compiler: gcc 11.5.0 20240719 (Red Hat 11.5.0-2)

RHEL8
	Kernel: Depends on container host
	Compiler: gcc 8.5.0 20210514 (Red Hat 8.5.0-22)

Ubuntu 24.04
	Kernel: Depends on container host
	Compiler: gcc (Ubuntu 13.3.0-6ubuntu2~24.04) 13.3.0

Fedora 41
	Kernel: Depends on container host
	Compiler: gcc 14.2.1 20240912 (Red Hat 14.2.1-3)

openSUSE Leap 15
	Kernel: Depends on container host
	Compiler: gcc (SUSE Linux) 7.5.0

Ubuntu 22.04
	Kernel: Depends on container host
	Compiler: gcc (Ubuntu 11.4.0-1ubuntu1~22.04) 11.4.0

Arch Linux
	Kernel: Depends on container host
	Compiler: gcc 14.2.1 20240910

To view detailed results, visit:
https://lab.dpdk.org/results/dashboard/tarballs/33242/

UNH-IOL DPDK Community Lab

To manage your email subscriptions, visit: 
https://lab.dpdk.org/results/dashboard/preferences/subscriptions/