From mboxrd@z Thu Jan  1 00:00:00 1970
Return-Path: <test-report-bounces@dpdk.org>
Received: from mails.dpdk.org (mails.dpdk.org [217.70.189.124])
	by inbox.dpdk.org (Postfix) with ESMTP id 1DE2446585
	for <public@inbox.dpdk.org>; Mon, 14 Apr 2025 03:47:23 +0200 (CEST)
Received: from mails.dpdk.org (localhost [127.0.0.1])
	by mails.dpdk.org (Postfix) with ESMTP id 1018940156;
	Mon, 14 Apr 2025 03:47:23 +0200 (CEST)
Received: from mail-il1-f227.google.com (mail-il1-f227.google.com
 [209.85.166.227])
 by mails.dpdk.org (Postfix) with ESMTP id 2D4B3400D7
 for <test-report@dpdk.org>; Mon, 14 Apr 2025 03:47:21 +0200 (CEST)
Received: by mail-il1-f227.google.com with SMTP id
 e9e14a558f8ab-3d5e2606a1bso35277505ab.0
 for <test-report@dpdk.org>; Sun, 13 Apr 2025 18:47:21 -0700 (PDT)
DKIM-Signature: v=1; a=rsa-sha256; c=relaxed/relaxed;
 d=iol.unh.edu; s=unh-iol; t=1744595240; x=1745200040; darn=dpdk.org;
 h=cc:to:from:subject:message-id:date:from:to:cc:subject:date
 :message-id:reply-to;
 bh=BR5zMRbZC5FeN9exUZWdI0Wpa4PHsUL0em5BadSlu/s=;
 b=T8Y0nASUyqkM1CXNyYneE2gKV7S/sUBu6Uelswi8zJ/9xz4jMPas+OiOsEsshvJRdL
 VTtXppdi4OzUUMcsFnmos5I+HTEq2Pshng4bJwtF4D2uyrJFlNEhLDKhG7jr1jg1l+pu
 FayAaWfi2ftBL9GBZjrUADzCCNnuGvSg1Jj/Q=
X-Google-DKIM-Signature: v=1; a=rsa-sha256; c=relaxed/relaxed;
 d=1e100.net; s=20230601; t=1744595240; x=1745200040;
 h=cc:to:from:subject:message-id:date:x-gm-message-state:from:to:cc
 :subject:date:message-id:reply-to;
 bh=BR5zMRbZC5FeN9exUZWdI0Wpa4PHsUL0em5BadSlu/s=;
 b=IaXKXbS9HRBMcZtum9ZVyQTqu2tVThJIN96jmhCsm0HHGiQHrSVGVtvGKPmNbDViVx
 zgXVgEbNfI3tXSAECDhRZvyS0JNxJ62mcWCeTdHZVSC5Q1zKDAo+9Cd0GxLJ640rinPn
 su5Pm43PdouBWyHNjlJctkYYnpR5I+eYbvLhE6Rx3mKBej6mokNidGsoyTZzxf4v/p0W
 9HbHbOIjxMrUwkfuQZTx2A3zDEzM3OcpCGPeehwSg+4qWz7dYIyL1rk/1cy0tguLlBcV
 1fXxUjSEwKdecQwxGbWYFZ9vP5GmPq4FoRoeWy1d8TE25Zy+XhnnRuuxG3Dd36mDkJkY
 +7EA==
X-Gm-Message-State: AOJu0Yw1gBar2k8E30e4fK89K/6q6pRb3USVKqaLgkPlBZhFZTmeEI+Q
 5qM6SfZ5OiADg+BSmZrDkw/WDcwWyTYR7BEsLqmfG3dcp0oKaecDNW68asi+Poi97XN7pNp/Yc2
 Uqtd/fHWMlrIP3l1xswZYOfmhJFvfRblhEIz1PlvoNNYkT/6Ex/P/Cnvv
X-Gm-Gg: ASbGnctEN109GWmk6zLhjlHOwkOZhRh/YyxaXCbBZ4lOZGZ2pXpMT0HfIGEDPuktSl0
 r1HG7kE/GMMQL+AxvQ96A6+w4B/AxHmJekyzVOS0dtQWT0W+Rg20vu/i+VKBYrMquFmk2qip4eD
 G+S00sZcBBJOoJepuM6SZ2sj8S2PTqNJdTVtZgf6AEn3pB7AJMjNOBRosTgSOEd6h7oaxy3/fgK
 QQlNkzQcwBh9Z1d9MFKiHIX86Gk+d16p3efzuTS1jKWMmQX0YI3PibPli0HU/8yda1P0Mo6VE2K
 6Cvj8K4yfSHCKQaI5dwfHq3MtWSCiWqiWxGEHGPtQLQ1442c
X-Google-Smtp-Source: AGHT+IG6pP2vRccZ3pvIEn/9y8ItSu58dEU8IaUpahRIH67xZVYTehhI4gIAfcLXWeO5rVWNK9dpVXUov+8T
X-Received: by 2002:a05:6e02:3805:b0:3d4:2ea4:6b8a with SMTP id
 e9e14a558f8ab-3d7ec27be0amr109978385ab.22.1744595240307; 
 Sun, 13 Apr 2025 18:47:20 -0700 (PDT)
Received: from postal.iol.unh.edu (postal.iol.unh.edu.
 [2606:4100:3880:1234::84]) by smtp-relay.gmail.com with ESMTPS id
 e9e14a558f8ab-3d7dba90444sm6290435ab.21.2025.04.13.18.47.20
 (version=TLS1_2 cipher=ECDHE-ECDSA-AES128-GCM-SHA256 bits=128/128);
 Sun, 13 Apr 2025 18:47:20 -0700 (PDT)
X-Relaying-Domain: iol.unh.edu
Date: Sun, 13 Apr 2025 18:47:20 -0700 (PDT)
Message-ID: <67fc6928.050a0220.1fc509.cd29SMTPIN_ADDED_MISSING@mx.google.com>
Received: from [172.17.0.3] (unknown [172.18.0.217])
 by postal.iol.unh.edu (Postfix) with ESMTP id B96B76052471;
 Sun, 13 Apr 2025 21:47:19 -0400 (EDT)
Subject: |SUCCESS| [GIT MASTER] ca1690ebd224f148268285b15b97441ccdbdd07e
From: dpdklab@iol.unh.edu
To: Test Report <test-report@dpdk.org>
Cc: dpdk-test-reports@iol.unh.edu
Content-Type: text/plain
X-BeenThere: test-report@dpdk.org
X-Mailman-Version: 2.1.29
Precedence: list
List-Id: automatic DPDK test reports <test-report.dpdk.org>
List-Unsubscribe: <https://mails.dpdk.org/options/test-report>,
 <mailto:test-report-request@dpdk.org?subject=unsubscribe>
List-Archive: <http://mails.dpdk.org/archives/test-report/>
List-Post: <mailto:test-report@dpdk.org>
List-Help: <mailto:test-report-request@dpdk.org?subject=help>
List-Subscribe: <https://mails.dpdk.org/listinfo/test-report>,
 <mailto:test-report-request@dpdk.org?subject=subscribe>
Errors-To: test-report-bounces@dpdk.org

_Testing PASS_

Branch: dpdk

ca1690ebd224f148268285b15b97441ccdbdd07e --> testing pass

Upstream job id: Generic-Unit-Test-DPDK#330786

Test environment and result as below:

+-----------------------------+----------------+--------------+---------------------------+------------------------------+
|         Environment         | dpdk_unit_test | lpm_autotest | cryptodev_sw_zuc_autotest | cryptodev_sw_snow3g_autotest |
+=============================+================+==============+===========================+==============================+
| 32-bit Ubuntu 22.04.4 (ARM) | PASS           | SKIPPED      | SKIPPED                   | SKIPPED                      |
+-----------------------------+----------------+--------------+---------------------------+------------------------------+
| CentOS Stream 9 (ARM)       | PASS           | SKIPPED      | SKIPPED                   | SKIPPED                      |
+-----------------------------+----------------+--------------+---------------------------+------------------------------+
| CentOS Stream 10 (ARM)      | PASS           | SKIPPED      | SKIPPED                   | SKIPPED                      |
+-----------------------------+----------------+--------------+---------------------------+------------------------------+
| Debian 12 (arm)             | PASS           | SKIPPED      | PASS                      | PASS                         |
+-----------------------------+----------------+--------------+---------------------------+------------------------------+
| Fedora 40 (ARM)             | PASS           | SKIPPED      | SKIPPED                   | SKIPPED                      |
+-----------------------------+----------------+--------------+---------------------------+------------------------------+
| Fedora 40 (ARM Clang)       | PASS           | SKIPPED      | SKIPPED                   | SKIPPED                      |
+-----------------------------+----------------+--------------+---------------------------+------------------------------+
| Fedora 41 (ARM Clang)       | PASS           | SKIPPED      | SKIPPED                   | SKIPPED                      |
+-----------------------------+----------------+--------------+---------------------------+------------------------------+
| RHEL9 (ARM)                 | PASS           | SKIPPED      | SKIPPED                   | SKIPPED                      |
+-----------------------------+----------------+--------------+---------------------------+------------------------------+
| Fedora 41 (ARM)             | PASS           | SKIPPED      | SKIPPED                   | SKIPPED                      |
+-----------------------------+----------------+--------------+---------------------------+------------------------------+
| Ubuntu 20.04 (ARM)          | PASS           | SKIPPED      | SKIPPED                   | SKIPPED                      |
+-----------------------------+----------------+--------------+---------------------------+------------------------------+
| Ubuntu 22.04 (ARM)          | PASS           | SKIPPED      | SKIPPED                   | SKIPPED                      |
+-----------------------------+----------------+--------------+---------------------------+------------------------------+
| Ubuntu 24.04 (ARM)          | PASS           | SKIPPED      | SKIPPED                   | SKIPPED                      |
+-----------------------------+----------------+--------------+---------------------------+------------------------------+
| Ubuntu 20.04 ARM SVE        | SKIPPED        | PASS         | SKIPPED                   | SKIPPED                      |
+-----------------------------+----------------+--------------+---------------------------+------------------------------+


32-bit Ubuntu 22.04.4 (ARM)
	Kernel: 5.15.83+ aarch64
	Compiler: gcc (Ubuntu 11.4.0-1ubuntu1~22.04) 11.4.0

CentOS Stream 9 (ARM)
	Kernel: Depends on container host
	Compiler: gcc 11.5.0 20240719 (Red Hat 11.5.0-2)

CentOS Stream 10 (ARM)
	Kernel: Depends on container host
	Compiler: gcc 14.2.1 20241104 (Red Hat 14.2.1-6)

Debian 12 (arm)
	Kernel: Depends on container host
	Compiler: gcc (Debian 12.2.0-14) 12.2.0

Fedora 40 (ARM)
	Kernel: Depends on container host
	Compiler: gcc 14.2.1 20240912 (Red Hat 14.2.1-3)

Fedora 40 (ARM Clang)
	Kernel: Depends on container host
	Compiler: clang 18.1.8 (Fedora 18.1.8-1.fc40)

Fedora 41 (ARM Clang)
	Kernel: Depends on container host
	Compiler: clang 19.1.5 (Fedora 19.1.5-1.fc41)

RHEL9 (ARM)
	Kernel: Depends on container host
	Compiler: gcc 11.5.0 20240719 (Red Hat 11.5.0-2)

Fedora 41 (ARM)
	Kernel: Depends on container host
	Compiler: gcc 14.2.1 20240912 (Red Hat 14.2.1-3)

Ubuntu 20.04 (ARM)
	Kernel: Depends on container host
	Compiler: gcc (Ubuntu 9.4.0-1ubuntu1~20.04.2) 9.4.0

Ubuntu 22.04 (ARM)
	Kernel: Depends on container host
	Compiler: gcc (Ubuntu 11.4.0-1ubuntu1~22.04) 11.4.0

Ubuntu 24.04 (ARM)
	Kernel: Depends on container host
	Compiler: gcc (Ubuntu 13.3.0-6ubuntu2~24.04) 13.3.0

Ubuntu 20.04 ARM SVE
	Kernel: Depends on container host
	Compiler: gcc (Ubuntu 10.5.0-1ubuntu1~20.04) 10.5.0

To view detailed results, visit:
https://lab.dpdk.org/results/dashboard/tarballs/33242/

UNH-IOL DPDK Community Lab

To manage your email subscriptions, visit: 
https://lab.dpdk.org/results/dashboard/preferences/subscriptions/