From mboxrd@z Thu Jan  1 00:00:00 1970
Return-Path: <test-report-bounces@dpdk.org>
Received: from mails.dpdk.org (mails.dpdk.org [217.70.189.124])
	by inbox.dpdk.org (Postfix) with ESMTP id 9C6A946587
	for <public@inbox.dpdk.org>; Mon, 14 Apr 2025 07:20:24 +0200 (CEST)
Received: from mails.dpdk.org (localhost [127.0.0.1])
	by mails.dpdk.org (Postfix) with ESMTP id 97F9240265;
	Mon, 14 Apr 2025 07:20:24 +0200 (CEST)
Received: from mail-pl1-f226.google.com (mail-pl1-f226.google.com
 [209.85.214.226])
 by mails.dpdk.org (Postfix) with ESMTP id 72A1740156
 for <test-report@dpdk.org>; Mon, 14 Apr 2025 07:20:23 +0200 (CEST)
Received: by mail-pl1-f226.google.com with SMTP id
 d9443c01a7336-223fb0f619dso39609185ad.1
 for <test-report@dpdk.org>; Sun, 13 Apr 2025 22:20:23 -0700 (PDT)
DKIM-Signature: v=1; a=rsa-sha256; c=relaxed/relaxed;
 d=iol.unh.edu; s=unh-iol; t=1744608022; x=1745212822; darn=dpdk.org;
 h=cc:to:from:subject:message-id:date:from:to:cc:subject:date
 :message-id:reply-to;
 bh=s1AvqsqVWzXsWbmwj5ObgxI5irj9eVSr2yi9lGfwRsQ=;
 b=eex/NmtRExHZjeNf7zhuOHUcl668NJOaiXiCutxg7VuD6vUDTUjudNf0Kzc5xlHTRi
 doIEC/EXXCVgN4kqBBOIwyd5jYs3X5pe3YPAv7EsxuKd02o05mfUTmZKQEck9ynJEjR+
 LOPIOG4jWBdLpu1hMtg8ZrcRY/wMzi9FeY5p4=
X-Google-DKIM-Signature: v=1; a=rsa-sha256; c=relaxed/relaxed;
 d=1e100.net; s=20230601; t=1744608022; x=1745212822;
 h=cc:to:from:subject:message-id:date:x-gm-message-state:from:to:cc
 :subject:date:message-id:reply-to;
 bh=s1AvqsqVWzXsWbmwj5ObgxI5irj9eVSr2yi9lGfwRsQ=;
 b=e86j94FLavIcWPzjHjLHcCZV299HIidAZloXpJ3O6eG/5uhOgATZ8srpUWo5p/jf1I
 gE+rRGOWjfAyo7KLUSPSvGE6O0T2MPO2WJnx/bSQFktuUv6jsYj8FSdCJY2Te1dL1RYX
 DV1VQ1HQ34KIIDrlSSF9pOEsSK8EsUD/is+b1a3JJJcjPhQnKJIaXhT/X427iBfRcQbC
 csXsICzzhAWNoDaUtLmYIg87pu81BZ/1GKHTOOk/TEnNx6V/uRK1ZLa2EHS2ireggIBh
 aVguO6V6b3eJ9/bQCIILJOxEbfiPx7hs/73yi+ObuSbxpFlpkGfuLcO9vBxlkFhIfuGN
 AN9A==
X-Gm-Message-State: AOJu0YxbkNcugXTl9OxPIgBeGZJ7gytNSY9rCHkUZYmS52AL+/Ishqwi
 rIPQe8DunrxRMyrt8Jc524kuQDvO2iU5kGmEaOuRnnFQV3XjMdCSwjVLm4bkfhqFEnq7OHBcDUH
 1qoWFxZS+oE/1WshdP6se/S+6BzMs9c1c
X-Gm-Gg: ASbGncu/XkVagJARu9C9RP8+71rt+leRR8sOLgnw2f50x4A83cSntWhfQbszlYgvw80
 +dWdKF+WcJXhMwtmQWyav4iUom78b0T1ocQkUj72Q1VXLXkUTw9bBh6OJ9VHbp1BuV733GXkhmt
 kRlE8w3F4Hf3QpW0ik1tf0gUB8Sj9/TJYgTjLq2mP/tK2JSjRlVuHenU8pl2rFoauTp+dl7NR9B
 U7+YfDnqFDSiizEjwoATje+bEJkd7ztUXF+eOisL/xlYYo9xns0hmimX5FuFSVbAr3onEXNLAYF
 /vf95wP4OHmX33GmKNovxuK+xerQqJ6J6Tw0
X-Google-Smtp-Source: AGHT+IFNAQHVKiq2+0ZjUNqpb+AXW1U13Ntz2lhnpPxrV1bsZJwBJxkQXDq3yS+7IeCDBknFQJL4seiScZv/
X-Received: by 2002:a17:903:1a03:b0:220:fce7:d3a6 with SMTP id
 d9443c01a7336-22bea4bca1cmr148200615ad.23.1744608022601; 
 Sun, 13 Apr 2025 22:20:22 -0700 (PDT)
Received: from postal.iol.unh.edu (postal.iol.unh.edu. [132.177.123.84])
 by smtp-relay.gmail.com with ESMTPS id
 d9443c01a7336-22ac7b40b07sm5783305ad.16.2025.04.13.22.20.22
 (version=TLS1_2 cipher=ECDHE-ECDSA-AES128-GCM-SHA256 bits=128/128);
 Sun, 13 Apr 2025 22:20:22 -0700 (PDT)
X-Relaying-Domain: iol.unh.edu
Date: Sun, 13 Apr 2025 22:20:22 -0700 (PDT)
Message-ID: <67fc9b16.170a0220.7a7e4.cb51SMTPIN_ADDED_MISSING@mx.google.com>
Received: from [172.21.0.5] (unknown [172.18.0.240])
 by postal.iol.unh.edu (Postfix) with ESMTP id 06E726052471;
 Mon, 14 Apr 2025 01:20:22 -0400 (EDT)
Subject: |SUCCESS| [GIT MASTER] c66daa12e76d7b4912cfb7109a761856a7a873ab
From: dpdklab@iol.unh.edu
To: Test Report <test-report@dpdk.org>
Cc: dpdk-test-reports@iol.unh.edu, Xueming Li <xuemingl@nvidia.com>,
 Christian Ehrhardt <christian.ehrhardt@canonical.com>,
 Kevin Traynor <ktraynor@redhat.com>, Luca Boccassi <bluca@debian.org>
Content-Type: text/plain
X-BeenThere: test-report@dpdk.org
X-Mailman-Version: 2.1.29
Precedence: list
List-Id: automatic DPDK test reports <test-report.dpdk.org>
List-Unsubscribe: <https://mails.dpdk.org/options/test-report>,
 <mailto:test-report-request@dpdk.org?subject=unsubscribe>
List-Archive: <http://mails.dpdk.org/archives/test-report/>
List-Post: <mailto:test-report@dpdk.org>
List-Help: <mailto:test-report-request@dpdk.org?subject=help>
List-Subscribe: <https://mails.dpdk.org/listinfo/test-report>,
 <mailto:test-report-request@dpdk.org?subject=subscribe>
Errors-To: test-report-bounces@dpdk.org

_Testing PASS_

Branch: tags/v23.11

c66daa12e76d7b4912cfb7109a761856a7a873ab --> testing pass

Upstream job id: Generic-Unit-Test-DPDK#330810

Test environment and result as below:

+-----------------------------+----------------+--------------+---------------------------+------------------------------+
|         Environment         | dpdk_unit_test | lpm_autotest | cryptodev_sw_zuc_autotest | cryptodev_sw_snow3g_autotest |
+=============================+================+==============+===========================+==============================+
| CentOS Stream 9 (ARM)       | PASS           | SKIPPED      | SKIPPED                   | SKIPPED                      |
+-----------------------------+----------------+--------------+---------------------------+------------------------------+
| CentOS Stream 10 (ARM)      | PASS           | SKIPPED      | SKIPPED                   | SKIPPED                      |
+-----------------------------+----------------+--------------+---------------------------+------------------------------+
| Fedora 40 (ARM Clang)       | PASS           | SKIPPED      | SKIPPED                   | SKIPPED                      |
+-----------------------------+----------------+--------------+---------------------------+------------------------------+
| Fedora 40 (ARM)             | PASS           | SKIPPED      | SKIPPED                   | SKIPPED                      |
+-----------------------------+----------------+--------------+---------------------------+------------------------------+
| Fedora 41 (ARM)             | PASS           | SKIPPED      | SKIPPED                   | SKIPPED                      |
+-----------------------------+----------------+--------------+---------------------------+------------------------------+
| Ubuntu 20.04 (ARM)          | PASS           | SKIPPED      | SKIPPED                   | SKIPPED                      |
+-----------------------------+----------------+--------------+---------------------------+------------------------------+
| Fedora 41 (ARM Clang)       | PASS           | SKIPPED      | SKIPPED                   | SKIPPED                      |
+-----------------------------+----------------+--------------+---------------------------+------------------------------+
| Ubuntu 22.04 (ARM)          | PASS           | SKIPPED      | SKIPPED                   | SKIPPED                      |
+-----------------------------+----------------+--------------+---------------------------+------------------------------+
| RHEL9 (ARM)                 | PASS           | SKIPPED      | SKIPPED                   | SKIPPED                      |
+-----------------------------+----------------+--------------+---------------------------+------------------------------+
| Ubuntu 24.04 (ARM)          | PASS           | SKIPPED      | SKIPPED                   | SKIPPED                      |
+-----------------------------+----------------+--------------+---------------------------+------------------------------+
| Debian 12 (arm)             | PASS           | SKIPPED      | PASS                      | PASS                         |
+-----------------------------+----------------+--------------+---------------------------+------------------------------+
| 32-bit Ubuntu 22.04.4 (ARM) | PASS           | SKIPPED      | SKIPPED                   | SKIPPED                      |
+-----------------------------+----------------+--------------+---------------------------+------------------------------+
| Ubuntu 20.04 ARM SVE        | SKIPPED        | PASS         | SKIPPED                   | SKIPPED                      |
+-----------------------------+----------------+--------------+---------------------------+------------------------------+


CentOS Stream 9 (ARM)
	Kernel: Depends on container host
	Compiler: gcc 11.5.0 20240719 (Red Hat 11.5.0-2)

CentOS Stream 10 (ARM)
	Kernel: Depends on container host
	Compiler: gcc 14.2.1 20241104 (Red Hat 14.2.1-6)

Fedora 40 (ARM Clang)
	Kernel: Depends on container host
	Compiler: clang 18.1.8 (Fedora 18.1.8-1.fc40)

Fedora 40 (ARM)
	Kernel: Depends on container host
	Compiler: gcc 14.2.1 20240912 (Red Hat 14.2.1-3)

Fedora 41 (ARM)
	Kernel: Depends on container host
	Compiler: gcc 14.2.1 20240912 (Red Hat 14.2.1-3)

Ubuntu 20.04 (ARM)
	Kernel: Depends on container host
	Compiler: gcc (Ubuntu 9.4.0-1ubuntu1~20.04.2) 9.4.0

Fedora 41 (ARM Clang)
	Kernel: Depends on container host
	Compiler: clang 19.1.5 (Fedora 19.1.5-1.fc41)

Ubuntu 22.04 (ARM)
	Kernel: Depends on container host
	Compiler: gcc (Ubuntu 11.4.0-1ubuntu1~22.04) 11.4.0

RHEL9 (ARM)
	Kernel: Depends on container host
	Compiler: gcc 11.5.0 20240719 (Red Hat 11.5.0-2)

Ubuntu 24.04 (ARM)
	Kernel: Depends on container host
	Compiler: gcc (Ubuntu 13.3.0-6ubuntu2~24.04) 13.3.0

Debian 12 (arm)
	Kernel: Depends on container host
	Compiler: gcc (Debian 12.2.0-14) 12.2.0

32-bit Ubuntu 22.04.4 (ARM)
	Kernel: 5.15.83+ aarch64
	Compiler: gcc (Ubuntu 11.4.0-1ubuntu1~22.04) 11.4.0

Ubuntu 20.04 ARM SVE
	Kernel: Depends on container host
	Compiler: gcc (Ubuntu 10.5.0-1ubuntu1~20.04) 10.5.0

To view detailed results, visit:
https://lab.dpdk.org/results/dashboard/tarballs/33244/

UNH-IOL DPDK Community Lab

To manage your email subscriptions, visit: 
https://lab.dpdk.org/results/dashboard/preferences/subscriptions/