From mboxrd@z Thu Jan  1 00:00:00 1970
Return-Path: <test-report-bounces@dpdk.org>
Received: from mails.dpdk.org (mails.dpdk.org [217.70.189.124])
	by inbox.dpdk.org (Postfix) with ESMTP id EE7544658C
	for <public@inbox.dpdk.org>; Mon, 14 Apr 2025 10:09:41 +0200 (CEST)
Received: from mails.dpdk.org (localhost [127.0.0.1])
	by mails.dpdk.org (Postfix) with ESMTP id AFDAB402C5;
	Mon, 14 Apr 2025 10:09:41 +0200 (CEST)
Received: from mail-qv1-f97.google.com (mail-qv1-f97.google.com
 [209.85.219.97]) by mails.dpdk.org (Postfix) with ESMTP id 8E2BC40270
 for <test-report@dpdk.org>; Mon, 14 Apr 2025 10:09:40 +0200 (CEST)
Received: by mail-qv1-f97.google.com with SMTP id
 6a1803df08f44-6e900a7ce55so62058666d6.3
 for <test-report@dpdk.org>; Mon, 14 Apr 2025 01:09:40 -0700 (PDT)
DKIM-Signature: v=1; a=rsa-sha256; c=relaxed/relaxed;
 d=iol.unh.edu; s=unh-iol; t=1744618180; x=1745222980; darn=dpdk.org;
 h=cc:to:from:subject:message-id:date:from:to:cc:subject:date
 :message-id:reply-to;
 bh=lii74naNw0KV/Y0RNuIrFewYW7lqAqz0YfCLxWf480Q=;
 b=RmrtbHPKu6Ig1zlcQe1gJaEzd/XFtclwL0HQhxWQUU/gRFKkaeOKgSbCFFoNSjMyzz
 RJs0/pWXj6abdYsNTFVCXQaDzzfk6QX+Nxfzvz6Oi4Lqij0079Y7ZSZpjyuvG5AvP096
 gDPWSt3ni3fVR1X3LAVeYDpxzDqN2JLh4cyYI=
X-Google-DKIM-Signature: v=1; a=rsa-sha256; c=relaxed/relaxed;
 d=1e100.net; s=20230601; t=1744618180; x=1745222980;
 h=cc:to:from:subject:message-id:date:x-gm-message-state:from:to:cc
 :subject:date:message-id:reply-to;
 bh=lii74naNw0KV/Y0RNuIrFewYW7lqAqz0YfCLxWf480Q=;
 b=IN9CRvSnIy55rN/BRqxLflQqoVbxsDBpQAwdxReUc+YrvvCxI9yP/V3MI0Efnm+QZA
 byEhzipqRAb8NR2x7pFNf5RfSImGy6alQzBlukCTq7IP2EP7h1gX6uPDZhcfRQE6WOOv
 bmgnw5/nxDiJalaXrY31f+iqXEqYVfRzqAa4poT5zm5zB+4qIv4UAdsVzp2ve44Ui9D5
 QGEwFDFKO7B9fhcisJ/sM+dYV7sYmTBh0y4qzpavvvmqWBqAcPDH4cQTV0I9x/5l8a6F
 tuhuZJUU43PF7HfdWM8zrQWYx4vM6vXCB9xKU2x36NX8tlQq83lMjrCBcrzfvFhVszXR
 sP1g==
X-Gm-Message-State: AOJu0YzKVYjI8gsQXvrdmH3X8njNGzYELoHrjuh+N1JreUEi0bPU0NUq
 ZghYBKTc8M7A8oX8V+5/yZW/RsnrqmMD6vJsC+HgO1FTT8Adyf/kcYzL65GCSnYPwC6BibZF9WM
 hRlm9d6Ig8GXTRLuEDWwScxOHHs3VJ8KQ
X-Gm-Gg: ASbGnctYDjY6NI/S2Ah4VIs9ysXgfBjxJGGDThGSFzWv45OW75X7sFoLQl3lMX8GFoK
 3kPulO6sZ3GQBaTk1Yag9othytiAhz+Rz/Sq57aGQ1xyOVHdbFqr9YMb8TehblHDrJN+yhxmqn2
 6IVa/Sw2XZmBGQeOrbl+Z3FK+GKs1CbmJ4UAWKxrm6hXaqMIvcch9fUHHwW+zX//9YAeVDvwCmF
 xv+PXdQIsHbkxor2D3Vhwh/RR01Snryru5ulCDZYhdYgNUc01XtrxvSUyYtQpP1cwKn+/nHO7vv
 vjD5XD7MnQnwtC1Q9N75bIEfbn/+jSGXUcNp
X-Google-Smtp-Source: AGHT+IFbeuVkz3vSKcswfG584R8gNV65G2mpUX+QgpflPjlFYxgctjT7vwGtazUyuJme70EgD/xPTIhl9OXv
X-Received: by 2002:ad4:5bc7:0:b0:6e8:9b26:8c5 with SMTP id
 6a1803df08f44-6f230ceb5a1mr186972726d6.10.1744618179742; 
 Mon, 14 Apr 2025 01:09:39 -0700 (PDT)
Received: from postal.iol.unh.edu (postal.iol.unh.edu. [132.177.123.84])
 by smtp-relay.gmail.com with ESMTPS id
 6a1803df08f44-6f0de96e40bsm6579546d6.24.2025.04.14.01.09.39
 (version=TLS1_2 cipher=ECDHE-ECDSA-AES128-GCM-SHA256 bits=128/128);
 Mon, 14 Apr 2025 01:09:39 -0700 (PDT)
X-Relaying-Domain: iol.unh.edu
Date: Mon, 14 Apr 2025 01:09:39 -0700 (PDT)
Message-ID: <67fcc2c3.050a0220.121d0.f7e2SMTPIN_ADDED_MISSING@mx.google.com>
Received: from [172.21.0.5] (unknown [172.18.0.240])
 by postal.iol.unh.edu (Postfix) with ESMTP id 49D176052472;
 Mon, 14 Apr 2025 04:09:39 -0400 (EDT)
Subject: |SUCCESS| [GIT MASTER] 03f2ed63a5f4e4b57365e358b49095ef4a82cf7d
From: dpdklab@iol.unh.edu
To: Test Report <test-report@dpdk.org>
Cc: dpdk-test-reports@iol.unh.edu, Xueming Li <xuemingl@nvidia.com>,
 Christian Ehrhardt <christian.ehrhardt@canonical.com>,
 Kevin Traynor <ktraynor@redhat.com>, Luca Boccassi <bluca@debian.org>
Content-Type: text/plain
X-BeenThere: test-report@dpdk.org
X-Mailman-Version: 2.1.29
Precedence: list
List-Id: automatic DPDK test reports <test-report.dpdk.org>
List-Unsubscribe: <https://mails.dpdk.org/options/test-report>,
 <mailto:test-report-request@dpdk.org?subject=unsubscribe>
List-Archive: <http://mails.dpdk.org/archives/test-report/>
List-Post: <mailto:test-report@dpdk.org>
List-Help: <mailto:test-report-request@dpdk.org?subject=help>
List-Subscribe: <https://mails.dpdk.org/listinfo/test-report>,
 <mailto:test-report-request@dpdk.org?subject=subscribe>
Errors-To: test-report-bounces@dpdk.org

_Testing PASS_

Branch: tags/v24.11

03f2ed63a5f4e4b57365e358b49095ef4a82cf7d --> testing pass

Upstream job id: Generic-VM-Unit-Test-DPDK#27964

Test environment and result as below:

+---------------------+----------------+
|     Environment     | dpdk_unit_test |
+=====================+================+
| CentOS Stream 9     | PASS           |
+---------------------+----------------+
| Debian 12           | PASS           |
+---------------------+----------------+
| CentOS Stream 10    | PASS           |
+---------------------+----------------+
| Fedora 40           | PASS           |
+---------------------+----------------+
| Fedora 41           | PASS           |
+---------------------+----------------+
| Fedora 41 (Clang)   | PASS           |
+---------------------+----------------+
| Fedora 40 (Clang)   | PASS           |
+---------------------+----------------+
| RHEL8               | PASS           |
+---------------------+----------------+
| RHEL9               | PASS           |
+---------------------+----------------+
| Ubuntu 20.04        | PASS           |
+---------------------+----------------+
| Ubuntu 22.04        | PASS           |
+---------------------+----------------+
| Ubuntu 24.04        | PASS           |
+---------------------+----------------+
| Windows Server 2022 | PASS           |
+---------------------+----------------+


CentOS Stream 9
	Kernel: Depends on container host
	Compiler: gcc 11.5.0 20240719 (Red Hat 11.5.0-2)

Debian 12
	Kernel: Depends on container host
	Compiler: gcc (Debian 12.2.0-14) 12.2.0

CentOS Stream 10
	Kernel: Depends on container host
	Compiler: gcc 14.2.1 20241104 (Red Hat 14.2.1-6)

Fedora 40
	Kernel: Depends on container host
	Compiler: gcc 14.2.1 20240912 (Red Hat 14.2.1-3)

Fedora 41
	Kernel: Depends on container host
	Compiler: gcc 14.2.1 20240912 (Red Hat 14.2.1-3)

Fedora 41 (Clang)
	Kernel: Depends on container host
	Compiler: clang 19.1.5 (Fedora 19.1.5-1.fc41)

Fedora 40 (Clang)
	Kernel: Depends on container host
	Compiler: clang 18.1.8 (Fedora 18.1.8-1.fc40)

RHEL8
	Kernel: Depends on container host
	Compiler: gcc 8.5.0 20210514 (Red Hat 8.5.0-22)

RHEL9
	Kernel: Depends on container host
	Compiler: gcc 11.5.0 20240719 (Red Hat 11.5.0-2)

Ubuntu 20.04
	Kernel: Depends on container host
	Compiler: gcc (Ubuntu 9.4.0-1ubuntu1~20.04.2) 9.4.0

Ubuntu 22.04
	Kernel: Depends on container host
	Compiler: gcc (Ubuntu 11.4.0-1ubuntu1~22.04) 11.4.0

Ubuntu 24.04
	Kernel: Depends on container host
	Compiler: gcc (Ubuntu 13.3.0-6ubuntu2~24.04) 13.3.0

Windows Server 2022
	Kernel: 10.0.20348.2031
	Compiler: clang 15.0.7, gcc 14.1.0 (MinGW), and MSVC VS 19.39.33521

To view detailed results, visit:
https://lab.dpdk.org/results/dashboard/tarballs/33243/

UNH-IOL DPDK Community Lab

To manage your email subscriptions, visit: 
https://lab.dpdk.org/results/dashboard/preferences/subscriptions/