From mboxrd@z Thu Jan 1 00:00:00 1970 Return-Path: Received: from mails.dpdk.org (mails.dpdk.org [217.70.189.124]) by inbox.dpdk.org (Postfix) with ESMTP id 138224658C for ; Mon, 14 Apr 2025 10:09:42 +0200 (CEST) Received: from mails.dpdk.org (localhost [127.0.0.1]) by mails.dpdk.org (Postfix) with ESMTP id BE348402CF; Mon, 14 Apr 2025 10:09:41 +0200 (CEST) Received: from mail-qv1-f97.google.com (mail-qv1-f97.google.com [209.85.219.97]) by mails.dpdk.org (Postfix) with ESMTP id 95D49402C5 for ; Mon, 14 Apr 2025 10:09:40 +0200 (CEST) Received: by mail-qv1-f97.google.com with SMTP id 6a1803df08f44-6ed0cc5eca4so53660216d6.1 for ; Mon, 14 Apr 2025 01:09:40 -0700 (PDT) DKIM-Signature: v=1; a=rsa-sha256; c=relaxed/relaxed; d=iol.unh.edu; s=unh-iol; t=1744618180; x=1745222980; darn=dpdk.org; h=references:in-reply-to:cc:to:from:subject:message-id:date:from:to :cc:subject:date:message-id:reply-to; bh=aLL+Uon9A7jpDAuKOxhdYh8sBngpb1hUEn5iwT6PLEs=; b=cTGLLEYD/rkgrkXMSnfr5jQu17GTmJ+NbyYxB7FCmrOaFaPoKgoipGZsZy9UEVuDok afiBOLNYntCe+blh4NVW0lRZzjUOmgeZTYjriCWj29R3vsdqGxvNsxf6rks1AFl76pPV xZlEw0nXvXlwqWZhTg3siqKawZ818P2bN7pUA= X-Google-DKIM-Signature: v=1; a=rsa-sha256; c=relaxed/relaxed; d=1e100.net; s=20230601; t=1744618180; x=1745222980; h=references:in-reply-to:cc:to:from:subject:message-id:date :x-gm-message-state:from:to:cc:subject:date:message-id:reply-to; bh=aLL+Uon9A7jpDAuKOxhdYh8sBngpb1hUEn5iwT6PLEs=; b=ih2u7Otmf7IZCXsU4F1gFCE+Fd1uzPVDDrqM9Zn7DfUYnRRFUmdyZldCxAzEVr/ImU 5zDUtDdxayyelMihceP1s0X9kV7JkV+30hU6LP9LoSMk1oB44Cwi4wLUVHFqkJxLG+86 ZCFFZGLR0kEk6NSxZ8Xlgde+FSAc6EZUt7MJNWNPqikp5TMMJhZaMyW4w7O9zUIZfNpi 13q0BAkLrH9PE1B5UTW3/GLcdjam8DhjeDObKaLMVrr/3Qnqd/zmydujafrJ3TPK7Knf S9mjg2o4c3a430YZkAx1BwndjIV0nDKQYykEkUMQWVJzIg/YqftUXO87G/EnU1zA30za 1TIA== X-Gm-Message-State: AOJu0YwuUhpwYAzm76GxdkjOmz2W2Hg7YP+ZyUeXNiz7AiN38OTB9wq/ AWDjBKidE84mMgAUyPbGxOla94OVF03zh/Mx3Mn2xpstZlEd3j8aUuD/r7D3ibajthyWhLLN77I JeEX4EzsIwkdVILxTxMAUQohXva9oe4MJ+BIuiF9+ X-Gm-Gg: ASbGncvgz4kBhq+TNEIqe2NLSTGx0ZVJjdhvErZZ0S5CqeR5ADWYZNBa0eZZrdAU9yx 5o1WXvQP7rsLo3xVlS3PoTWedOKDjb8rJE8D7s+F7Coiw+ZH4lO6Ga+GkWQDi5stxusHLSRzoWE ppuLvYJtdxoozDi2R/A66F736qy+NIDUliJgWlbxAdyVXNSDAmnCZmhRRHZ8BiNNlIoJApBCZhH u8eagsC/9fU4MyklCe9WxUigkljhFHwXrZ67nSJL5tdTnjlRCtnPqmik4zXj4wI2el/w6DXvwCx XupoIwjj9J/8ls43RwFSKeaioIOjealaIlKx X-Google-Smtp-Source: AGHT+IGoya38WFNrvH/jIxBwClLG5O//TdOwc6m5zUUmrOacCbxXuH+weNtlFSFjbS6XvOW5QyTihKk6u64A X-Received: by 2002:a05:6214:411e:b0:6e2:383f:4acd with SMTP id 6a1803df08f44-6f21415c54bmr174430696d6.7.1744618179743; Mon, 14 Apr 2025 01:09:39 -0700 (PDT) Received: from postal.iol.unh.edu (postal.iol.unh.edu. [132.177.123.84]) by smtp-relay.gmail.com with ESMTPS id 6a1803df08f44-6f0dea1337esm5928146d6.70.2025.04.14.01.09.39 (version=TLS1_2 cipher=ECDHE-ECDSA-AES128-GCM-SHA256 bits=128/128); Mon, 14 Apr 2025 01:09:39 -0700 (PDT) X-Relaying-Domain: iol.unh.edu Date: Mon, 14 Apr 2025 01:09:39 -0700 (PDT) Message-ID: <67fcc2c3.050a0220.2290ba.bb0cSMTPIN_ADDED_MISSING@mx.google.com> Received: from [172.17.0.6] (unknown [172.18.0.213]) by postal.iol.unh.edu (Postfix) with ESMTP id 40D3C6052471; Mon, 14 Apr 2025 04:09:39 -0400 (EDT) Subject: |SUCCESS| pw152904-152905 [PATCH] [2/2] net/nfp: fix control message From: dpdklab@iol.unh.edu To: Test Report Cc: dpdk-test-reports@iol.unh.edu In-Reply-To: <20250414060227.1251817-3-chaoyong.he@corigine.com> References: <20250414060227.1251817-3-chaoyong.he@corigine.com> Content-Type: text/plain X-BeenThere: test-report@dpdk.org X-Mailman-Version: 2.1.29 Precedence: list List-Id: automatic DPDK test reports List-Unsubscribe: , List-Archive: List-Post: List-Help: List-Subscribe: , Errors-To: test-report-bounces@dpdk.org Test-Label: iol-abi-testing Test-Status: SUCCESS http://dpdk.org/patch/152905 _Testing PASS_ Submitter: Chaoyong He Date: Monday, April 14 2025 06:02:27 DPDK git baseline: Repo:dpdk Branch: master CommitID:b69fb7abb6d211cb74284029c6cdb2066b9ac0e9 152904-152905 --> testing pass Upstream job id: Generic-DPDK-Compile-ABI#123277 Test environment and result as below: +-------------------+----------+ | Environment | abi_test | +===================+==========+ | CentOS Stream 9 | PASS | +-------------------+----------+ | CentOS Stream 10 | PASS | +-------------------+----------+ | Fedora 40 | PASS | +-------------------+----------+ | Fedora 40 (Clang) | PASS | +-------------------+----------+ | Ubuntu 22.04 | PASS | +-------------------+----------+ | Fedora 41 (Clang) | PASS | +-------------------+----------+ | Fedora 41 | PASS | +-------------------+----------+ | Debian 12 | PASS | +-------------------+----------+ | RHEL9 | PASS | +-------------------+----------+ | RHEL8 | PASS | +-------------------+----------+ | Ubuntu 24.04 | PASS | +-------------------+----------+ | openSUSE Leap 15 | PASS | +-------------------+----------+ CentOS Stream 9 Kernel: Depends on container host Compiler: gcc 11.5.0 20240719 (Red Hat 11.5.0-2) CentOS Stream 10 Kernel: Depends on container host Compiler: gcc 14.2.1 20241104 (Red Hat 14.2.1-6) Fedora 40 Kernel: Depends on container host Compiler: gcc 14.2.1 20240912 (Red Hat 14.2.1-3) Fedora 40 (Clang) Kernel: Depends on container host Compiler: clang 18.1.8 (Fedora 18.1.8-1.fc40) Ubuntu 22.04 Kernel: Depends on container host Compiler: gcc (Ubuntu 11.4.0-1ubuntu1~22.04) 11.4.0 Fedora 41 (Clang) Kernel: Depends on container host Compiler: clang 19.1.5 (Fedora 19.1.5-1.fc41) Fedora 41 Kernel: Depends on container host Compiler: gcc 14.2.1 20240912 (Red Hat 14.2.1-3) Debian 12 Kernel: Depends on container host Compiler: gcc (Debian 12.2.0-14) 12.2.0 RHEL9 Kernel: Depends on container host Compiler: gcc 11.5.0 20240719 (Red Hat 11.5.0-2) RHEL8 Kernel: Depends on container host Compiler: gcc 8.5.0 20210514 (Red Hat 8.5.0-22) Ubuntu 24.04 Kernel: Depends on container host Compiler: gcc (Ubuntu 13.3.0-6ubuntu2~24.04) 13.3.0 openSUSE Leap 15 Kernel: Depends on container host Compiler: gcc (SUSE Linux) 7.5.0 To view detailed results, visit: https://lab.dpdk.org/results/dashboard/patchsets/33001/ UNH-IOL DPDK Community Lab To manage your email subscriptions, visit: https://lab.dpdk.org/results/dashboard/preferences/subscriptions/