From mboxrd@z Thu Jan 1 00:00:00 1970 Return-Path: Received: from mails.dpdk.org (mails.dpdk.org [217.70.189.124]) by inbox.dpdk.org (Postfix) with ESMTP id F1DC64658C for ; Mon, 14 Apr 2025 10:11:07 +0200 (CEST) Received: from mails.dpdk.org (localhost [127.0.0.1]) by mails.dpdk.org (Postfix) with ESMTP id EC10F402CB; Mon, 14 Apr 2025 10:11:07 +0200 (CEST) Received: from mail-pg1-f228.google.com (mail-pg1-f228.google.com [209.85.215.228]) by mails.dpdk.org (Postfix) with ESMTP id E9410402C5 for ; Mon, 14 Apr 2025 10:11:06 +0200 (CEST) Received: by mail-pg1-f228.google.com with SMTP id 41be03b00d2f7-af590aea813so4571615a12.0 for ; Mon, 14 Apr 2025 01:11:06 -0700 (PDT) DKIM-Signature: v=1; a=rsa-sha256; c=relaxed/relaxed; d=iol.unh.edu; s=unh-iol; t=1744618266; x=1745223066; darn=dpdk.org; h=references:in-reply-to:cc:to:from:subject:message-id:date:from:to :cc:subject:date:message-id:reply-to; bh=sDHbnjdVNGFOa92Fiv7HPyiAkHUrQgC48r0bPj7R974=; b=GyNC7aiEnz8OCoY9tkIgbfz9py2Gb1n3rmDfG8b7YNxyZO1PPMwiPeQPqK4ea1a1uG dim9L3KE54Y+REoXzERZQr0y6/V09P5C5RZT/zO8TWISkFtgEKCXPq/gKGodbgQxmVMd GEok9QSO346FjuaX4IGkTg+EQRysL4ZYBntTg= X-Google-DKIM-Signature: v=1; a=rsa-sha256; c=relaxed/relaxed; d=1e100.net; s=20230601; t=1744618266; x=1745223066; h=references:in-reply-to:cc:to:from:subject:message-id:date :x-gm-message-state:from:to:cc:subject:date:message-id:reply-to; bh=sDHbnjdVNGFOa92Fiv7HPyiAkHUrQgC48r0bPj7R974=; b=k/NF7bpm1YryA7v4TwqZu2cPn7jdgprTnPaqMeb7YeqmYH8+y7unb1ZopDNFGef9Uz ptU5EtnLrzvtnZzelJHtH76MmCmT8FQikmeInBjIiUR0jeI73jdo7B83qVsUPXEqN8/g l64+zd7390uUuAFh3U3ZY17PdEKe7MQzHHkpenDf+Wh4zd9B78z2AI+XTyCBC4QK6mo+ F8LabZYnOC+FWZ5A5jdAiw+YWzMUfcewOVZfWpy33YI+1gyhHcGT3QCJnhHcYQxGsI05 SG1tgQxXWcUAEyI3hBpWQLAyqOm2pxy/2X35XOvNPV5cuOwPtvmpSAG1Y832Dmtnmy0P Sn1Q== X-Gm-Message-State: AOJu0Yz9f9iZbji1wkK/vslPcAuE7BFxI6XllqUnlB4mvecHFXeSvTQD adOAPs7yJz8WxB2s0Blu7ojmKYeKNacYuruwvr7QUZ3ECCGjPi5N5Or0G8gom7QYLFoX/kkoKgC 1ynBPEPALvwiHcrNP+1WDMjhCT/iiUKqLbUEWx9j0H0X8EIWLm/Xzy1wv X-Gm-Gg: ASbGncsSr28YceQdh8RhF92jx0ct4opVCYY8A7NIFcliMkXo0orBsjdHVxYEzbBRGZi G7Cu3WGpy0zAfLs6daKM4rXyCExwSU22ftXWpbZQe6+KcYY2Eu+RAgMmmuruk58SuDdkBomzPaB CF3d5h6dXAAcVxv2CcpzvKAluoIrH8/9ALuFdL29VURRQ1nN1B2xQWnESl6Yhf3kITllT9dwgBO 8Yn8MOkE1Whap5zTXQrlpZ+RaxS375Jq23vssqj2ky8qDELYNKfxSv9OENgClJCfAjTOIOh7Sr0 +UvZL/qOfPdzyovN/Yueprl9wm3OVPrmiPQO05HCixaN/RIG X-Google-Smtp-Source: AGHT+IFcV52t4+QseDNpkPzzxpWFsQ3CUsf6s6MNCRWV41oSRTb9L/vMFqEnhstqo0kIKCmC69Vdh/nO/6Tm X-Received: by 2002:a17:90b:5187:b0:2fa:2268:1af4 with SMTP id 98e67ed59e1d1-3077314433emr22349614a91.7.1744618265883; Mon, 14 Apr 2025 01:11:05 -0700 (PDT) Received: from postal.iol.unh.edu (postal.iol.unh.edu. [2606:4100:3880:1234::84]) by smtp-relay.gmail.com with ESMTPS id 98e67ed59e1d1-306dd11af91sm856900a91.4.2025.04.14.01.11.05 (version=TLS1_2 cipher=ECDHE-ECDSA-AES128-GCM-SHA256 bits=128/128); Mon, 14 Apr 2025 01:11:05 -0700 (PDT) X-Relaying-Domain: iol.unh.edu Date: Mon, 14 Apr 2025 01:11:05 -0700 (PDT) Message-ID: <67fcc319.170a0220.2987a0.7884SMTPIN_ADDED_MISSING@mx.google.com> Received: from [172.21.0.6] (unknown [172.18.0.240]) by postal.iol.unh.edu (Postfix) with ESMTP id 0925D6052471; Mon, 14 Apr 2025 04:11:05 -0400 (EDT) Subject: |SUCCESS| pw152904-152905 [PATCH] [2/2] net/nfp: fix control message From: dpdklab@iol.unh.edu To: Test Report Cc: dpdk-test-reports@iol.unh.edu In-Reply-To: <20250414060227.1251817-3-chaoyong.he@corigine.com> References: <20250414060227.1251817-3-chaoyong.he@corigine.com> Content-Type: text/plain X-BeenThere: test-report@dpdk.org X-Mailman-Version: 2.1.29 Precedence: list List-Id: automatic DPDK test reports List-Unsubscribe: , List-Archive: List-Post: List-Help: List-Subscribe: , Errors-To: test-report-bounces@dpdk.org Test-Label: iol-abi-testing Test-Status: SUCCESS http://dpdk.org/patch/152905 _Testing PASS_ Submitter: Chaoyong He Date: Monday, April 14 2025 06:02:27 DPDK git baseline: Repo:dpdk Branch: master CommitID:b69fb7abb6d211cb74284029c6cdb2066b9ac0e9 152904-152905 --> testing pass Upstream job id: Generic-DPDK-Compile-ABI#123273 Test environment and result as below: +-------------------+----------+ | Environment | abi_test | +===================+==========+ | CentOS Stream 9 | PASS | +-------------------+----------+ | CentOS Stream 10 | PASS | +-------------------+----------+ | Fedora 40 | PASS | +-------------------+----------+ | Fedora 40 (Clang) | PASS | +-------------------+----------+ | Ubuntu 22.04 | PASS | +-------------------+----------+ | Fedora 41 (Clang) | PASS | +-------------------+----------+ | Fedora 41 | PASS | +-------------------+----------+ | Debian 12 | PASS | +-------------------+----------+ | RHEL9 | PASS | +-------------------+----------+ | RHEL8 | PASS | +-------------------+----------+ | Ubuntu 24.04 | PASS | +-------------------+----------+ | openSUSE Leap 15 | PASS | +-------------------+----------+ CentOS Stream 9 Kernel: Depends on container host Compiler: gcc 11.5.0 20240719 (Red Hat 11.5.0-2) CentOS Stream 10 Kernel: Depends on container host Compiler: gcc 14.2.1 20241104 (Red Hat 14.2.1-6) Fedora 40 Kernel: Depends on container host Compiler: gcc 14.2.1 20240912 (Red Hat 14.2.1-3) Fedora 40 (Clang) Kernel: Depends on container host Compiler: clang 18.1.8 (Fedora 18.1.8-1.fc40) Ubuntu 22.04 Kernel: Depends on container host Compiler: gcc (Ubuntu 11.4.0-1ubuntu1~22.04) 11.4.0 Fedora 41 (Clang) Kernel: Depends on container host Compiler: clang 19.1.5 (Fedora 19.1.5-1.fc41) Fedora 41 Kernel: Depends on container host Compiler: gcc 14.2.1 20240912 (Red Hat 14.2.1-3) Debian 12 Kernel: Depends on container host Compiler: gcc (Debian 12.2.0-14) 12.2.0 RHEL9 Kernel: Depends on container host Compiler: gcc 11.5.0 20240719 (Red Hat 11.5.0-2) RHEL8 Kernel: Depends on container host Compiler: gcc 8.5.0 20210514 (Red Hat 8.5.0-22) Ubuntu 24.04 Kernel: Depends on container host Compiler: gcc (Ubuntu 13.3.0-6ubuntu2~24.04) 13.3.0 openSUSE Leap 15 Kernel: Depends on container host Compiler: gcc (SUSE Linux) 7.5.0 To view detailed results, visit: https://lab.dpdk.org/results/dashboard/patchsets/33001/ UNH-IOL DPDK Community Lab To manage your email subscriptions, visit: https://lab.dpdk.org/results/dashboard/preferences/subscriptions/