From mboxrd@z Thu Jan 1 00:00:00 1970 Return-Path: Received: from mails.dpdk.org (mails.dpdk.org [217.70.189.124]) by inbox.dpdk.org (Postfix) with ESMTP id 99B7E4658C for ; Mon, 14 Apr 2025 10:28:34 +0200 (CEST) Received: from mails.dpdk.org (localhost [127.0.0.1]) by mails.dpdk.org (Postfix) with ESMTP id 647C6402CC; Mon, 14 Apr 2025 10:28:34 +0200 (CEST) Received: from mail-pl1-f225.google.com (mail-pl1-f225.google.com [209.85.214.225]) by mails.dpdk.org (Postfix) with ESMTP id 3700A402C5 for ; Mon, 14 Apr 2025 10:28:33 +0200 (CEST) Received: by mail-pl1-f225.google.com with SMTP id d9443c01a7336-22928d629faso37903325ad.3 for ; Mon, 14 Apr 2025 01:28:33 -0700 (PDT) DKIM-Signature: v=1; a=rsa-sha256; c=relaxed/relaxed; d=iol.unh.edu; s=unh-iol; t=1744619312; x=1745224112; darn=dpdk.org; h=references:in-reply-to:cc:to:from:subject:message-id:date:from:to :cc:subject:date:message-id:reply-to; bh=hYRLmBdwA4zWT5xUmgeCHlaQIbWSl10VPOQ88OIazoc=; b=hQnSY8A21XtlffRqjS8k3qRx/aHkkXJR/ABaPbAoGWaBjUJ0exeCvlGWKxtGeKqtfa Id9Nu2VsMC0srWFtEgCU5Tz+6+nSYUM0sQBL/+VrwDgNbHDn8sb4gwv6L/8jmZqw3bES tZDEAKx47J8O/KH0EiYakZthQZf4u69bUxCUI= X-Google-DKIM-Signature: v=1; a=rsa-sha256; c=relaxed/relaxed; d=1e100.net; s=20230601; t=1744619312; x=1745224112; h=references:in-reply-to:cc:to:from:subject:message-id:date :x-gm-message-state:from:to:cc:subject:date:message-id:reply-to; bh=hYRLmBdwA4zWT5xUmgeCHlaQIbWSl10VPOQ88OIazoc=; b=ojPCtG533YI8qtDsR5i26eb/eUhPmoBRs0vRJL821cNmVtTvU/lPduajPK5gQ9KcOG MlUwlBqe9NMj5H3G5aPRpLxAwvqb7XGuaHPHaWnAjFQq16hF3piEHTDISgT+brRb16ef LWeM7gIuRNs1pthZaOhRuYTELbBa5zymerzT1FT6J55OaXkhEyTf8zPnrGrNSUwL7xHS t/fPig4FiGFroLXYbzzKYeBCedFwjlDGlhPEoGOD+ZnvM4/uMqm4DZzE9EA1tD4mQxz6 8U32IE0Wz9GrqtuUYM/n79XOWtxV1/w4lzcYW/k3vb22CBDApvPDw8EZTyDvd4fbi8Uh ipHw== X-Gm-Message-State: AOJu0YwKWdsr/L5ZyV7H+H/A/z/rmh3t+7vejr07EbtrYw7KR2vlWNEd 2EFe7pnyl4I/2Ivl8HEJXcTxCoYMyj4iEroUHFkqXf8Fsnujgin1/ONAYKl03lBcwkG4Qbwe8iN +8Vw6NtHVIRaAr+g8E7RXjCLjQxZVYZJ8FiEVMivr54Ih7J1xR3g7pTWa X-Gm-Gg: ASbGncuYIP5BhLnhTGgWYr7zqDpu6s9o3bvhMAhauQYAI7SHllpxZ5RBoCxr5htY0rP hvsV6T1VPqel/asVTtBnnqoyiA4rjUpEmAGU7FNqiXIbGUTcf76OJfb3JsySTTOPlMzLoWgy5V9 S+rtmpXyYRIlT3XvMnTrF1SHUbITstTMiM+x75l0aTFJ6xff14PauG0EcpJncsrWmhfdFd/YOCn pllbfNbz7t0uOJN9pvvKCZ2JTpEVSSQgrcoMn+rM3VYX0JIvyqNccNNWh59Au5bP5sXTgfnM8qI mzFn1r0N3lAmArce+QA6epedru0pL/4gLSIqgfL/jLz4Rc4Y X-Google-Smtp-Source: AGHT+IE4LgKQDwjWiL6qLLL40LdTH/9fdsMmFHhH3Ag7c0FFdT4IFOhsr45d103GSGiTCBsnXWinIW7wC7F9 X-Received: by 2002:a17:902:f68b:b0:223:44c5:4eb8 with SMTP id d9443c01a7336-22bea4eff6emr142781195ad.32.1744619311908; Mon, 14 Apr 2025 01:28:31 -0700 (PDT) Received: from postal.iol.unh.edu (postal.iol.unh.edu. [2606:4100:3880:1234::84]) by smtp-relay.gmail.com with ESMTPS id d2e1a72fcca58-73bd22ede2asm366988b3a.17.2025.04.14.01.28.31 (version=TLS1_2 cipher=ECDHE-ECDSA-AES128-GCM-SHA256 bits=128/128); Mon, 14 Apr 2025 01:28:31 -0700 (PDT) X-Relaying-Domain: iol.unh.edu Date: Mon, 14 Apr 2025 01:28:31 -0700 (PDT) Message-ID: <67fcc72f.050a0220.2fb1b.5bb5SMTPIN_ADDED_MISSING@mx.google.com> Received: from [172.17.0.6] (unknown [172.18.0.217]) by postal.iol.unh.edu (Postfix) with ESMTP id DAF906052471; Mon, 14 Apr 2025 04:28:30 -0400 (EDT) Subject: |SUCCESS| pw152904-152905 [PATCH] [2/2] net/nfp: fix control message From: dpdklab@iol.unh.edu To: Test Report Cc: dpdk-test-reports@iol.unh.edu In-Reply-To: <20250414060227.1251817-3-chaoyong.he@corigine.com> References: <20250414060227.1251817-3-chaoyong.he@corigine.com> Content-Type: text/plain X-BeenThere: test-report@dpdk.org X-Mailman-Version: 2.1.29 Precedence: list List-Id: automatic DPDK test reports List-Unsubscribe: , List-Archive: List-Post: List-Help: List-Subscribe: , Errors-To: test-report-bounces@dpdk.org Test-Label: iol-unit-amd64-testing Test-Status: SUCCESS http://dpdk.org/patch/152905 _Testing PASS_ Submitter: Chaoyong He Date: Monday, April 14 2025 06:02:27 DPDK git baseline: Repo:dpdk Branch: master CommitID:b69fb7abb6d211cb74284029c6cdb2066b9ac0e9 152904-152905 --> testing pass Upstream job id: Generic-VM-Unit-Test-DPDK#27965 Test environment and result as below: +---------------------+----------------+ | Environment | dpdk_unit_test | +=====================+================+ | Fedora 40 (Clang) | PASS | +---------------------+----------------+ | CentOS Stream 9 | PASS | +---------------------+----------------+ | Fedora 40 | PASS | +---------------------+----------------+ | Debian 12 | PASS | +---------------------+----------------+ | Fedora 41 | PASS | +---------------------+----------------+ | CentOS Stream 10 | PASS | +---------------------+----------------+ | RHEL9 | PASS | +---------------------+----------------+ | Ubuntu 20.04 | PASS | +---------------------+----------------+ | Fedora 41 (Clang) | PASS | +---------------------+----------------+ | RHEL8 | PASS | +---------------------+----------------+ | Ubuntu 24.04 | PASS | +---------------------+----------------+ | Ubuntu 22.04 | PASS | +---------------------+----------------+ | Windows Server 2022 | PASS | +---------------------+----------------+ Fedora 40 (Clang) Kernel: Depends on container host Compiler: clang 18.1.8 (Fedora 18.1.8-1.fc40) CentOS Stream 9 Kernel: Depends on container host Compiler: gcc 11.5.0 20240719 (Red Hat 11.5.0-2) Fedora 40 Kernel: Depends on container host Compiler: gcc 14.2.1 20240912 (Red Hat 14.2.1-3) Debian 12 Kernel: Depends on container host Compiler: gcc (Debian 12.2.0-14) 12.2.0 Fedora 41 Kernel: Depends on container host Compiler: gcc 14.2.1 20240912 (Red Hat 14.2.1-3) CentOS Stream 10 Kernel: Depends on container host Compiler: gcc 14.2.1 20241104 (Red Hat 14.2.1-6) RHEL9 Kernel: Depends on container host Compiler: gcc 11.5.0 20240719 (Red Hat 11.5.0-2) Ubuntu 20.04 Kernel: Depends on container host Compiler: gcc (Ubuntu 9.4.0-1ubuntu1~20.04.2) 9.4.0 Fedora 41 (Clang) Kernel: Depends on container host Compiler: clang 19.1.5 (Fedora 19.1.5-1.fc41) RHEL8 Kernel: Depends on container host Compiler: gcc 8.5.0 20210514 (Red Hat 8.5.0-22) Ubuntu 24.04 Kernel: Depends on container host Compiler: gcc (Ubuntu 13.3.0-6ubuntu2~24.04) 13.3.0 Ubuntu 22.04 Kernel: Depends on container host Compiler: gcc (Ubuntu 11.4.0-1ubuntu1~22.04) 11.4.0 Windows Server 2022 Kernel: 10.0.20348.2031 Compiler: clang 15.0.7, gcc 14.1.0 (MinGW), and MSVC VS 19.39.33521 To view detailed results, visit: https://lab.dpdk.org/results/dashboard/patchsets/33001/ UNH-IOL DPDK Community Lab To manage your email subscriptions, visit: https://lab.dpdk.org/results/dashboard/preferences/subscriptions/