From mboxrd@z Thu Jan 1 00:00:00 1970 Return-Path: Received: from mails.dpdk.org (mails.dpdk.org [217.70.189.124]) by inbox.dpdk.org (Postfix) with ESMTP id 7F30F46541 for ; Mon, 14 Apr 2025 11:09:23 +0200 (CEST) Received: from mails.dpdk.org (localhost [127.0.0.1]) by mails.dpdk.org (Postfix) with ESMTP id 58DC5402C5; Mon, 14 Apr 2025 11:09:23 +0200 (CEST) Received: from mail-qk1-f228.google.com (mail-qk1-f228.google.com [209.85.222.228]) by mails.dpdk.org (Postfix) with ESMTP id 7ADB8402A9 for ; Mon, 14 Apr 2025 11:09:22 +0200 (CEST) Received: by mail-qk1-f228.google.com with SMTP id af79cd13be357-7c54b651310so586613985a.0 for ; Mon, 14 Apr 2025 02:09:22 -0700 (PDT) DKIM-Signature: v=1; a=rsa-sha256; c=relaxed/relaxed; d=iol.unh.edu; s=unh-iol; t=1744621762; x=1745226562; darn=dpdk.org; h=references:in-reply-to:cc:to:from:subject:message-id:date:from:to :cc:subject:date:message-id:reply-to; bh=ylqUwfjzIIkQfq1CoMLgBp8I9V0qlK/hH2zb8E6e/7M=; b=BQDxqTc3VOuYGIY/bgB8xxrA3ZTFtAsfDDvUdwuMHKFwfBxNkMVlqTaBFz7PYPQvNP ORbZU1Kv4en16PdgpEQnKqAf3JdtQTGHP/h2I8dJLxaIpWFSElsxkEbhPTDhjkzzsnGX GO67JKBFOBGJlmJnfcXE5EJUQPS4tpoIh6ahs= X-Google-DKIM-Signature: v=1; a=rsa-sha256; c=relaxed/relaxed; d=1e100.net; s=20230601; t=1744621762; x=1745226562; h=references:in-reply-to:cc:to:from:subject:message-id:date :x-gm-message-state:from:to:cc:subject:date:message-id:reply-to; bh=ylqUwfjzIIkQfq1CoMLgBp8I9V0qlK/hH2zb8E6e/7M=; b=c9fGienI2kBWvxNRrzL1N2MmlrV+LQ37RtLs3v0MObe6PNfFfkogCt5P/b0Ka+SXVt wlEyLjbS5ARRCEK8OiwnMDKmBImLeNQfEb8UYgVlifNy85obOnvcUg9GO8UIwtqrihGD QVRq/RixJZrLNWxmkTK99j70Eepd8ACQ1CXcuxXGPj6YMff7gZ7f/6O7OAe2sZXZFmDo GpsiIh9idGYQsLs07+pTx6p/j74JMiW4r650PFLYcRjgiPIc1Jpb0jYNXITQZDkNXU8a hWxDPxBah3UhgNa6mJDOlNo3D7u8BaODX627xY72QakIlQjmXab0gra64j4SMbUd/plB WCnw== X-Gm-Message-State: AOJu0Yxzqy0r1FIx/VBCbzLUQ+iHfdRl0+e8KyowohNKNI/hqhHx5p2E Ukv1djJo9wjsj9QGU6qs3mcmHJ1ht/I6irBagqGoKIhF3k+nCTefC+rwyXycpfwxYzCxTRdi4L3 6nX2TXC5IQbUzIYU6riWU8+/CXx+FHgVvLUMokknK X-Gm-Gg: ASbGncuZdm9WnGbqe/Ze7WxJW8R8eooVVomQjP1QpOGo7CgnBgbiPNHfGRpAuUAHA1q dc6jQzNfSdLp7VNtFz8ixqcxDssXEcmReIgA+J99ZT5TOZ6OBklKIoAzDOA7SfHVbQPF9V5JPPT yKDwNjbZK6P5w85lTaUv6/kF++f88Twcq53gBRTaEY4QO54mUt+SBPgFPS9sPAT7fGSRCuo0zGF DBjrRULRYH6oDa7tBdKv8UyBMRfEFQIx7rv+/cyvEse04JBtBJBb2mmbveAGROwmWf4+/vGOM3V JeHMNcs7u20hLLUke2Wi3w6eKjkZ+O34CFzf X-Google-Smtp-Source: AGHT+IG0Dl2emMml30YYZVOkFVwD0/Y3PbQNW6GWgmR95oLdu40uQ87iTJfs4aRrtcy9ifC/d4RwI512CTp1 X-Received: by 2002:a05:620a:29c8:b0:7c7:7dba:6ac4 with SMTP id af79cd13be357-7c7af0e32ffmr1513373385a.31.1744621761631; Mon, 14 Apr 2025 02:09:21 -0700 (PDT) Received: from postal.iol.unh.edu (postal.iol.unh.edu. [132.177.123.84]) by smtp-relay.gmail.com with ESMTPS id af79cd13be357-7c7a89dd47csm42143785a.3.2025.04.14.02.09.21 (version=TLS1_2 cipher=ECDHE-ECDSA-AES128-GCM-SHA256 bits=128/128); Mon, 14 Apr 2025 02:09:21 -0700 (PDT) X-Relaying-Domain: iol.unh.edu Date: Mon, 14 Apr 2025 02:09:21 -0700 (PDT) Message-ID: <67fcd0c1.050a0220.2fff5e.5ea5SMTPIN_ADDED_MISSING@mx.google.com> Received: from [172.17.0.4] (unknown [172.18.0.217]) by postal.iol.unh.edu (Postfix) with ESMTP id 3CA306052471; Mon, 14 Apr 2025 05:09:21 -0400 (EDT) Subject: |SUCCESS| pw152904-152905 [PATCH] [2/2] net/nfp: fix control message From: dpdklab@iol.unh.edu To: Test Report Cc: dpdk-test-reports@iol.unh.edu In-Reply-To: <20250414060227.1251817-3-chaoyong.he@corigine.com> References: <20250414060227.1251817-3-chaoyong.he@corigine.com> Content-Type: text/plain X-BeenThere: test-report@dpdk.org X-Mailman-Version: 2.1.29 Precedence: list List-Id: automatic DPDK test reports List-Unsubscribe: , List-Archive: List-Post: List-Help: List-Subscribe: , Errors-To: test-report-bounces@dpdk.org Test-Label: iol-sample-apps-testing Test-Status: SUCCESS http://dpdk.org/patch/152905 _Testing PASS_ Submitter: Chaoyong He Date: Monday, April 14 2025 06:02:27 DPDK git baseline: Repo:dpdk Branch: master CommitID:b69fb7abb6d211cb74284029c6cdb2066b9ac0e9 152904-152905 --> testing pass Upstream job id: ACVP-FIPS-testing#9533 Test environment and result as below: +--------------------+----------------------+----------------------+ | Environment | compressdev_zlib_pmd | dpdk_fips_validation | +====================+======================+======================+ | Ubuntu 22.04 (ARM) | PASS | SKIPPED | +--------------------+----------------------+----------------------+ | Ubuntu 22.04 | PASS | SKIPPED | +--------------------+----------------------+----------------------+ | Ubuntu 20.04 | SKIPPED | PASS | +--------------------+----------------------+----------------------+ Ubuntu 22.04 (ARM) Kernel: 5.15.0-97-generic Compiler: gcc gcc (Ubuntu 11.4.0-1ubuntu1~22.04) 11.4.0 Ubuntu 22.04 Kernel: 5.15.0-100-generic Compiler: gcc gcc (Ubuntu 11.4.0-1ubuntu1~22.04) 11.4.0 Ubuntu 20.04 Kernel: Depends on container host Compiler: gcc (Ubuntu 9.4.0-1ubuntu1~20.04.2) 9.4.0 To view detailed results, visit: https://lab.dpdk.org/results/dashboard/patchsets/33001/ UNH-IOL DPDK Community Lab To manage your email subscriptions, visit: https://lab.dpdk.org/results/dashboard/preferences/subscriptions/