From mboxrd@z Thu Jan  1 00:00:00 1970
Return-Path: <test-report-bounces@dpdk.org>
Received: from mails.dpdk.org (mails.dpdk.org [217.70.189.124])
	by inbox.dpdk.org (Postfix) with ESMTP id 5350F46590
	for <public@inbox.dpdk.org>; Tue, 15 Apr 2025 00:06:31 +0200 (CEST)
Received: from mails.dpdk.org (localhost [127.0.0.1])
	by mails.dpdk.org (Postfix) with ESMTP id 1492F402CC;
	Tue, 15 Apr 2025 00:06:31 +0200 (CEST)
Received: from mail-qv1-f98.google.com (mail-qv1-f98.google.com
 [209.85.219.98]) by mails.dpdk.org (Postfix) with ESMTP id CD3C3402A1
 for <test-report@dpdk.org>; Tue, 15 Apr 2025 00:06:28 +0200 (CEST)
Received: by mail-qv1-f98.google.com with SMTP id
 6a1803df08f44-6f0ad74483fso51986096d6.1
 for <test-report@dpdk.org>; Mon, 14 Apr 2025 15:06:28 -0700 (PDT)
DKIM-Signature: v=1; a=rsa-sha256; c=relaxed/relaxed;
 d=iol.unh.edu; s=unh-iol; t=1744668388; x=1745273188; darn=dpdk.org;
 h=references:in-reply-to:cc:to:from:subject:message-id:date:from:to
 :cc:subject:date:message-id:reply-to;
 bh=WcHioiBHmxtVe8sfoB1JzaNr6jNDGgH6pxN1m1fx+kc=;
 b=Tza/ZmiczvmVptTZVHombVkSv38JSwEK/JQcio0ibvlrxWwfiJXJqpJGBs1f21vTJ8
 UaMHERyjDziB9peYDylq6jAbZEEBXvUDglVhazLnYC3t3/RhEpIa0NEVZRxZuvmhmO82
 9cIpFe7vhUS5UP04cUEsemlAlX6SETSSMeWuA=
X-Google-DKIM-Signature: v=1; a=rsa-sha256; c=relaxed/relaxed;
 d=1e100.net; s=20230601; t=1744668388; x=1745273188;
 h=references:in-reply-to:cc:to:from:subject:message-id:date
 :x-gm-message-state:from:to:cc:subject:date:message-id:reply-to;
 bh=WcHioiBHmxtVe8sfoB1JzaNr6jNDGgH6pxN1m1fx+kc=;
 b=bqQrqJMYMSBD/DCmfIbnTIXyQtLpj84RPDf+RqahUvsazYTFv3rB1hBdGbvzHBCyBk
 pZveBy6CGagQro5W9QrbH9U5rYz/fUuaKiujHeAOT+vPegieLkB0RFcMk0cU0uA8e91d
 ocjp53WDtxhKUi8XTGwYvRYzLYw6XZMvkq6hBRj2jwJEy7uFNGaiZwXRhfZKDf6lbAJM
 /p0SPT7Sy2VRAu94WVK2rtd8zpcs17VcaMB2s6qgw7u9/gOG+0RZzma7qadsi3QcpPeJ
 +bXcwd1cJFXiy+CMl7JA23ZSAUwxTQsDwecFyTQggOkuD+Trx20lkvINZOVBH5h75e4h
 w3sg==
X-Gm-Message-State: AOJu0Yw5Gj8gMcTo40ihOgYI6vUWS5nKCAGVtpuIugFSjLx/4EQ9TIvs
 n0inkBjL2zGyhW8tMHG+AcUcanchwRCakslV3Y5ZEtB/9+SLrScVtJYwK4+HbV9gTlwupuR09xH
 ks+3K2nRFeuhpMOvrM5dHqqt0eUPcSd9Ltg94lZvl
X-Gm-Gg: ASbGnctsmBfZ1GsFpE2nXaqdeqIzZeiAZX8kmVao7ZJvIgooaABOnMY53UL1VprerOm
 N62g6uESjKMCjs93VWMW+cnFNBQ0LLLhZmJHEBAzrIdX2mQPGoC+l7rkmpDKBIy5cMCJ3KeqIKq
 biG6cnzXd7Q6aDyUzvUWfjqRMqLJ3ImFnJIVA24jgRNyVXqI9+zuv4lq6xu6AkhccBqEIHbfnfh
 yPVAw7lCflLrgDbHd/ocYprefYPEXcTblCE2AuG5zHZAGMjZ1Igzc+hj3XHXQkNDbwVCCfXOyAp
 JlbhV9lYa2SkF5bYWqGpCmPP62DEwdXq1L1K
X-Google-Smtp-Source: AGHT+IE3+MzwcM6qBRQJ73R9N94UdOlh31MmrtQK+DiuTzQX5JrUeZalzeXGIxyipccYY5vxgI9NuICRcH34
X-Received: by 2002:a05:6214:1ccb:b0:6ed:15ce:e33e with SMTP id
 6a1803df08f44-6f230dc388bmr237315166d6.27.1744668387997; 
 Mon, 14 Apr 2025 15:06:27 -0700 (PDT)
Received: from postal.iol.unh.edu (postal.iol.unh.edu. [132.177.123.84])
 by smtp-relay.gmail.com with ESMTPS id
 6a1803df08f44-6f0dea0a6d3sm7140046d6.49.2025.04.14.15.06.27
 (version=TLS1_2 cipher=ECDHE-ECDSA-AES128-GCM-SHA256 bits=128/128);
 Mon, 14 Apr 2025 15:06:27 -0700 (PDT)
X-Relaying-Domain: iol.unh.edu
Date: Mon, 14 Apr 2025 15:06:27 -0700 (PDT)
Message-ID: <67fd86e3.d40a0220.1153b3.2f1cSMTPIN_ADDED_MISSING@mx.google.com>
Received: from [172.21.0.6] (unknown [172.18.0.240])
 by postal.iol.unh.edu (Postfix) with ESMTP id A08946052471;
 Mon, 14 Apr 2025 18:06:27 -0400 (EDT)
Subject: |SUCCESS| pw152908 [PATCH] eal: simplify code to avoid Coverity fals
From: dpdklab@iol.unh.edu
To: Test Report <test-report@dpdk.org>
Cc: dpdk-test-reports@iol.unh.edu
In-Reply-To: <1744662518-5433-1-git-send-email-andremue@linux.microsoft.com>
References: <1744662518-5433-1-git-send-email-andremue@linux.microsoft.com>
Content-Type: text/plain
X-BeenThere: test-report@dpdk.org
X-Mailman-Version: 2.1.29
Precedence: list
List-Id: automatic DPDK test reports <test-report.dpdk.org>
List-Unsubscribe: <https://mails.dpdk.org/options/test-report>,
 <mailto:test-report-request@dpdk.org?subject=unsubscribe>
List-Archive: <http://mails.dpdk.org/archives/test-report/>
List-Post: <mailto:test-report@dpdk.org>
List-Help: <mailto:test-report-request@dpdk.org?subject=help>
List-Subscribe: <https://mails.dpdk.org/listinfo/test-report>,
 <mailto:test-report-request@dpdk.org?subject=subscribe>
Errors-To: test-report-bounces@dpdk.org

Test-Label: iol-abi-testing
Test-Status: SUCCESS
http://dpdk.org/patch/152908

_Testing PASS_

Submitter: Andre Muezerie <andremue@linux.microsoft.com>
Date: Monday, April 14 2025 20:28:38 
DPDK git baseline: Repo:dpdk
  Branch: master
  CommitID:ca1690ebd224f148268285b15b97441ccdbdd07e

152908 --> testing pass

Upstream job id: Generic-DPDK-Compile-ABI#123288

Test environment and result as below:

+-------------------+----------+
|    Environment    | abi_test |
+===================+==========+
| CentOS Stream 10  | PASS     |
+-------------------+----------+
| CentOS Stream 9   | PASS     |
+-------------------+----------+
| Debian 12         | PASS     |
+-------------------+----------+
| Fedora 41         | PASS     |
+-------------------+----------+
| Fedora 41 (Clang) | PASS     |
+-------------------+----------+
| RHEL8             | PASS     |
+-------------------+----------+
| Fedora 40 (Clang) | PASS     |
+-------------------+----------+
| openSUSE Leap 15  | PASS     |
+-------------------+----------+
| Ubuntu 24.04      | PASS     |
+-------------------+----------+
| Ubuntu 22.04      | PASS     |
+-------------------+----------+
| RHEL9             | PASS     |
+-------------------+----------+
| Fedora 40         | PASS     |
+-------------------+----------+


CentOS Stream 10
	Kernel: Depends on container host
	Compiler: gcc 14.2.1 20241104 (Red Hat 14.2.1-6)

CentOS Stream 9
	Kernel: Depends on container host
	Compiler: gcc 11.5.0 20240719 (Red Hat 11.5.0-2)

Debian 12
	Kernel: Depends on container host
	Compiler: gcc (Debian 12.2.0-14) 12.2.0

Fedora 41
	Kernel: Depends on container host
	Compiler: gcc 14.2.1 20240912 (Red Hat 14.2.1-3)

Fedora 41 (Clang)
	Kernel: Depends on container host
	Compiler: clang 19.1.5 (Fedora 19.1.5-1.fc41)

RHEL8
	Kernel: Depends on container host
	Compiler: gcc 8.5.0 20210514 (Red Hat 8.5.0-22)

Fedora 40 (Clang)
	Kernel: Depends on container host
	Compiler: clang 18.1.8 (Fedora 18.1.8-1.fc40)

openSUSE Leap 15
	Kernel: Depends on container host
	Compiler: gcc (SUSE Linux) 7.5.0

Ubuntu 24.04
	Kernel: Depends on container host
	Compiler: gcc (Ubuntu 13.3.0-6ubuntu2~24.04) 13.3.0

Ubuntu 22.04
	Kernel: Depends on container host
	Compiler: gcc (Ubuntu 11.4.0-1ubuntu1~22.04) 11.4.0

RHEL9
	Kernel: Depends on container host
	Compiler: gcc 11.5.0 20240719 (Red Hat 11.5.0-2)

Fedora 40
	Kernel: Depends on container host
	Compiler: gcc 14.2.1 20240912 (Red Hat 14.2.1-3)

To view detailed results, visit:
https://lab.dpdk.org/results/dashboard/patchsets/33004/

UNH-IOL DPDK Community Lab

To manage your email subscriptions, visit: 
https://lab.dpdk.org/results/dashboard/preferences/subscriptions/