From mboxrd@z Thu Jan  1 00:00:00 1970
Return-Path: <test-report-bounces@dpdk.org>
Received: from mails.dpdk.org (mails.dpdk.org [217.70.189.124])
	by inbox.dpdk.org (Postfix) with ESMTP id 209E546590
	for <public@inbox.dpdk.org>; Tue, 15 Apr 2025 01:25:24 +0200 (CEST)
Received: from mails.dpdk.org (localhost [127.0.0.1])
	by mails.dpdk.org (Postfix) with ESMTP id EEC65402A1;
	Tue, 15 Apr 2025 01:25:23 +0200 (CEST)
Received: from mail-yw1-f227.google.com (mail-yw1-f227.google.com
 [209.85.128.227])
 by mails.dpdk.org (Postfix) with ESMTP id 5851A40289
 for <test-report@dpdk.org>; Tue, 15 Apr 2025 01:25:23 +0200 (CEST)
Received: by mail-yw1-f227.google.com with SMTP id
 00721157ae682-6ef9b8b4f13so43232617b3.2
 for <test-report@dpdk.org>; Mon, 14 Apr 2025 16:25:23 -0700 (PDT)
DKIM-Signature: v=1; a=rsa-sha256; c=relaxed/relaxed;
 d=iol.unh.edu; s=unh-iol; t=1744673122; x=1745277922; darn=dpdk.org;
 h=references:in-reply-to:cc:to:from:subject:message-id:date:from:to
 :cc:subject:date:message-id:reply-to;
 bh=w3aM/yNmB2wI8vZmdy37ehBQfujn/FJt1HDxUE1JLMs=;
 b=Jrvf3UFJvmqSideAFWU8zWNjcJnB9v1QrqoCMy4b6FpDRtWLzfWYQDzLuh+9/rXJvt
 zQPDpaOkVYdX3e1rJyzbDZmh0x6zp26GksW51PBF7W71uRQ0vM4A/JT5qLFkhcxmwvL5
 ybpiEjLKzS7Vm2litVgF0tjLN1GdI0TNjz0Eo=
X-Google-DKIM-Signature: v=1; a=rsa-sha256; c=relaxed/relaxed;
 d=1e100.net; s=20230601; t=1744673122; x=1745277922;
 h=references:in-reply-to:cc:to:from:subject:message-id:date
 :x-gm-message-state:from:to:cc:subject:date:message-id:reply-to;
 bh=w3aM/yNmB2wI8vZmdy37ehBQfujn/FJt1HDxUE1JLMs=;
 b=sx4490nPieXPgzToPFSh6nvCeWFDri+pCDY7mb+gCpp1k6SMwk/ijj57590sLIntaU
 RWh97yg86Jiea+9Q4Zn2aVbl36s1Q2rD+0GJDXC5a1a6NQxn7h9S2ZmuFaTRCZcI9LYy
 lNOvrXsq8+dWFs7js/isrhL7F1bpB5PTneQABnb+YcwdhXTxoEU4CnMCCM1ppY6RGYUD
 RjWewbVeAeWi2L43/v+cJpsmQAqsPiQclRkempbFCNDjel+fCzyb8d+ocGNpQPDaYiGX
 Si9ng+Fjd63+r6FE2AnqXMJaotqkJtZeQDzw7XjLob3yM0SI6qzNdrFPFm6TJ4x8FPYl
 A+ug==
X-Gm-Message-State: AOJu0Yz8L184l+ThCqWqJ/nbAtWopw0uUwzLTGOSMzfW9eYD57Uyetja
 mANFCUHOpnvnqmnBIPQNraxcWKY9ZGm7X2WPkW0+gE47QvWmycqACD4RhXvnIZw1LpgyYMCvaBg
 YGkDPqNxB26nJYqYAmNcUSRPV47Cg6/KLSFJmcjD4
X-Gm-Gg: ASbGncvThamHg87GADZTNRW84+wMf/rDVFwUI8XeoDy+I2zmQlwldXfr827Wt6G7YUR
 20pHDsGARf9ycjdvG3A0XceV2h7tGRL73WNHS+pamCkIVzi6g3mW7IjzKwuruT5TQGAk0PDEWkz
 ypdJh6MzhV5Lv8XYTOsdGecO4KsCBZg5qEn4OU8oDzhU7/as3au8GFo8ur8n82Otgv0KAzZY3P6
 0RfC81zpB68wkESHYigrJRCtrRwT4gYMZlDyucR/gDcTnv1IqpSv28umAt/kfArpHOHd5WgN8Oi
 0VOfDNYF37y2kHJMf9NqtZFazn49BeTsfRcl
X-Google-Smtp-Source: AGHT+IHZsgHAHTCRnDB3a4ciR5K7SKhhPzxZJEcxHWvyDF8f0G4YP33AgnO3aerXVeMVtlUrhXgS/XkLzHw+
X-Received: by 2002:a05:690c:338c:b0:6fb:1c5a:80f8 with SMTP id
 00721157ae682-705599bd922mr246578347b3.15.1744673122473; 
 Mon, 14 Apr 2025 16:25:22 -0700 (PDT)
Received: from postal.iol.unh.edu (postal.iol.unh.edu. [132.177.123.84])
 by smtp-relay.gmail.com with ESMTPS id
 00721157ae682-7053e174f86sm9228377b3.36.2025.04.14.16.25.22
 (version=TLS1_2 cipher=ECDHE-ECDSA-AES128-GCM-SHA256 bits=128/128);
 Mon, 14 Apr 2025 16:25:22 -0700 (PDT)
X-Relaying-Domain: iol.unh.edu
Date: Mon, 14 Apr 2025 16:25:22 -0700 (PDT)
Message-ID: <67fd9962.810a0220.163bb7.2656SMTPIN_ADDED_MISSING@mx.google.com>
Received: from [172.17.0.5] (unknown [172.18.0.217])
 by postal.iol.unh.edu (Postfix) with ESMTP id 156E96052471;
 Mon, 14 Apr 2025 19:25:22 -0400 (EDT)
Subject: |SUCCESS| pw152907 [PATCH] net/intel: fix igb tx queue offloads capa
From: dpdklab@iol.unh.edu
To: Test Report <test-report@dpdk.org>
Cc: dpdk-test-reports@iol.unh.edu
In-Reply-To: <20250414085353.848901-1-kaiwenx.deng@intel.com>
References: <20250414085353.848901-1-kaiwenx.deng@intel.com>
Content-Type: text/plain
X-BeenThere: test-report@dpdk.org
X-Mailman-Version: 2.1.29
Precedence: list
List-Id: automatic DPDK test reports <test-report.dpdk.org>
List-Unsubscribe: <https://mails.dpdk.org/options/test-report>,
 <mailto:test-report-request@dpdk.org?subject=unsubscribe>
List-Archive: <http://mails.dpdk.org/archives/test-report/>
List-Post: <mailto:test-report@dpdk.org>
List-Help: <mailto:test-report-request@dpdk.org?subject=help>
List-Subscribe: <https://mails.dpdk.org/listinfo/test-report>,
 <mailto:test-report-request@dpdk.org?subject=subscribe>
Errors-To: test-report-bounces@dpdk.org

Test-Label: iol-unit-arm64-testing
Test-Status: SUCCESS
http://dpdk.org/patch/152907

_Testing PASS_

Submitter: Kaiwen Deng <kaiwenx.deng@intel.com>
Date: Monday, April 14 2025 08:53:52 
DPDK git baseline: Repo:dpdk
  Branch: master
  CommitID:d7817c378fecd07c59360667f93c25dff4b1a145

152907 --> testing pass

Upstream job id: Generic-Unit-Test-DPDK#330929

Test environment and result as below:

+-----------------------------+----------------+---------------------------+--------------+------------------------------+
|         Environment         | dpdk_unit_test | cryptodev_sw_zuc_autotest | lpm_autotest | cryptodev_sw_snow3g_autotest |
+=============================+================+===========================+==============+==============================+
| Fedora 40 (ARM)             | PASS           | SKIPPED                   | SKIPPED      | SKIPPED                      |
+-----------------------------+----------------+---------------------------+--------------+------------------------------+
| Debian 12 (arm)             | PASS           | PASS                      | SKIPPED      | PASS                         |
+-----------------------------+----------------+---------------------------+--------------+------------------------------+
| Fedora 41 (ARM)             | PASS           | SKIPPED                   | SKIPPED      | SKIPPED                      |
+-----------------------------+----------------+---------------------------+--------------+------------------------------+
| CentOS Stream 9 (ARM)       | PASS           | SKIPPED                   | SKIPPED      | SKIPPED                      |
+-----------------------------+----------------+---------------------------+--------------+------------------------------+
| Ubuntu 22.04 (ARM)          | PASS           | SKIPPED                   | SKIPPED      | SKIPPED                      |
+-----------------------------+----------------+---------------------------+--------------+------------------------------+
| Fedora 40 (ARM Clang)       | PASS           | SKIPPED                   | SKIPPED      | SKIPPED                      |
+-----------------------------+----------------+---------------------------+--------------+------------------------------+
| CentOS Stream 10 (ARM)      | PASS           | SKIPPED                   | SKIPPED      | SKIPPED                      |
+-----------------------------+----------------+---------------------------+--------------+------------------------------+
| Ubuntu 20.04 (ARM)          | PASS           | SKIPPED                   | SKIPPED      | SKIPPED                      |
+-----------------------------+----------------+---------------------------+--------------+------------------------------+
| Fedora 41 (ARM Clang)       | PASS           | SKIPPED                   | SKIPPED      | SKIPPED                      |
+-----------------------------+----------------+---------------------------+--------------+------------------------------+
| Ubuntu 24.04 (ARM)          | PASS           | SKIPPED                   | SKIPPED      | SKIPPED                      |
+-----------------------------+----------------+---------------------------+--------------+------------------------------+
| RHEL9 (ARM)                 | PASS           | SKIPPED                   | SKIPPED      | SKIPPED                      |
+-----------------------------+----------------+---------------------------+--------------+------------------------------+
| 32-bit Ubuntu 22.04.4 (ARM) | PASS           | SKIPPED                   | SKIPPED      | SKIPPED                      |
+-----------------------------+----------------+---------------------------+--------------+------------------------------+
| Ubuntu 20.04 ARM SVE        | SKIPPED        | SKIPPED                   | PASS         | SKIPPED                      |
+-----------------------------+----------------+---------------------------+--------------+------------------------------+


Fedora 40 (ARM)
	Kernel: Depends on container host
	Compiler: gcc 14.2.1 20240912 (Red Hat 14.2.1-3)

Debian 12 (arm)
	Kernel: Depends on container host
	Compiler: gcc (Debian 12.2.0-14) 12.2.0

Fedora 41 (ARM)
	Kernel: Depends on container host
	Compiler: gcc 14.2.1 20240912 (Red Hat 14.2.1-3)

CentOS Stream 9 (ARM)
	Kernel: Depends on container host
	Compiler: gcc 11.5.0 20240719 (Red Hat 11.5.0-2)

Ubuntu 22.04 (ARM)
	Kernel: Depends on container host
	Compiler: gcc (Ubuntu 11.4.0-1ubuntu1~22.04) 11.4.0

Fedora 40 (ARM Clang)
	Kernel: Depends on container host
	Compiler: clang 18.1.8 (Fedora 18.1.8-1.fc40)

CentOS Stream 10 (ARM)
	Kernel: Depends on container host
	Compiler: gcc 14.2.1 20241104 (Red Hat 14.2.1-6)

Ubuntu 20.04 (ARM)
	Kernel: Depends on container host
	Compiler: gcc (Ubuntu 9.4.0-1ubuntu1~20.04.2) 9.4.0

Fedora 41 (ARM Clang)
	Kernel: Depends on container host
	Compiler: clang 19.1.5 (Fedora 19.1.5-1.fc41)

Ubuntu 24.04 (ARM)
	Kernel: Depends on container host
	Compiler: gcc (Ubuntu 13.3.0-6ubuntu2~24.04) 13.3.0

RHEL9 (ARM)
	Kernel: Depends on container host
	Compiler: gcc 11.5.0 20240719 (Red Hat 11.5.0-2)

32-bit Ubuntu 22.04.4 (ARM)
	Kernel: 5.15.83+ aarch64
	Compiler: gcc (Ubuntu 11.4.0-1ubuntu1~22.04) 11.4.0

Ubuntu 20.04 ARM SVE
	Kernel: Depends on container host
	Compiler: gcc (Ubuntu 10.5.0-1ubuntu1~20.04) 10.5.0

To view detailed results, visit:
https://lab.dpdk.org/results/dashboard/patchsets/33003/

UNH-IOL DPDK Community Lab

To manage your email subscriptions, visit: 
https://lab.dpdk.org/results/dashboard/preferences/subscriptions/