From mboxrd@z Thu Jan 1 00:00:00 1970 Return-Path: Received: from mails.dpdk.org (mails.dpdk.org [217.70.189.124]) by inbox.dpdk.org (Postfix) with ESMTP id 337B446590 for ; Tue, 15 Apr 2025 01:26:10 +0200 (CEST) Received: from mails.dpdk.org (localhost [127.0.0.1]) by mails.dpdk.org (Postfix) with ESMTP id 2E327402A1; Tue, 15 Apr 2025 01:26:10 +0200 (CEST) Received: from mail-pf1-f225.google.com (mail-pf1-f225.google.com [209.85.210.225]) by mails.dpdk.org (Postfix) with ESMTP id A767840289 for ; Tue, 15 Apr 2025 01:26:09 +0200 (CEST) Received: by mail-pf1-f225.google.com with SMTP id d2e1a72fcca58-73bf1cef6ceso1636867b3a.0 for ; Mon, 14 Apr 2025 16:26:09 -0700 (PDT) DKIM-Signature: v=1; a=rsa-sha256; c=relaxed/relaxed; d=iol.unh.edu; s=unh-iol; t=1744673168; x=1745277968; darn=dpdk.org; h=references:in-reply-to:cc:to:from:subject:message-id:date:from:to :cc:subject:date:message-id:reply-to; bh=jTfcx8CCDLJNyEfzLlH2nBwIKfgoyyLvpwAA0W+JG/Y=; b=PHUFsDOnljgNO1OTu/+x7ExHztSKbJOaj8FZrNoBCM2wUg6RYIggYu4ohv/p47V0Oe DwjzXsk0tXMcAWxeOmK2/01cnglQKUm+V18tbbEdYiyF3W9fLLoSp98jJ07J/oNbCegk MUFNWK2SX7QE2Q0dGimsDYU7PNTew3QFQIZFM= X-Google-DKIM-Signature: v=1; a=rsa-sha256; c=relaxed/relaxed; d=1e100.net; s=20230601; t=1744673168; x=1745277968; h=references:in-reply-to:cc:to:from:subject:message-id:date :x-gm-message-state:from:to:cc:subject:date:message-id:reply-to; bh=jTfcx8CCDLJNyEfzLlH2nBwIKfgoyyLvpwAA0W+JG/Y=; b=k4S/DhCNyiGLXtwCgJBdhaMl9EdEWGvakM0QmLGuaK05D4TJ39HEM5hOJ7oSKYxff8 XzMm/j/c+NDxMo7q4phe1H1pjrEG3C6H8jnXNRXHYpYqUahKtaHez56xcXlZx3TW2CXY 1pC0tDV5iC8H6k+7oLoii3hSvRlJRZ0v5YYECOiMw0X7noP7DYCtn578gwOsOKHGOPdS tYRp7zXx82Sji4JUFeDAj0b7x1VrwfEPRaKKOtyXiX6kBc1+B2TBnIed2LY2DjptE+DI T7Y842ePeVAAO9CVaQhqwRxkmfQD7GjZVTkM7U1tQ0tJwsC0ScjO0BgohTF+4yFcZTBS iuNQ== X-Gm-Message-State: AOJu0Yy1kSSHtOTMw1FDGzzE+Y+86RUQyDxB+N/U2hVDrZ5pah1F1djN lh420BomAYm4E7MmEd8+YjgG3+0evl/EDaRcvG/ZBBtPL15bb/IbTS7m2GaxFO0YNVyNIHMAXWP 4T8VHa3EeYgQ4oiZ1PlwsbDZ8YjSMB4RPsxuBj+lG X-Gm-Gg: ASbGncvOmWr4am3CvZICnHQooCO/mjO9xK1hLONRI0mKNgO+sM0zPV5oxr0LnKA5vDd 67Lt0SrxAFW5OtTNnTxKiWgX5eXtVZ0wsN8UkP5cH4ZByb9tzwRuQbGGxRxKyNc08PhnAqOeUG5 sh7GZFy2bZDK4iBT47bfRt5gg2Lzbw52Vyj5b+pe7eE03bnnOxCpKHaDGLX6R8KDlom0G1szUG+ r6Z1wB+Il4z+gUQ6GUXPAW+fFYIFbmAx8yuzWHvO1pk9H14HBnR3f7T5edAtIGa8FLQevyQEXO+ rI/FWrIN8wvgPdkio1CLwV99wwhjeoFpcjcG X-Google-Smtp-Source: AGHT+IHhw+sR2IyPau7PW9689Fh+rQQ65TF637ncge49Jt/B5q2m+co7Xn4fMovQsI4GIu30GMGA3bPKoPev X-Received: by 2002:a05:6a00:39a0:b0:736:7960:981f with SMTP id d2e1a72fcca58-73bd11dbfd2mr21750262b3a.8.1744673168504; Mon, 14 Apr 2025 16:26:08 -0700 (PDT) Received: from postal.iol.unh.edu (postal.iol.unh.edu. [132.177.123.84]) by smtp-relay.gmail.com with ESMTPS id d2e1a72fcca58-73bd22edd52sm438277b3a.16.2025.04.14.16.26.08 (version=TLS1_2 cipher=ECDHE-ECDSA-AES128-GCM-SHA256 bits=128/128); Mon, 14 Apr 2025 16:26:08 -0700 (PDT) X-Relaying-Domain: iol.unh.edu Date: Mon, 14 Apr 2025 16:26:08 -0700 (PDT) Message-ID: <67fd9990.050a0220.5e991.b511SMTPIN_ADDED_MISSING@mx.google.com> Received: from [172.17.0.3] (unknown [172.18.0.217]) by postal.iol.unh.edu (Postfix) with ESMTP id A3B636052471; Mon, 14 Apr 2025 19:26:07 -0400 (EDT) Subject: |SUCCESS| pw152907 [PATCH] net/intel: fix igb tx queue offloads capa From: dpdklab@iol.unh.edu To: Test Report Cc: dpdk-test-reports@iol.unh.edu In-Reply-To: <20250414085353.848901-1-kaiwenx.deng@intel.com> References: <20250414085353.848901-1-kaiwenx.deng@intel.com> Content-Type: text/plain X-BeenThere: test-report@dpdk.org X-Mailman-Version: 2.1.29 Precedence: list List-Id: automatic DPDK test reports List-Unsubscribe: , List-Archive: List-Post: List-Help: List-Subscribe: , Errors-To: test-report-bounces@dpdk.org Test-Label: iol-unit-amd64-testing Test-Status: SUCCESS http://dpdk.org/patch/152907 _Testing PASS_ Submitter: Kaiwen Deng Date: Monday, April 14 2025 08:53:52 DPDK git baseline: Repo:dpdk Branch: master CommitID:d7817c378fecd07c59360667f93c25dff4b1a145 152907 --> testing pass Upstream job id: Generic-Unit-Test-DPDK#330925 Test environment and result as below: +---------------------+----------------+ | Environment | dpdk_unit_test | +=====================+================+ | CentOS Stream 9 | PASS | +---------------------+----------------+ | CentOS Stream 10 | PASS | +---------------------+----------------+ | Fedora 40 | PASS | +---------------------+----------------+ | Fedora 41 | PASS | +---------------------+----------------+ | RHEL9 | PASS | +---------------------+----------------+ | Debian 12 | PASS | +---------------------+----------------+ | Ubuntu 22.04 | PASS | +---------------------+----------------+ | Fedora 41 (Clang) | PASS | +---------------------+----------------+ | Ubuntu 20.04 | PASS | +---------------------+----------------+ | Fedora 40 (Clang) | PASS | +---------------------+----------------+ | Ubuntu 24.04 | PASS | +---------------------+----------------+ | RHEL8 | PASS | +---------------------+----------------+ | Windows Server 2022 | PASS | +---------------------+----------------+ CentOS Stream 9 Kernel: Depends on container host Compiler: gcc 11.5.0 20240719 (Red Hat 11.5.0-2) CentOS Stream 10 Kernel: Depends on container host Compiler: gcc 14.2.1 20241104 (Red Hat 14.2.1-6) Fedora 40 Kernel: Depends on container host Compiler: gcc 14.2.1 20240912 (Red Hat 14.2.1-3) Fedora 41 Kernel: Depends on container host Compiler: gcc 14.2.1 20240912 (Red Hat 14.2.1-3) RHEL9 Kernel: Depends on container host Compiler: gcc 11.5.0 20240719 (Red Hat 11.5.0-2) Debian 12 Kernel: Depends on container host Compiler: gcc (Debian 12.2.0-14) 12.2.0 Ubuntu 22.04 Kernel: Depends on container host Compiler: gcc (Ubuntu 11.4.0-1ubuntu1~22.04) 11.4.0 Fedora 41 (Clang) Kernel: Depends on container host Compiler: clang 19.1.5 (Fedora 19.1.5-1.fc41) Ubuntu 20.04 Kernel: Depends on container host Compiler: gcc (Ubuntu 9.4.0-1ubuntu1~20.04.2) 9.4.0 Fedora 40 (Clang) Kernel: Depends on container host Compiler: clang 18.1.8 (Fedora 18.1.8-1.fc40) Ubuntu 24.04 Kernel: Depends on container host Compiler: gcc (Ubuntu 13.3.0-6ubuntu2~24.04) 13.3.0 RHEL8 Kernel: Depends on container host Compiler: gcc 8.5.0 20210514 (Red Hat 8.5.0-22) Windows Server 2022 Kernel: 10.0.20348.2031 Compiler: clang 15.0.7, gcc 14.1.0 (MinGW), and MSVC VS 19.39.33521 To view detailed results, visit: https://lab.dpdk.org/results/dashboard/patchsets/33003/ UNH-IOL DPDK Community Lab To manage your email subscriptions, visit: https://lab.dpdk.org/results/dashboard/preferences/subscriptions/