From mboxrd@z Thu Jan  1 00:00:00 1970
Return-Path: <test-report-bounces@dpdk.org>
Received: from mails.dpdk.org (mails.dpdk.org [217.70.189.124])
	by inbox.dpdk.org (Postfix) with ESMTP id 53A8F46592
	for <public@inbox.dpdk.org>; Tue, 15 Apr 2025 05:14:17 +0200 (CEST)
Received: from mails.dpdk.org (localhost [127.0.0.1])
	by mails.dpdk.org (Postfix) with ESMTP id 1BA67402A1;
	Tue, 15 Apr 2025 05:14:17 +0200 (CEST)
Received: from mail-pl1-f225.google.com (mail-pl1-f225.google.com
 [209.85.214.225])
 by mails.dpdk.org (Postfix) with ESMTP id A26EA40289
 for <test-report@dpdk.org>; Tue, 15 Apr 2025 05:14:16 +0200 (CEST)
Received: by mail-pl1-f225.google.com with SMTP id
 d9443c01a7336-223fd89d036so60737485ad.1
 for <test-report@dpdk.org>; Mon, 14 Apr 2025 20:14:16 -0700 (PDT)
DKIM-Signature: v=1; a=rsa-sha256; c=relaxed/relaxed;
 d=iol.unh.edu; s=unh-iol; t=1744686855; x=1745291655; darn=dpdk.org;
 h=references:in-reply-to:cc:to:from:subject:message-id:date:from:to
 :cc:subject:date:message-id:reply-to;
 bh=FGNeWrkPj2oXDPgWE7yYNacM9ZxeMYwVa1olxefrWJU=;
 b=HI5MDja+RStuKjO4CP8jA6nxprzn2+NxCXI5jlMfSZZnvC2EV8nDIgtXksn3rEMP/3
 OEUVFD+T6TR+I/J6bsO1ATm/PsNIyGzrJf+SnRPWV+2uBtCC0awoo4IxfXc8RCWceB/b
 ecSkaH/Ifs7MCnoC+ha6cdawKkkoBcplNpFj8=
X-Google-DKIM-Signature: v=1; a=rsa-sha256; c=relaxed/relaxed;
 d=1e100.net; s=20230601; t=1744686855; x=1745291655;
 h=references:in-reply-to:cc:to:from:subject:message-id:date
 :x-gm-message-state:from:to:cc:subject:date:message-id:reply-to;
 bh=FGNeWrkPj2oXDPgWE7yYNacM9ZxeMYwVa1olxefrWJU=;
 b=l4eYYUwMCtQQNTAm/8Sgfq3eNqFgXqpL3C05p9d3UuRjXWL9ga1Vw+Ggc9ntk8obQF
 yZjIBNMl/ZTnD+9EKRmWxb6TFBU1/clUDaHYyvL1TdI2wwJB7Ei9TthZPf8hwKQJQwRr
 63G+wZHnW3MtR3qQGowtRdwFF7ifC5MDNTg4IwX0lmricNGVcWPvPesKMXfCWSlw86/p
 zlHCNwjmrvQrqBFvu0CJ9a3bK+zlC4yjn7AdvVfaMHqHAmrVmL3MF/PKxHHaHOA+R4CA
 kJWKgu3Q8yzSAq8XTj46nwDAIm52UQrWuH5svSTKlbmZgfjJxZjNJfTwKn/kRuXqmz7y
 8G3g==
X-Gm-Message-State: AOJu0YzxxD1sCUemDRVwu3wJPGS8Khf915/TxEkdQlM9/bwaFmKWvDQl
 vjEYy8SulfXsqBtUAEzMVvwgaxFTFFpw5js3yGIpaLkwOaTpeBbVEpYq7NSl7ECRa2VKnrO6/mP
 oB6vhiYromu6CJ+mZ4bEAvLHbP9+h/C944Pu9gH5/
X-Gm-Gg: ASbGncuK+UlYQiwT8YmI8pf8MF7Nt0VPWYsKwuFnURP+pmssu2HjA/pYuXGhN0pzDo5
 mTWaPXBXmPYiRc6cppbx4YmdzoYHXAHoWWdUhHzAFqBIZibhkEHXSX0VFHL1wvOzKG8irFUEVVN
 VULOUELTX5DxzlR63GSgNwwIdT1HO5z7htIEj0kTB+pWgydw5Sni5U5Ym7MyoYJj+2XRmO0pnpq
 iVMRRLSDiRCERd9byRHCBmLXkrRFfq7FEUL3dviyhqFZP15dp4Yzv255TXFZ/zFC/BuFOYFTF5n
 4kaNKRYj/7jKpXhDxG6RiJs3+G+iCiaTse/N
X-Google-Smtp-Source: AGHT+IHknW+IDVALpS8hp6jBtlkyXkppFRWkLLYOqbrUwiWpOy7MThJstD4nK6i3UvcvSvJLJmhdS1lxvCyx
X-Received: by 2002:a17:903:2303:b0:220:fe51:1aab with SMTP id
 d9443c01a7336-22bea4f6f64mr222272215ad.38.1744686855545; 
 Mon, 14 Apr 2025 20:14:15 -0700 (PDT)
Received: from postal.iol.unh.edu (postal.iol.unh.edu. [132.177.123.84])
 by smtp-relay.gmail.com with ESMTPS id
 d9443c01a7336-22ac7caf8e8sm6866555ad.106.2025.04.14.20.14.15
 (version=TLS1_2 cipher=ECDHE-ECDSA-AES128-GCM-SHA256 bits=128/128);
 Mon, 14 Apr 2025 20:14:15 -0700 (PDT)
X-Relaying-Domain: iol.unh.edu
Date: Mon, 14 Apr 2025 20:14:15 -0700 (PDT)
Message-ID: <67fdcf07.170a0220.2e7d21.448fSMTPIN_ADDED_MISSING@mx.google.com>
Received: from [172.17.0.4] (unknown [172.18.0.217])
 by postal.iol.unh.edu (Postfix) with ESMTP id A65946052471;
 Mon, 14 Apr 2025 23:14:14 -0400 (EDT)
Subject: |SUCCESS| pw152910-152912 [PATCH] [v2,4/4] drivers: use macro to emb
From: dpdklab@iol.unh.edu
To: Test Report <test-report@dpdk.org>
Cc: dpdk-test-reports@iol.unh.edu
In-Reply-To: <1744680096-17683-5-git-send-email-andremue@linux.microsoft.com>
References: <1744680096-17683-5-git-send-email-andremue@linux.microsoft.com>
Content-Type: text/plain
X-BeenThere: test-report@dpdk.org
X-Mailman-Version: 2.1.29
Precedence: list
List-Id: automatic DPDK test reports <test-report.dpdk.org>
List-Unsubscribe: <https://mails.dpdk.org/options/test-report>,
 <mailto:test-report-request@dpdk.org?subject=unsubscribe>
List-Archive: <http://mails.dpdk.org/archives/test-report/>
List-Post: <mailto:test-report@dpdk.org>
List-Help: <mailto:test-report-request@dpdk.org?subject=help>
List-Subscribe: <https://mails.dpdk.org/listinfo/test-report>,
 <mailto:test-report-request@dpdk.org?subject=subscribe>
Errors-To: test-report-bounces@dpdk.org

Test-Label: iol-unit-amd64-testing
Test-Status: SUCCESS
http://dpdk.org/patch/152912

_Testing PASS_

Submitter: Andre Muezerie <andremue@linux.microsoft.com>
Date: Tuesday, April 15 2025 01:21:36 
DPDK git baseline: Repo:dpdk
  Branch: master
  CommitID:ca1690ebd224f148268285b15b97441ccdbdd07e

152910-152912 --> testing pass

Upstream job id: Generic-Unit-Test-DPDK#330954

Test environment and result as below:

+---------------------+----------------+
|     Environment     | dpdk_unit_test |
+=====================+================+
| CentOS Stream 10    | PASS           |
+---------------------+----------------+
| CentOS Stream 9     | PASS           |
+---------------------+----------------+
| Fedora 41           | PASS           |
+---------------------+----------------+
| Fedora 40           | PASS           |
+---------------------+----------------+
| RHEL8               | PASS           |
+---------------------+----------------+
| Fedora 41 (Clang)   | PASS           |
+---------------------+----------------+
| Fedora 40 (Clang)   | PASS           |
+---------------------+----------------+
| Debian 12           | PASS           |
+---------------------+----------------+
| Ubuntu 20.04        | PASS           |
+---------------------+----------------+
| RHEL9               | PASS           |
+---------------------+----------------+
| Ubuntu 24.04        | PASS           |
+---------------------+----------------+
| Ubuntu 22.04        | PASS           |
+---------------------+----------------+
| Windows Server 2022 | PASS           |
+---------------------+----------------+


CentOS Stream 10
	Kernel: Depends on container host
	Compiler: gcc 14.2.1 20241104 (Red Hat 14.2.1-6)

CentOS Stream 9
	Kernel: Depends on container host
	Compiler: gcc 11.5.0 20240719 (Red Hat 11.5.0-2)

Fedora 41
	Kernel: Depends on container host
	Compiler: gcc 14.2.1 20240912 (Red Hat 14.2.1-3)

Fedora 40
	Kernel: Depends on container host
	Compiler: gcc 14.2.1 20240912 (Red Hat 14.2.1-3)

RHEL8
	Kernel: Depends on container host
	Compiler: gcc 8.5.0 20210514 (Red Hat 8.5.0-22)

Fedora 41 (Clang)
	Kernel: Depends on container host
	Compiler: clang 19.1.5 (Fedora 19.1.5-1.fc41)

Fedora 40 (Clang)
	Kernel: Depends on container host
	Compiler: clang 18.1.8 (Fedora 18.1.8-1.fc40)

Debian 12
	Kernel: Depends on container host
	Compiler: gcc (Debian 12.2.0-14) 12.2.0

Ubuntu 20.04
	Kernel: Depends on container host
	Compiler: gcc (Ubuntu 9.4.0-1ubuntu1~20.04.2) 9.4.0

RHEL9
	Kernel: Depends on container host
	Compiler: gcc 11.5.0 20240719 (Red Hat 11.5.0-2)

Ubuntu 24.04
	Kernel: Depends on container host
	Compiler: gcc (Ubuntu 13.3.0-6ubuntu2~24.04) 13.3.0

Ubuntu 22.04
	Kernel: Depends on container host
	Compiler: gcc (Ubuntu 11.4.0-1ubuntu1~22.04) 11.4.0

Windows Server 2022
	Kernel: 10.0.20348.2031
	Compiler: clang 15.0.7, gcc 14.1.0 (MinGW), and MSVC VS 19.39.33521

To view detailed results, visit:
https://lab.dpdk.org/results/dashboard/patchsets/33005/

UNH-IOL DPDK Community Lab

To manage your email subscriptions, visit: 
https://lab.dpdk.org/results/dashboard/preferences/subscriptions/