From mboxrd@z Thu Jan 1 00:00:00 1970 Return-Path: Received: from mails.dpdk.org (mails.dpdk.org [217.70.189.124]) by inbox.dpdk.org (Postfix) with ESMTP id 744DD46593 for ; Tue, 15 Apr 2025 07:07:37 +0200 (CEST) Received: from mails.dpdk.org (localhost [127.0.0.1]) by mails.dpdk.org (Postfix) with ESMTP id 6F96E402A1; Tue, 15 Apr 2025 07:07:37 +0200 (CEST) Received: from mail-pl1-f226.google.com (mail-pl1-f226.google.com [209.85.214.226]) by mails.dpdk.org (Postfix) with ESMTP id EA1E440289 for ; Tue, 15 Apr 2025 07:07:36 +0200 (CEST) Received: by mail-pl1-f226.google.com with SMTP id d9443c01a7336-2243803b776so75242055ad.0 for ; Mon, 14 Apr 2025 22:07:36 -0700 (PDT) DKIM-Signature: v=1; a=rsa-sha256; c=relaxed/relaxed; d=iol.unh.edu; s=unh-iol; t=1744693656; x=1745298456; darn=dpdk.org; h=cc:to:from:subject:message-id:date:from:to:cc:subject:date :message-id:reply-to; bh=+/qimYTKNOw/mmxmZIFrISZqLOpj7kT+nf5BUaRJJ1Y=; b=ViiXeKikQxiCQENYTyfhVWd03caRDTGIKgakFv/nZhlbNDXJZ3PFp4EvSHhnrRsEcf LSX7Va5jlsvS8qWfG2gk+tZH70wntKlTnzH06EkKJBxXABlvUy0w1cohjV/6WNTphE2g p/YAiBOB/7SfDow/4WokWG3sgS+b+XqYoKEYY= X-Google-DKIM-Signature: v=1; a=rsa-sha256; c=relaxed/relaxed; d=1e100.net; s=20230601; t=1744693656; x=1745298456; h=cc:to:from:subject:message-id:date:x-gm-message-state:from:to:cc :subject:date:message-id:reply-to; bh=+/qimYTKNOw/mmxmZIFrISZqLOpj7kT+nf5BUaRJJ1Y=; b=FxBocqmZ5HMYHFm+4CCZNtkOpqZ9D6AIW6x86ESgP7e95O6F4+5BZp7r7R/ZVWLDyj SzV5x5k/n9V05sxzaHgFBfr3qSysYNn33gGOFP8Fn18ub/AEZaqHsIN8eC+oeAg8tFk0 zt3rViXpgwAz4zhR3Cui5Cm00lYVL5b4HGuPFaqDNEbcFI+RWj6DoyC8oDCqzx0e1IEM ELoKFQ5/yv6zmIESaxVxqT6Yx8/e3uIygdBvWMAn9z/WXYCXVs4p2kaipqCXeaq+I981 iwdM3m3IMVCTsRMnB4vQQZQz3jTWx55mpp/oho2gpuHjOpnOJOH2pm2jS5SpR1fJBfV/ OF9Q== X-Gm-Message-State: AOJu0YwjRHoz4w+20srINh8/TVt2tMLuZ1xgzT/9I6OCoPyQogwPNen8 1vgdqm6Yd4Pof2XgVZN+AJefu0TZqALbw9DlgEspxEWrVXWG8aZy8qAxCMQrxl+jAWlnQrpX055 pd2e00l9ly1uVC1ZSkMy9tbODvxoHELwDzShcC2Tollb6VOMQ X-Gm-Gg: ASbGnctVXIgUhVF0KJd5nAuX55UzmpGXabF4437avE912ZoBBFA1Thnlmt5u5r/Onod lBJLTDBzD6XQ54RDVpX64RzDThj2jVl8Oq9gKJkdtScIs4F7O0vttUBTle4b+oQgSnwFDDwZtG9 1gTWXSSs06L5hq6+qi+xNE2S1X5lR/IbB6Qkl+2T5zTsx9/Eyjm3yyAmgL4G1J2ZQY4ZzVDD/mG XkJlTBzLZgEFFaDMVt8XW8h403ZoDpcTV3QAWykZmQ5aeYR+jKSW42HF6Magovamm81epSJJnJe bSLxEhsD/YqBzmHr0hsoXjWSlBUdZPp88lro7CW27QUv3l/J X-Google-Smtp-Source: AGHT+IHlKTGkmRtla3W1P9Smh8khWKnLKyvyTUCqw1UJD+Vk4/l8nXBMSQddV6bQG5uubKOxCh9s7PhawQlY X-Received: by 2002:a17:902:d58b:b0:223:501c:7581 with SMTP id d9443c01a7336-22bea4ab90amr211649915ad.16.1744693655899; Mon, 14 Apr 2025 22:07:35 -0700 (PDT) Received: from postal.iol.unh.edu (postal.iol.unh.edu. [2606:4100:3880:1234::84]) by smtp-relay.gmail.com with ESMTPS id d9443c01a7336-22ac7caf709sm7063195ad.98.2025.04.14.22.07.35 (version=TLS1_2 cipher=ECDHE-ECDSA-AES128-GCM-SHA256 bits=128/128); Mon, 14 Apr 2025 22:07:35 -0700 (PDT) X-Relaying-Domain: iol.unh.edu Date: Mon, 14 Apr 2025 22:07:35 -0700 (PDT) Message-ID: <67fde997.170a0220.26f6d9.59e6SMTPIN_ADDED_MISSING@mx.google.com> Received: from [172.17.0.3] (unknown [172.18.0.217]) by postal.iol.unh.edu (Postfix) with ESMTP id 4DFD46052471; Tue, 15 Apr 2025 01:07:35 -0400 (EDT) Subject: |SUCCESS| [GIT MASTER] 03f2ed63a5f4e4b57365e358b49095ef4a82cf7d From: dpdklab@iol.unh.edu To: Test Report Cc: dpdk-test-reports@iol.unh.edu, Xueming Li , Christian Ehrhardt , Kevin Traynor , Luca Boccassi Content-Type: text/plain X-BeenThere: test-report@dpdk.org X-Mailman-Version: 2.1.29 Precedence: list List-Id: automatic DPDK test reports List-Unsubscribe: , List-Archive: List-Post: List-Help: List-Subscribe: , Errors-To: test-report-bounces@dpdk.org _Testing PASS_ Branch: tags/v24.11 03f2ed63a5f4e4b57365e358b49095ef4a82cf7d --> testing pass Upstream job id: Generic-Unit-Test-DPDK#330980 Test environment and result as below: +---------------------+----------------+ | Environment | dpdk_unit_test | +=====================+================+ | CentOS Stream 10 | PASS | +---------------------+----------------+ | Fedora 40 | PASS | +---------------------+----------------+ | Debian 12 | PASS | +---------------------+----------------+ | CentOS Stream 9 | PASS | +---------------------+----------------+ | Fedora 40 (Clang) | PASS | +---------------------+----------------+ | Fedora 41 | PASS | +---------------------+----------------+ | Fedora 41 (Clang) | PASS | +---------------------+----------------+ | RHEL8 | PASS | +---------------------+----------------+ | RHEL9 | PASS | +---------------------+----------------+ | Ubuntu 20.04 | PASS | +---------------------+----------------+ | Ubuntu 24.04 | PASS | +---------------------+----------------+ | Ubuntu 22.04 | PASS | +---------------------+----------------+ | Windows Server 2022 | PASS | +---------------------+----------------+ CentOS Stream 10 Kernel: Depends on container host Compiler: gcc 14.2.1 20241104 (Red Hat 14.2.1-6) Fedora 40 Kernel: Depends on container host Compiler: gcc 14.2.1 20240912 (Red Hat 14.2.1-3) Debian 12 Kernel: Depends on container host Compiler: gcc (Debian 12.2.0-14) 12.2.0 CentOS Stream 9 Kernel: Depends on container host Compiler: gcc 11.5.0 20240719 (Red Hat 11.5.0-2) Fedora 40 (Clang) Kernel: Depends on container host Compiler: clang 18.1.8 (Fedora 18.1.8-1.fc40) Fedora 41 Kernel: Depends on container host Compiler: gcc 14.2.1 20240912 (Red Hat 14.2.1-3) Fedora 41 (Clang) Kernel: Depends on container host Compiler: clang 19.1.5 (Fedora 19.1.5-1.fc41) RHEL8 Kernel: Depends on container host Compiler: gcc 8.5.0 20210514 (Red Hat 8.5.0-22) RHEL9 Kernel: Depends on container host Compiler: gcc 11.5.0 20240719 (Red Hat 11.5.0-2) Ubuntu 20.04 Kernel: Depends on container host Compiler: gcc (Ubuntu 9.4.0-1ubuntu1~20.04.2) 9.4.0 Ubuntu 24.04 Kernel: Depends on container host Compiler: gcc (Ubuntu 13.3.0-6ubuntu2~24.04) 13.3.0 Ubuntu 22.04 Kernel: Depends on container host Compiler: gcc (Ubuntu 11.4.0-1ubuntu1~22.04) 11.4.0 Windows Server 2022 Kernel: 10.0.20348.2031 Compiler: clang 15.0.7, gcc 14.1.0 (MinGW), and MSVC VS 19.39.33521 To view detailed results, visit: https://lab.dpdk.org/results/dashboard/tarballs/33251/ UNH-IOL DPDK Community Lab To manage your email subscriptions, visit: https://lab.dpdk.org/results/dashboard/preferences/subscriptions/