From mboxrd@z Thu Jan 1 00:00:00 1970 Return-Path: Received: from mails.dpdk.org (mails.dpdk.org [217.70.189.124]) by inbox.dpdk.org (Postfix) with ESMTP id A741A46593 for ; Tue, 15 Apr 2025 07:17:37 +0200 (CEST) Received: from mails.dpdk.org (localhost [127.0.0.1]) by mails.dpdk.org (Postfix) with ESMTP id A27E9402A1; Tue, 15 Apr 2025 07:17:37 +0200 (CEST) Received: from mail-yw1-f227.google.com (mail-yw1-f227.google.com [209.85.128.227]) by mails.dpdk.org (Postfix) with ESMTP id 427CD40289 for ; Tue, 15 Apr 2025 07:17:36 +0200 (CEST) Received: by mail-yw1-f227.google.com with SMTP id 00721157ae682-6feb229b716so51332147b3.3 for ; Mon, 14 Apr 2025 22:17:36 -0700 (PDT) DKIM-Signature: v=1; a=rsa-sha256; c=relaxed/relaxed; d=iol.unh.edu; s=unh-iol; t=1744694255; x=1745299055; darn=dpdk.org; h=cc:to:from:subject:message-id:date:from:to:cc:subject:date :message-id:reply-to; bh=pZRq+bhCQ/qw27OnCuW7x2ClxNM8IeSZdHvd3wvAFNU=; b=F5LnRcb/f2JgRVMcAmn+F9RSCbtIlPDl7jX+x1sPx5bjQ61YZ5m7eVAmTgm+ZzmPeW AA/rnbVyKoLvYAc7/dBREu/JVnr7xmNZHYtyYvmpFhVr0glcTM5abSqJq/sTaEJuJY1w GnfOrTyraB/lUZIDfXHoPikWcm8wmM5RZh7tA= X-Google-DKIM-Signature: v=1; a=rsa-sha256; c=relaxed/relaxed; d=1e100.net; s=20230601; t=1744694255; x=1745299055; h=cc:to:from:subject:message-id:date:x-gm-message-state:from:to:cc :subject:date:message-id:reply-to; bh=pZRq+bhCQ/qw27OnCuW7x2ClxNM8IeSZdHvd3wvAFNU=; b=sdsRan8wJ8UzApSWIfsmQqfVgezSMK43I0MbHQNiHwtmbAHDfhxOBwrjM1o9CdTI34 cysld8JhV4nHNsF7pSlqmw+WSf/iAYHOLFsVoGLag8tTfhxuu7smAAMb9rKPEtg5pi9n ViWXgBcC0XFkdJHSBA64hMcj5AT6b/vsUM/O0Q9nINGKz1Ex055XLdLjhyij8DuTQ2B9 YTirF7T8I8PDmOuI5Y7M9ekyqyIE7/t3G27mJAAb7ETzAnN1OrtuWmBNkUT9537QbP91 q4lD99jts/zje9L3wBYoYVHNVTwMVExk8Qb+Ag3Zvdhuk15GXGYHakfFqImGsDY+MOiw uOsA== X-Gm-Message-State: AOJu0YxakVmQDne5EDOnxiGzd1UgEYlz1d/6TmEvbpaXAOw02Sx4nbmP xxEDK+BHTC68kxGry7m3PHhMMTqt36aOFzlsZQMQcEDq3QxPKpLlmUXT7yUtd+srq+lCih+bCcE sM15YmPsEwouLfHuSGZyaz73Vi9HbfRlp X-Gm-Gg: ASbGncuV8l/rVlnaD7u+C+A1Za7FNEUgZsKJ4m3ys0FnclC4jpfnlmGPzSFhv5lBZce AJRRx09Vl03mLsGJqYCXTkDmZ4TMc4Rgd+RxxCVZb09ZTLI+LPBXNEL3r1U0dsWTIqKgDAwQ6O9 z93fLjBBFsuBqO2bSbtryj+IO3C58AHguCENRJ2Fq1gOtTVSQgImZ1kT7yPsTI2KP46U9fLHug5 r4OjE94ITkkM7cLCTr5cuiMOS1fhS7mly91xGBfv8kF5QHylR704TnoB8V1zkcNoE74xZIlobdR SwaBgtfCMSGfTReUQoXd66ppEZo2mRcIqxsT X-Google-Smtp-Source: AGHT+IH2lo2nVjw3qKIgdIs100TAgF5Z1415ahyjdxYVRQI9lG0g9Y4MbelnanKEEAPcKwClA46QR56GmhGk X-Received: by 2002:a05:690c:7202:b0:6ef:7dde:bdef with SMTP id 00721157ae682-70559a6cdf5mr248696037b3.23.1744694255554; Mon, 14 Apr 2025 22:17:35 -0700 (PDT) Received: from postal.iol.unh.edu (postal.iol.unh.edu. [132.177.123.84]) by smtp-relay.gmail.com with ESMTPS id 00721157ae682-7053e13849dsm6275727b3.20.2025.04.14.22.17.35 (version=TLS1_2 cipher=ECDHE-ECDSA-AES128-GCM-SHA256 bits=128/128); Mon, 14 Apr 2025 22:17:35 -0700 (PDT) X-Relaying-Domain: iol.unh.edu Date: Mon, 14 Apr 2025 22:17:35 -0700 (PDT) Message-ID: <67fdebef.050a0220.26f0d2.dcd3SMTPIN_ADDED_MISSING@mx.google.com> Received: from [172.21.0.5] (unknown [172.18.0.240]) by postal.iol.unh.edu (Postfix) with ESMTP id 279566052471; Tue, 15 Apr 2025 01:17:35 -0400 (EDT) Subject: |SUCCESS| [GIT MASTER] 03f2ed63a5f4e4b57365e358b49095ef4a82cf7d From: dpdklab@iol.unh.edu To: Test Report Cc: dpdk-test-reports@iol.unh.edu, Xueming Li , Christian Ehrhardt , Kevin Traynor , Luca Boccassi Content-Type: text/plain X-BeenThere: test-report@dpdk.org X-Mailman-Version: 2.1.29 Precedence: list List-Id: automatic DPDK test reports List-Unsubscribe: , List-Archive: List-Post: List-Help: List-Subscribe: , Errors-To: test-report-bounces@dpdk.org _Testing PASS_ Branch: tags/v24.11 03f2ed63a5f4e4b57365e358b49095ef4a82cf7d --> testing pass Upstream job id: Generic-DPDK-Compile-ABI#123320 Test environment and result as below: +-------------------+----------+ | Environment | abi_test | +===================+==========+ | CentOS Stream 9 | PASS | +-------------------+----------+ | Debian 12 | PASS | +-------------------+----------+ | CentOS Stream 10 | PASS | +-------------------+----------+ | Fedora 40 | PASS | +-------------------+----------+ | Fedora 41 (Clang) | PASS | +-------------------+----------+ | Fedora 41 | PASS | +-------------------+----------+ | RHEL8 | PASS | +-------------------+----------+ | openSUSE Leap 15 | PASS | +-------------------+----------+ | Ubuntu 22.04 | PASS | +-------------------+----------+ | RHEL9 | PASS | +-------------------+----------+ | Ubuntu 24.04 | PASS | +-------------------+----------+ | Fedora 40 (Clang) | PASS | +-------------------+----------+ CentOS Stream 9 Kernel: Depends on container host Compiler: gcc 11.5.0 20240719 (Red Hat 11.5.0-2) Debian 12 Kernel: Depends on container host Compiler: gcc (Debian 12.2.0-14) 12.2.0 CentOS Stream 10 Kernel: Depends on container host Compiler: gcc 14.2.1 20241104 (Red Hat 14.2.1-6) Fedora 40 Kernel: Depends on container host Compiler: gcc 14.2.1 20240912 (Red Hat 14.2.1-3) Fedora 41 (Clang) Kernel: Depends on container host Compiler: clang 19.1.5 (Fedora 19.1.5-1.fc41) Fedora 41 Kernel: Depends on container host Compiler: gcc 14.2.1 20240912 (Red Hat 14.2.1-3) RHEL8 Kernel: Depends on container host Compiler: gcc 8.5.0 20210514 (Red Hat 8.5.0-22) openSUSE Leap 15 Kernel: Depends on container host Compiler: gcc (SUSE Linux) 7.5.0 Ubuntu 22.04 Kernel: Depends on container host Compiler: gcc (Ubuntu 11.4.0-1ubuntu1~22.04) 11.4.0 RHEL9 Kernel: Depends on container host Compiler: gcc 11.5.0 20240719 (Red Hat 11.5.0-2) Ubuntu 24.04 Kernel: Depends on container host Compiler: gcc (Ubuntu 13.3.0-6ubuntu2~24.04) 13.3.0 Fedora 40 (Clang) Kernel: Depends on container host Compiler: clang 18.1.8 (Fedora 18.1.8-1.fc40) To view detailed results, visit: https://lab.dpdk.org/results/dashboard/tarballs/33251/ UNH-IOL DPDK Community Lab To manage your email subscriptions, visit: https://lab.dpdk.org/results/dashboard/preferences/subscriptions/