From mboxrd@z Thu Jan 1 00:00:00 1970 Return-Path: Received: from mails.dpdk.org (mails.dpdk.org [217.70.189.124]) by inbox.dpdk.org (Postfix) with ESMTP id 2FB6546593 for ; Tue, 15 Apr 2025 07:21:43 +0200 (CEST) Received: from mails.dpdk.org (localhost [127.0.0.1]) by mails.dpdk.org (Postfix) with ESMTP id 0C44D402A1; Tue, 15 Apr 2025 07:21:43 +0200 (CEST) Received: from mail-il1-f228.google.com (mail-il1-f228.google.com [209.85.166.228]) by mails.dpdk.org (Postfix) with ESMTP id 5FAF540289 for ; Tue, 15 Apr 2025 07:21:41 +0200 (CEST) Received: by mail-il1-f228.google.com with SMTP id e9e14a558f8ab-3d439dc0548so17274925ab.3 for ; Mon, 14 Apr 2025 22:21:41 -0700 (PDT) DKIM-Signature: v=1; a=rsa-sha256; c=relaxed/relaxed; d=iol.unh.edu; s=unh-iol; t=1744694500; x=1745299300; darn=dpdk.org; h=cc:to:from:subject:message-id:date:from:to:cc:subject:date :message-id:reply-to; bh=2cUaNhObx0NVUB8GIm1mmKXItwTLJn8jiIQht0tfzIw=; b=DT6AnLtswhKAn1ff3c/v+LJXzV8mf4G+Wh9j4+Ajnx3mUIHOSqaXCOOPTRO+7Mmx26 mhziEldmipF3cfa51xND80thD5WyJ52YCC+gbNcR2Zrcia1fEBywAjCle7xzBgo60RrN uz1lFZNz7H7ymw1VZtkRaDJBat7cxG1KdvCU0= X-Google-DKIM-Signature: v=1; a=rsa-sha256; c=relaxed/relaxed; d=1e100.net; s=20230601; t=1744694500; x=1745299300; h=cc:to:from:subject:message-id:date:x-gm-message-state:from:to:cc :subject:date:message-id:reply-to; bh=2cUaNhObx0NVUB8GIm1mmKXItwTLJn8jiIQht0tfzIw=; b=mEhItjpiG0NMhWVZtsyutOWaX/pYkLrt5/40GkwgIOt2xVbsiFnV5ZfL96ZJV3/5+s K0kY5k7w3SjxRbci/RYIi85GI1XoB6cRzzn8EDBtlWwPDvZ5bbArWXlkDAW2WsaAAnAe 8pm7TbXDL8Us81OFoJrBN6CbrlHRDPlIhKP5m28HoFoxMTIAgoWYV7o+XA12T0aNOVCE MaDMn4YtoQjJtrBbtv25kaut0LP0R3RzOIRc6+5mU4DgpI5wL7xv0QuUOhvYRVcMFc83 bIv9+zS/h+Wyf1wobCf2rZcGOnJ33B7zPdaXcqmoDFwUtRMvor1hU9OtXRGV20vSH93L /cNQ== X-Gm-Message-State: AOJu0YyjM4TqJWFYKXFCAxFOA97hvjilBwkhSTPFTQE5aTOadsnevUH7 dW9aczX4LMgZj155mv0eNRQEE0d4MzVKVvHpM1c8GbIMQhC1UMWNMXd3tXjQWNIjvdbjK187xGw vNscI6I8T7C/Okx6NlnPK2qtlgbV7KY87 X-Gm-Gg: ASbGncsQkSam12NNGr3HtA0BC4oHcHkWiI+NmVQSDPQGIAGzk0OSJh3RMoNckuOxss4 r/BqoI7Xb1yYVP9auA0ir5MUCLsYmrPGuqDjWVleMX2nhFcuwjSVRYvi9fD5mpafK0BSdUmd2ib K4sE42/Aty7c8gVePlEe3b9KTfR7gSXhPqEU8WwSGzxXOw48tlrCsGTfb6kOLTXTqW3245mea3p lkPJ6lJqfGJ+QgT+DxADjHZuQyQDRv9bjQdRFDjfyKRBDg46PDsBbySyTrZiQeNCcJja8XqRqWV FarEMRTx4ea6R8rgCvCa/qQGrC4xZ+wJs9ur X-Google-Smtp-Source: AGHT+IFF9dMJAMYosOJTuyIfDhsQZBFoDBklD8DJKFd8mPM91P+wimJuHokboMYWKhhTB3DeY688XveGtCse X-Received: by 2002:a05:6e02:3001:b0:3d4:4134:521a with SMTP id e9e14a558f8ab-3d7ec21961fmr143308555ab.12.1744694500527; Mon, 14 Apr 2025 22:21:40 -0700 (PDT) Received: from postal.iol.unh.edu (postal.iol.unh.edu. [132.177.123.84]) by smtp-relay.gmail.com with ESMTPS id 8926c6da1cb9f-4f505d41cc9sm636408173.41.2025.04.14.22.21.40 (version=TLS1_2 cipher=ECDHE-ECDSA-AES128-GCM-SHA256 bits=128/128); Mon, 14 Apr 2025 22:21:40 -0700 (PDT) X-Relaying-Domain: iol.unh.edu Date: Mon, 14 Apr 2025 22:21:40 -0700 (PDT) Message-ID: <67fdece4.050a0220.2bea68.e3f5SMTPIN_ADDED_MISSING@mx.google.com> Received: from [172.21.0.5] (unknown [172.18.0.240]) by postal.iol.unh.edu (Postfix) with ESMTP id 00BC76052471; Tue, 15 Apr 2025 01:21:40 -0400 (EDT) Subject: |SUCCESS| [GIT MASTER] 03f2ed63a5f4e4b57365e358b49095ef4a82cf7d From: dpdklab@iol.unh.edu To: Test Report Cc: dpdk-test-reports@iol.unh.edu, Xueming Li , Christian Ehrhardt , Kevin Traynor , Luca Boccassi Content-Type: text/plain X-BeenThere: test-report@dpdk.org X-Mailman-Version: 2.1.29 Precedence: list List-Id: automatic DPDK test reports List-Unsubscribe: , List-Archive: List-Post: List-Help: List-Subscribe: , Errors-To: test-report-bounces@dpdk.org _Testing PASS_ Branch: tags/v24.11 03f2ed63a5f4e4b57365e358b49095ef4a82cf7d --> testing pass Upstream job id: Generic-VM-Unit-Test-DPDK#27974 Test environment and result as below: +---------------------+----------------+ | Environment | dpdk_unit_test | +=====================+================+ | CentOS Stream 10 | PASS | +---------------------+----------------+ | Fedora 40 | PASS | +---------------------+----------------+ | Debian 12 | PASS | +---------------------+----------------+ | CentOS Stream 9 | PASS | +---------------------+----------------+ | Fedora 40 (Clang) | PASS | +---------------------+----------------+ | Fedora 41 | PASS | +---------------------+----------------+ | Fedora 41 (Clang) | PASS | +---------------------+----------------+ | RHEL8 | PASS | +---------------------+----------------+ | RHEL9 | PASS | +---------------------+----------------+ | Ubuntu 20.04 | PASS | +---------------------+----------------+ | Ubuntu 24.04 | PASS | +---------------------+----------------+ | Ubuntu 22.04 | PASS | +---------------------+----------------+ | Windows Server 2022 | PASS | +---------------------+----------------+ CentOS Stream 10 Kernel: Depends on container host Compiler: gcc 14.2.1 20241104 (Red Hat 14.2.1-6) Fedora 40 Kernel: Depends on container host Compiler: gcc 14.2.1 20240912 (Red Hat 14.2.1-3) Debian 12 Kernel: Depends on container host Compiler: gcc (Debian 12.2.0-14) 12.2.0 CentOS Stream 9 Kernel: Depends on container host Compiler: gcc 11.5.0 20240719 (Red Hat 11.5.0-2) Fedora 40 (Clang) Kernel: Depends on container host Compiler: clang 18.1.8 (Fedora 18.1.8-1.fc40) Fedora 41 Kernel: Depends on container host Compiler: gcc 14.2.1 20240912 (Red Hat 14.2.1-3) Fedora 41 (Clang) Kernel: Depends on container host Compiler: clang 19.1.5 (Fedora 19.1.5-1.fc41) RHEL8 Kernel: Depends on container host Compiler: gcc 8.5.0 20210514 (Red Hat 8.5.0-22) RHEL9 Kernel: Depends on container host Compiler: gcc 11.5.0 20240719 (Red Hat 11.5.0-2) Ubuntu 20.04 Kernel: Depends on container host Compiler: gcc (Ubuntu 9.4.0-1ubuntu1~20.04.2) 9.4.0 Ubuntu 24.04 Kernel: Depends on container host Compiler: gcc (Ubuntu 13.3.0-6ubuntu2~24.04) 13.3.0 Ubuntu 22.04 Kernel: Depends on container host Compiler: gcc (Ubuntu 11.4.0-1ubuntu1~22.04) 11.4.0 Windows Server 2022 Kernel: 10.0.20348.2031 Compiler: clang 15.0.7, gcc 14.1.0 (MinGW), and MSVC VS 19.39.33521 To view detailed results, visit: https://lab.dpdk.org/results/dashboard/tarballs/33251/ UNH-IOL DPDK Community Lab To manage your email subscriptions, visit: https://lab.dpdk.org/results/dashboard/preferences/subscriptions/