From mboxrd@z Thu Jan 1 00:00:00 1970 Return-Path: Received: from mails.dpdk.org (mails.dpdk.org [217.70.189.124]) by inbox.dpdk.org (Postfix) with ESMTP id F177E46596 for ; Tue, 15 Apr 2025 08:08:46 +0200 (CEST) Received: from mails.dpdk.org (localhost [127.0.0.1]) by mails.dpdk.org (Postfix) with ESMTP id B4248402A1; Tue, 15 Apr 2025 08:08:46 +0200 (CEST) Received: from mail-vk1-f225.google.com (mail-vk1-f225.google.com [209.85.221.225]) by mails.dpdk.org (Postfix) with ESMTP id 4E60A40289 for ; Tue, 15 Apr 2025 08:08:45 +0200 (CEST) Received: by mail-vk1-f225.google.com with SMTP id 71dfb90a1353d-527b70bd90dso2392861e0c.3 for ; Mon, 14 Apr 2025 23:08:45 -0700 (PDT) DKIM-Signature: v=1; a=rsa-sha256; c=relaxed/relaxed; d=iol.unh.edu; s=unh-iol; t=1744697324; x=1745302124; darn=dpdk.org; h=cc:to:from:subject:message-id:date:from:to:cc:subject:date :message-id:reply-to; bh=nbHD4cypG3AVipw6kFCCcgdnckreFS0Xkd4Nn9PsNeI=; b=Zw3JFB5MVRDNB59caVOjw++9cjk0cL6BbLuVatKmDBaDZlApnLJVzmdOrWo2p8XgGs Y+w7FB2GbGPEtVSrSZTVh+OdwsIyWzNjcSOlOgoCrhHJ1l5rDoEmbqz5k5eSHAL5pL3h Ha9Vrb7K9qBfH26VZdigzsfHK/KdhfgBGcZBI= X-Google-DKIM-Signature: v=1; a=rsa-sha256; c=relaxed/relaxed; d=1e100.net; s=20230601; t=1744697324; x=1745302124; h=cc:to:from:subject:message-id:date:x-gm-message-state:from:to:cc :subject:date:message-id:reply-to; bh=nbHD4cypG3AVipw6kFCCcgdnckreFS0Xkd4Nn9PsNeI=; b=JSUDz86nRCAnJ2bBuuiKRqoDt0J9uUrJAOVYlVEa0Em8EKo3sHa/tixFRaU26vmNcA 02ZvvtH2A/ow9c9Altiqo/NI+Lt0bR1xfnvoWnMkJ5MJI8zCiDDM2R7bVl0OQNZx7UWO vvSfdMatN1xexA++qadiTEFlnB5Gf1Svh76hNtGbZSIs9L8PTgkLPU38s/NNAR3sXvT2 N/u4qN+2cGZf53bIvCH7bZPc6ELxHtYH5/mHlU1oWklskIK3Hl7YlnBzQRVrJbJAE1R0 tnaJ6Tm8Z7aWXrhTsjNnrR83gB8aNbB3gFvSZhuGujUr7lJ8OGTUN8/UYPenMqChdP0y wH3g== X-Gm-Message-State: AOJu0Yz72r7TwTG4Unl5fmWcyS+YTcQQWFJThmu7IFe7YoiOEEUKXmNm lsDQdcFuQEaRFw0vBflW0Ns41e/JM8nbDh8qGTcnbycERT9uZj3VWXB3E56qOsTYbLZk/Y2Og77 ttPGDp0NCmBWcN01qlkWAolIahPPWDMTxEi7EJfumSPWHNRK8 X-Gm-Gg: ASbGncsN6i8htko54D/Rd/J2ZclROaCpCb6KLlDtVI1Y062nqtnNFYRXPV6soaQgQB1 H6Pwee/fZvqHAXV5QAx4vaJHwweXZ/ph13bIzZ9pmk8yPJpCqRL4Lr0yvoJjKfcaMDqK1kwW8m2 ABmfK/jePN4B4HXXZ5uEScNB1erfdug1hN9XrhCfFiMdPj5+tBAQveyslGW1E9L8LPArKN7MOUG dJeJgDaLMewYtyC3Rri9Ux7Nt4Dj6+48mSVB6Uyt0KphNv6m0TVUTpeNmCS/sstJBL7AePVaq16 df8YUQWTECiLYTHlCfAG+JZscm0h9V6xaC2wRXgfH8k43GrG X-Google-Smtp-Source: AGHT+IEWz7NAvI2UEM52fyoXXPLmgGYDW5T17ZE/25rUB/hnVr55xD4nVw+Qei7JB+NM3CSxEUbwpY7UFUiZ X-Received: by 2002:a05:6122:2021:b0:523:8230:70db with SMTP id 71dfb90a1353d-527c35f379emr9369045e0c.10.1744697324545; Mon, 14 Apr 2025 23:08:44 -0700 (PDT) Received: from postal.iol.unh.edu (postal.iol.unh.edu. [2606:4100:3880:1234::84]) by smtp-relay.gmail.com with ESMTPS id 71dfb90a1353d-527abd4cdd5sm752473e0c.1.2025.04.14.23.08.44 (version=TLS1_2 cipher=ECDHE-ECDSA-AES128-GCM-SHA256 bits=128/128); Mon, 14 Apr 2025 23:08:44 -0700 (PDT) X-Relaying-Domain: iol.unh.edu Date: Mon, 14 Apr 2025 23:08:44 -0700 (PDT) Message-ID: <67fdf7ec.050a0220.16932f.3d7aSMTPIN_ADDED_MISSING@mx.google.com> Received: from [172.21.0.6] (unknown [172.18.0.240]) by postal.iol.unh.edu (Postfix) with ESMTP id 289D66052471; Tue, 15 Apr 2025 02:08:44 -0400 (EDT) Subject: |SUCCESS| [GIT MASTER] 03f2ed63a5f4e4b57365e358b49095ef4a82cf7d From: dpdklab@iol.unh.edu To: Test Report Cc: dpdk-test-reports@iol.unh.edu, Xueming Li , Christian Ehrhardt , Kevin Traynor , Luca Boccassi Content-Type: text/plain X-BeenThere: test-report@dpdk.org X-Mailman-Version: 2.1.29 Precedence: list List-Id: automatic DPDK test reports List-Unsubscribe: , List-Archive: List-Post: List-Help: List-Subscribe: , Errors-To: test-report-bounces@dpdk.org _Testing PASS_ Branch: tags/v24.11 03f2ed63a5f4e4b57365e358b49095ef4a82cf7d --> testing pass Upstream job id: Generic-DPDK-Compile-Meson#379990 Test environment and result as below: +-----------------------------------+--------------------+-------------------+------------------+-------------------+-------------------------+----------------------+ | Environment | dpdk_meson_compile | dpdk_compile_spdk | dpdk_compile_ovs | dpdk_msvc_compile | dpdk_llvm_clang_compile | dpdk_mingw64_compile | +===================================+====================+===================+==================+===================+=========================+======================+ | CentOS Stream 9 | PASS | PASS | SKIPPED | SKIPPED | SKIPPED | SKIPPED | +-----------------------------------+--------------------+-------------------+------------------+-------------------+-------------------------+----------------------+ | CentOS Stream 10 | PASS | SKIPPED | SKIPPED | SKIPPED | SKIPPED | SKIPPED | +-----------------------------------+--------------------+-------------------+------------------+-------------------+-------------------------+----------------------+ | Debian 12 | PASS | PASS | SKIPPED | SKIPPED | SKIPPED | SKIPPED | +-----------------------------------+--------------------+-------------------+------------------+-------------------+-------------------------+----------------------+ | Fedora 40 (Clang) | PASS | PASS | SKIPPED | SKIPPED | SKIPPED | SKIPPED | +-----------------------------------+--------------------+-------------------+------------------+-------------------+-------------------------+----------------------+ | Fedora 40 | PASS | PASS | SKIPPED | SKIPPED | SKIPPED | SKIPPED | +-----------------------------------+--------------------+-------------------+------------------+-------------------+-------------------------+----------------------+ | Fedora 41 (Clang) | PASS | PASS | PASS | SKIPPED | SKIPPED | SKIPPED | +-----------------------------------+--------------------+-------------------+------------------+-------------------+-------------------------+----------------------+ | Fedora 41 | PASS | PASS | PASS | SKIPPED | SKIPPED | SKIPPED | +-----------------------------------+--------------------+-------------------+------------------+-------------------+-------------------------+----------------------+ | openSUSE Leap 15 | PASS | SKIPPED | SKIPPED | SKIPPED | SKIPPED | SKIPPED | +-----------------------------------+--------------------+-------------------+------------------+-------------------+-------------------------+----------------------+ | RHEL8 | PASS | SKIPPED | SKIPPED | SKIPPED | SKIPPED | SKIPPED | +-----------------------------------+--------------------+-------------------+------------------+-------------------+-------------------------+----------------------+ | Ubuntu 22.04 | PASS | PASS | SKIPPED | SKIPPED | SKIPPED | SKIPPED | +-----------------------------------+--------------------+-------------------+------------------+-------------------+-------------------------+----------------------+ | Ubuntu 24.04 | PASS | PASS | PASS | SKIPPED | SKIPPED | SKIPPED | +-----------------------------------+--------------------+-------------------+------------------+-------------------+-------------------------+----------------------+ | Ubuntu 20.04 | PASS | SKIPPED | SKIPPED | SKIPPED | SKIPPED | SKIPPED | +-----------------------------------+--------------------+-------------------+------------------+-------------------+-------------------------+----------------------+ | RHEL9 | PASS | SKIPPED | SKIPPED | SKIPPED | SKIPPED | SKIPPED | +-----------------------------------+--------------------+-------------------+------------------+-------------------+-------------------------+----------------------+ | Alpine | PASS | SKIPPED | SKIPPED | SKIPPED | SKIPPED | SKIPPED | +-----------------------------------+--------------------+-------------------+------------------+-------------------+-------------------------+----------------------+ | Ubuntu 24.04 32 Bit Cross Compile | PASS | SKIPPED | SKIPPED | SKIPPED | SKIPPED | SKIPPED | +-----------------------------------+--------------------+-------------------+------------------+-------------------+-------------------------+----------------------+ | FreeBSD 13.5 | PASS | SKIPPED | SKIPPED | SKIPPED | SKIPPED | SKIPPED | +-----------------------------------+--------------------+-------------------+------------------+-------------------+-------------------------+----------------------+ | FreeBSD 14.2 | PASS | SKIPPED | SKIPPED | SKIPPED | SKIPPED | SKIPPED | +-----------------------------------+--------------------+-------------------+------------------+-------------------+-------------------------+----------------------+ | Windows Server 2022 | SKIPPED | SKIPPED | SKIPPED | PASS | PASS | PASS | +-----------------------------------+--------------------+-------------------+------------------+-------------------+-------------------------+----------------------+ CentOS Stream 9 Kernel: Depends on container host Compiler: gcc 11.5.0 20240719 (Red Hat 11.5.0-2) CentOS Stream 10 Kernel: Depends on container host Compiler: gcc 14.2.1 20241104 (Red Hat 14.2.1-6) Debian 12 Kernel: Depends on container host Compiler: gcc (Debian 12.2.0-14) 12.2.0 Fedora 40 (Clang) Kernel: Depends on container host Compiler: clang 18.1.8 (Fedora 18.1.8-1.fc40) Fedora 40 Kernel: Depends on container host Compiler: gcc 14.2.1 20240912 (Red Hat 14.2.1-3) Fedora 41 (Clang) Kernel: Depends on container host Compiler: clang 19.1.5 (Fedora 19.1.5-1.fc41) Fedora 41 Kernel: Depends on container host Compiler: gcc 14.2.1 20240912 (Red Hat 14.2.1-3) openSUSE Leap 15 Kernel: Depends on container host Compiler: gcc (SUSE Linux) 7.5.0 RHEL8 Kernel: Depends on container host Compiler: gcc 8.5.0 20210514 (Red Hat 8.5.0-22) Ubuntu 22.04 Kernel: Depends on container host Compiler: gcc (Ubuntu 11.4.0-1ubuntu1~22.04) 11.4.0 Ubuntu 24.04 Kernel: Depends on container host Compiler: gcc (Ubuntu 13.3.0-6ubuntu2~24.04) 13.3.0 Ubuntu 20.04 Kernel: Depends on container host Compiler: gcc (Ubuntu 9.4.0-1ubuntu1~20.04.2) 9.4.0 RHEL9 Kernel: Depends on container host Compiler: gcc 11.5.0 20240719 (Red Hat 11.5.0-2) Alpine Kernel: Depends on container host Compiler: gcc (Alpine 14.2.0) 14.2.0 Ubuntu 24.04 32 Bit Cross Compile Kernel: Depends on container host Compiler: gcc (Ubuntu 13.3.0-6ubuntu2~24.04) 13.3.0 FreeBSD 13.5 Kernel: 13.5-RELEASE Compiler: clang 19.1.7 FreeBSD 14.2 Kernel: 14.2-RELEASE Compiler: clang 18.1.6 Windows Server 2022 Kernel: 10.0.20348.2031 Compiler: clang 15.0.7, gcc 14.1.0 (MinGW), and MSVC VS 19.39.33521 To view detailed results, visit: https://lab.dpdk.org/results/dashboard/tarballs/33251/ UNH-IOL DPDK Community Lab To manage your email subscriptions, visit: https://lab.dpdk.org/results/dashboard/preferences/subscriptions/