From mboxrd@z Thu Jan 1 00:00:00 1970 Return-Path: Received: from mails.dpdk.org (mails.dpdk.org [217.70.189.124]) by inbox.dpdk.org (Postfix) with ESMTP id BEE7546596 for ; Tue, 15 Apr 2025 09:00:56 +0200 (CEST) Received: from mails.dpdk.org (localhost [127.0.0.1]) by mails.dpdk.org (Postfix) with ESMTP id B4BB2402A1; Tue, 15 Apr 2025 09:00:56 +0200 (CEST) Received: from mail-io1-f98.google.com (mail-io1-f98.google.com [209.85.166.98]) by mails.dpdk.org (Postfix) with ESMTP id BD79440289 for ; Tue, 15 Apr 2025 09:00:55 +0200 (CEST) Received: by mail-io1-f98.google.com with SMTP id ca18e2360f4ac-85b3f92c8f8so481410039f.1 for ; Tue, 15 Apr 2025 00:00:55 -0700 (PDT) DKIM-Signature: v=1; a=rsa-sha256; c=relaxed/relaxed; d=iol.unh.edu; s=unh-iol; t=1744700455; x=1745305255; darn=dpdk.org; h=cc:to:from:subject:message-id:date:from:to:cc:subject:date :message-id:reply-to; bh=f4CjPUOt91yutg5kyuvqT/xv5V3LhfhRBqOM95XckQ8=; b=AQVwrprb+7q90EcXAZ8u46ImpKDleRZcrlu/gIUJNZeBhrNVHUS1/LCALCpXjkm124 I10KQt3Z/s5pXIfbNYl6Av0uatEduLL1RxB4Zm/JA0F2kH4awMzVQXygDwyRMK7747uw qnI5Pt4kzvzAro9O8XxDGHxTNuGmcBdt3mWH0= X-Google-DKIM-Signature: v=1; a=rsa-sha256; c=relaxed/relaxed; d=1e100.net; s=20230601; t=1744700455; x=1745305255; h=cc:to:from:subject:message-id:date:x-gm-message-state:from:to:cc :subject:date:message-id:reply-to; bh=f4CjPUOt91yutg5kyuvqT/xv5V3LhfhRBqOM95XckQ8=; b=FID78QfsWO8AzFJiz/ZYvART5i9YiytP5aBpMLjHLAt0RLaujagx9t9XoYNRVorS+j P3vjVWzPyBczpYoISAMasxBTlv3zYq5YvTRvI4INf9KND+DxVWXjC8U/H1BS1tk3qQJ9 7Wv5IprGTX5rQYZD/82hXJRK9HmtN7hj0Q4GxyyQTTjbOI0HiSbyubbmC/7L4DT2isk4 FD7RbdmR/d48PM+YuawTSsf4gt0YO4MKB1PXklHGX7HjfvVkNHaOpNLSxZ46w+beEwJf y1eBC5284Ib6h3rbLHz5DZaODkCtTJ5lg98Rz2qiKqO3UtRzN1YhgMgJxuDc7uktkM/C hpnQ== X-Gm-Message-State: AOJu0YwOLE/xm7Fx3BQaksTx9/CIy5bpQQIJ3vZ9evgd9YISeV7Fz6Fc 8RYY1plv5g/tn+6Ewl+3dkOB3/14D8n6Zf1JhOgsNZDX0zO7JfpPt5NGd6PLafJ26/q0M/E9I7I IDmGbS0Lpd1SVvRO760QuXY3JwdkX9Y1jcCuWn4EAh1tPQZ5U X-Gm-Gg: ASbGncsMCPRKmTDtg47xS2x0f7EN6nq4gbuHYAi5wihuDRoDp7OhwHpALH+0ts7waf/ XD65mI/GQRlcjxGUYsFC7pUdW5orGwjcyyGBO8VgIHrLaJdDkbbMjtpIYeYDp2OSeb1hBH7ynL6 K6dUpEBq9PUwwttmCkjh4kOfEkvMFEYNJaaARu9VsDD20p35CItJ1TMHYMoreX+xK8eMmpnFsUb 6AyppmVUMZl1TBr1T2fM8ODtJDZzBrYqQtswk8yL6Gob244kNrvk8KmCsuEZ/YthulF5xnXpeox enwc4YTEcfCdaFgKpluZZdNR+6rNGGhlG12XS0VQCIQN+Y1P X-Google-Smtp-Source: AGHT+IGHERCUDf6is2SYQvEyEEeaUbtijk2Q1xeiJuQHsPEhyKpZzxSTFV6Iqqor/k6uOT89oe8sM5nr7C/s X-Received: by 2002:a05:6602:408c:b0:85b:505a:7def with SMTP id ca18e2360f4ac-8617cb6441cmr1862608339f.6.1744700455098; Tue, 15 Apr 2025 00:00:55 -0700 (PDT) Received: from postal.iol.unh.edu (postal.iol.unh.edu. [2606:4100:3880:1234::84]) by smtp-relay.gmail.com with ESMTPS id ca18e2360f4ac-86165426a61sm46531239f.9.2025.04.15.00.00.55 (version=TLS1_2 cipher=ECDHE-ECDSA-AES128-GCM-SHA256 bits=128/128); Tue, 15 Apr 2025 00:00:55 -0700 (PDT) X-Relaying-Domain: iol.unh.edu Date: Tue, 15 Apr 2025 00:00:55 -0700 (PDT) Message-ID: <67fe0427.050a0220.1bd4e4.560dSMTPIN_ADDED_MISSING@mx.google.com> Received: from [172.21.0.5] (unknown [172.18.0.240]) by postal.iol.unh.edu (Postfix) with ESMTP id 900B56052472; Tue, 15 Apr 2025 03:00:54 -0400 (EDT) Subject: |SUCCESS| [GIT MASTER] 4401486b5e30d43a134f80f9802f60b5f43e74a8 From: dpdklab@iol.unh.edu To: Test Report Cc: dpdk-test-reports@iol.unh.edu, Xueming Li , Christian Ehrhardt , Kevin Traynor , Luca Boccassi Content-Type: text/plain X-BeenThere: test-report@dpdk.org X-Mailman-Version: 2.1.29 Precedence: list List-Id: automatic DPDK test reports List-Unsubscribe: , List-Archive: List-Post: List-Help: List-Subscribe: , Errors-To: test-report-bounces@dpdk.org _Testing PASS_ Branch: tags/v22.11 4401486b5e30d43a134f80f9802f60b5f43e74a8 --> testing pass Upstream job id: Generic-DPDK-Compile-ABI#123332 Test environment and result as below: +-------------------+----------+ | Environment | abi_test | +===================+==========+ | CentOS Stream 9 | PASS | +-------------------+----------+ | CentOS Stream 10 | PASS | +-------------------+----------+ | Fedora 40 (Clang) | PASS | +-------------------+----------+ | Debian 12 | PASS | +-------------------+----------+ | Fedora 40 | PASS | +-------------------+----------+ | Fedora 41 (Clang) | PASS | +-------------------+----------+ | Ubuntu 22.04 | PASS | +-------------------+----------+ | Fedora 41 | PASS | +-------------------+----------+ | openSUSE Leap 15 | PASS | +-------------------+----------+ | RHEL8 | PASS | +-------------------+----------+ | RHEL9 | PASS | +-------------------+----------+ | Ubuntu 24.04 | PASS | +-------------------+----------+ CentOS Stream 9 Kernel: Depends on container host Compiler: gcc 11.5.0 20240719 (Red Hat 11.5.0-2) CentOS Stream 10 Kernel: Depends on container host Compiler: gcc 14.2.1 20241104 (Red Hat 14.2.1-6) Fedora 40 (Clang) Kernel: Depends on container host Compiler: clang 18.1.8 (Fedora 18.1.8-1.fc40) Debian 12 Kernel: Depends on container host Compiler: gcc (Debian 12.2.0-14) 12.2.0 Fedora 40 Kernel: Depends on container host Compiler: gcc 14.2.1 20240912 (Red Hat 14.2.1-3) Fedora 41 (Clang) Kernel: Depends on container host Compiler: clang 19.1.5 (Fedora 19.1.5-1.fc41) Ubuntu 22.04 Kernel: Depends on container host Compiler: gcc (Ubuntu 11.4.0-1ubuntu1~22.04) 11.4.0 Fedora 41 Kernel: Depends on container host Compiler: gcc 14.2.1 20240912 (Red Hat 14.2.1-3) openSUSE Leap 15 Kernel: Depends on container host Compiler: gcc (SUSE Linux) 7.5.0 RHEL8 Kernel: Depends on container host Compiler: gcc 8.5.0 20210514 (Red Hat 8.5.0-22) RHEL9 Kernel: Depends on container host Compiler: gcc 11.5.0 20240719 (Red Hat 11.5.0-2) Ubuntu 24.04 Kernel: Depends on container host Compiler: gcc (Ubuntu 13.3.0-6ubuntu2~24.04) 13.3.0 To view detailed results, visit: https://lab.dpdk.org/results/dashboard/tarballs/33253/ UNH-IOL DPDK Community Lab To manage your email subscriptions, visit: https://lab.dpdk.org/results/dashboard/preferences/subscriptions/