From mboxrd@z Thu Jan  1 00:00:00 1970
Return-Path: <test-report-bounces@dpdk.org>
Received: from mails.dpdk.org (mails.dpdk.org [217.70.189.124])
	by inbox.dpdk.org (Postfix) with ESMTP id E3CC546596
	for <public@inbox.dpdk.org>; Tue, 15 Apr 2025 09:01:43 +0200 (CEST)
Received: from mails.dpdk.org (localhost [127.0.0.1])
	by mails.dpdk.org (Postfix) with ESMTP id DA50E402A1;
	Tue, 15 Apr 2025 09:01:43 +0200 (CEST)
Received: from mail-pl1-f227.google.com (mail-pl1-f227.google.com
 [209.85.214.227])
 by mails.dpdk.org (Postfix) with ESMTP id 837AB40289
 for <test-report@dpdk.org>; Tue, 15 Apr 2025 09:01:42 +0200 (CEST)
Received: by mail-pl1-f227.google.com with SMTP id
 d9443c01a7336-22423adf751so47290655ad.2
 for <test-report@dpdk.org>; Tue, 15 Apr 2025 00:01:42 -0700 (PDT)
DKIM-Signature: v=1; a=rsa-sha256; c=relaxed/relaxed;
 d=iol.unh.edu; s=unh-iol; t=1744700501; x=1745305301; darn=dpdk.org;
 h=cc:to:from:subject:message-id:date:from:to:cc:subject:date
 :message-id:reply-to;
 bh=BgHIWoFwG+TJKR04E3nqtWvskQZlsA0A23JdETnn6O0=;
 b=Kx8ja6ih0WzFmR2rBnoQdhoFM+gvO2xVLk2TZM3VEQcwY3DmhZOQ4Q7ZtvJUI0MJu0
 CqXTf3GuK2A39rLyAI79LwD4Qb4TSu2b0ciZnOTUlPa0kML7dyjlp6IVjgk9vdC49HDV
 x2p5xm7WJb44vdPDrG+X4E8V1TZFgvX3v4+OA=
X-Google-DKIM-Signature: v=1; a=rsa-sha256; c=relaxed/relaxed;
 d=1e100.net; s=20230601; t=1744700501; x=1745305301;
 h=cc:to:from:subject:message-id:date:x-gm-message-state:from:to:cc
 :subject:date:message-id:reply-to;
 bh=BgHIWoFwG+TJKR04E3nqtWvskQZlsA0A23JdETnn6O0=;
 b=KLmgfFMoSkChwLmjBN4gn/E6FK7laEMHd/15z07ofsWSTSEn23TvsURTsgKHZb+jIE
 2YMzOLCOB9pRX3ywQK/qoHRfVWap1IxGDI5VAfZ1wPTZm9eSfECDcX4xX3wec2trepJ4
 2tR+CgjvmWDSvbnuT+TRLDYpCzeraea0hyNjAuLNY9UwLv4np8hcvATM72x5CNerUHNz
 4mXzQ6pDqrQyIgeTzM3TRfDxkOTr1zPLnlAILrnzpRJEATbxQhZe+A/g9ODys15v8RIN
 vKce9cBnKz4UVAw56LiT415LDz7ZNvQZw9vGXnVaIK5EmY/QyD1S9Jw20LP71MB3wA9p
 SnxQ==
X-Gm-Message-State: AOJu0YyyxDt7OaENJ13O1vBOPcrqU5LktyHXtCMFZOmPPxHrnUz2ahRI
 NovgAv3UfvPVoZ9b3O8zuPv4qVemFQxHz8jRjoKpaKX4bEo7sxBergxBDrC2R/CBdRlyLMoEZMB
 +gXDZTTlZKP8uU7SkddCRuIyJ9yJt27xvePwCvTNmL3agiNRr
X-Gm-Gg: ASbGncuLMqMOA6aVkOyN9SV+7SM4xXp2WGH8nRHuitt7lf62X+CJjCAEW1iw8KgTzTH
 gKlgdrzWIAw+fJrcC433ABeuauKWyzfMqBF676O5XALB2TC2jYLKycui+D5VJ6uKkwwDxdfU+D8
 y2RZ9vzAaItRiG6tGo1OiDe8EZiBWosDuOpBK65MmlX3rwQdp6SfyeBI43zyBt4Ub1Jwj+rx80C
 TgViB2PKQtCeZtpZmU6/d6hOA8tanfyLAWJHkswbG6uDAASH433CEfWnhtKXi6E2RyF7Q7jvLRf
 agpdrSAAPSuwHtmKy6cSc+3wSWyb7Y+K166D33xs2OjwV3zN
X-Google-Smtp-Source: AGHT+IF0xaZiJeA+Wt80TjINrRfMZpNYqEbIXBwCmwRnWM+UK99xw3wBJ+r9pXhZB06J6ZkQngX3ebfUHrjz
X-Received: by 2002:a17:902:fc4f:b0:229:1717:8826 with SMTP id
 d9443c01a7336-22bea4c0072mr271870555ad.28.1744700501311; 
 Tue, 15 Apr 2025 00:01:41 -0700 (PDT)
Received: from postal.iol.unh.edu (postal.iol.unh.edu.
 [2606:4100:3880:1234::84]) by smtp-relay.gmail.com with ESMTPS id
 d9443c01a7336-22ac7b42159sm6699175ad.24.2025.04.15.00.01.41
 (version=TLS1_2 cipher=ECDHE-ECDSA-AES128-GCM-SHA256 bits=128/128);
 Tue, 15 Apr 2025 00:01:41 -0700 (PDT)
X-Relaying-Domain: iol.unh.edu
Date: Tue, 15 Apr 2025 00:01:41 -0700 (PDT)
Message-ID: <67fe0455.170a0220.3847a8.209eSMTPIN_ADDED_MISSING@mx.google.com>
Received: from [172.21.0.8] (unknown [172.18.0.240])
 by postal.iol.unh.edu (Postfix) with ESMTP id ACC5E6052471;
 Tue, 15 Apr 2025 03:01:40 -0400 (EDT)
Subject: |SUCCESS| [GIT MASTER] c66daa12e76d7b4912cfb7109a761856a7a873ab
From: dpdklab@iol.unh.edu
To: Test Report <test-report@dpdk.org>
Cc: dpdk-test-reports@iol.unh.edu, Xueming Li <xuemingl@nvidia.com>,
 Christian Ehrhardt <christian.ehrhardt@canonical.com>,
 Kevin Traynor <ktraynor@redhat.com>, Luca Boccassi <bluca@debian.org>
Content-Type: text/plain
X-BeenThere: test-report@dpdk.org
X-Mailman-Version: 2.1.29
Precedence: list
List-Id: automatic DPDK test reports <test-report.dpdk.org>
List-Unsubscribe: <https://mails.dpdk.org/options/test-report>,
 <mailto:test-report-request@dpdk.org?subject=unsubscribe>
List-Archive: <http://mails.dpdk.org/archives/test-report/>
List-Post: <mailto:test-report@dpdk.org>
List-Help: <mailto:test-report-request@dpdk.org?subject=help>
List-Subscribe: <https://mails.dpdk.org/listinfo/test-report>,
 <mailto:test-report-request@dpdk.org?subject=subscribe>
Errors-To: test-report-bounces@dpdk.org

_Testing PASS_

Branch: tags/v23.11

c66daa12e76d7b4912cfb7109a761856a7a873ab --> testing pass

Upstream job id: Generic-Unit-Test-DPDK#330997

Test environment and result as below:

+---------------------+----------------+
|     Environment     | dpdk_unit_test |
+=====================+================+
| Fedora 40           | PASS           |
+---------------------+----------------+
| CentOS Stream 10    | PASS           |
+---------------------+----------------+
| CentOS Stream 9     | PASS           |
+---------------------+----------------+
| Debian 12           | PASS           |
+---------------------+----------------+
| Fedora 41 (Clang)   | PASS           |
+---------------------+----------------+
| Fedora 40 (Clang)   | PASS           |
+---------------------+----------------+
| Ubuntu 24.04        | PASS           |
+---------------------+----------------+
| RHEL9               | PASS           |
+---------------------+----------------+
| Ubuntu 20.04        | PASS           |
+---------------------+----------------+
| Fedora 41           | PASS           |
+---------------------+----------------+
| RHEL8               | PASS           |
+---------------------+----------------+
| Ubuntu 22.04        | PASS           |
+---------------------+----------------+
| Windows Server 2022 | PASS           |
+---------------------+----------------+


Fedora 40
	Kernel: Depends on container host
	Compiler: gcc 14.2.1 20240912 (Red Hat 14.2.1-3)

CentOS Stream 10
	Kernel: Depends on container host
	Compiler: gcc 14.2.1 20241104 (Red Hat 14.2.1-6)

CentOS Stream 9
	Kernel: Depends on container host
	Compiler: gcc 11.5.0 20240719 (Red Hat 11.5.0-2)

Debian 12
	Kernel: Depends on container host
	Compiler: gcc (Debian 12.2.0-14) 12.2.0

Fedora 41 (Clang)
	Kernel: Depends on container host
	Compiler: clang 19.1.5 (Fedora 19.1.5-1.fc41)

Fedora 40 (Clang)
	Kernel: Depends on container host
	Compiler: clang 18.1.8 (Fedora 18.1.8-1.fc40)

Ubuntu 24.04
	Kernel: Depends on container host
	Compiler: gcc (Ubuntu 13.3.0-6ubuntu2~24.04) 13.3.0

RHEL9
	Kernel: Depends on container host
	Compiler: gcc 11.5.0 20240719 (Red Hat 11.5.0-2)

Ubuntu 20.04
	Kernel: Depends on container host
	Compiler: gcc (Ubuntu 9.4.0-1ubuntu1~20.04.2) 9.4.0

Fedora 41
	Kernel: Depends on container host
	Compiler: gcc 14.2.1 20240912 (Red Hat 14.2.1-3)

RHEL8
	Kernel: Depends on container host
	Compiler: gcc 8.5.0 20210514 (Red Hat 8.5.0-22)

Ubuntu 22.04
	Kernel: Depends on container host
	Compiler: gcc (Ubuntu 11.4.0-1ubuntu1~22.04) 11.4.0

Windows Server 2022
	Kernel: 10.0.20348.2031
	Compiler: clang 15.0.7, gcc 14.1.0 (MinGW), and MSVC VS 19.39.33521

To view detailed results, visit:
https://lab.dpdk.org/results/dashboard/tarballs/33252/

UNH-IOL DPDK Community Lab

To manage your email subscriptions, visit: 
https://lab.dpdk.org/results/dashboard/preferences/subscriptions/