From mboxrd@z Thu Jan 1 00:00:00 1970 Return-Path: Received: from mails.dpdk.org (mails.dpdk.org [217.70.189.124]) by inbox.dpdk.org (Postfix) with ESMTP id BC9F946598 for ; Tue, 15 Apr 2025 11:24:11 +0200 (CEST) Received: from mails.dpdk.org (localhost [127.0.0.1]) by mails.dpdk.org (Postfix) with ESMTP id B8CA8402A1; Tue, 15 Apr 2025 11:24:11 +0200 (CEST) Received: from mail-pl1-f227.google.com (mail-pl1-f227.google.com [209.85.214.227]) by mails.dpdk.org (Postfix) with ESMTP id 06BE940289 for ; Tue, 15 Apr 2025 11:24:11 +0200 (CEST) Received: by mail-pl1-f227.google.com with SMTP id d9443c01a7336-224019ad9edso68911205ad.1 for ; Tue, 15 Apr 2025 02:24:10 -0700 (PDT) DKIM-Signature: v=1; a=rsa-sha256; c=relaxed/relaxed; d=iol.unh.edu; s=unh-iol; t=1744709050; x=1745313850; darn=dpdk.org; h=cc:to:from:subject:message-id:date:from:to:cc:subject:date :message-id:reply-to; bh=l9frA7XkTmkn2wxwQgAVH3FTDr8i0iv/YRtGTk09AyU=; b=ZiSB7YF/Q1a0ccMrDz2vVvE+5HRg65n/LszVeHoXFNT84/k6j+mxFyy4tz02hB9Aaa X/Kwg7oxu+riIUq27uZhlsJmgfk/kHRMcA137mZ2jx/1yOawukG4NkCRIOzHBh9LarOq t864cHhhlLVQKCSQiLkuXmsPe3gIN7VXSO62I= X-Google-DKIM-Signature: v=1; a=rsa-sha256; c=relaxed/relaxed; d=1e100.net; s=20230601; t=1744709050; x=1745313850; h=cc:to:from:subject:message-id:date:x-gm-message-state:from:to:cc :subject:date:message-id:reply-to; bh=l9frA7XkTmkn2wxwQgAVH3FTDr8i0iv/YRtGTk09AyU=; b=eUX+S5Uf80XJSok+hcsBv3ywoDj/7lGu1TUB7smLpNl/vVJUadSrNYhcRe1Cn+0fcI G3YQkOzA1v8AHY5wbTG2KfpXpfhsozAIIxiwLsvKb6r/TES2vvxGtF3ZdF2xd+ujaKcr JDbhw2j5uxikLdwBrgIRGQRnSjnDTyUN3XU/koG9f2+rid6gFnoV8x2joVZshSVgYw/Z 2K70IaXMS0lXW1if4AxrRCPcObtkBYXtZaPx5OsJRGBGMOyaozLRf6p0GBTmD30QBvyY 2j3xOvRo5m+DX+TCSot0WIpyoMBc/yFw4/53g65dizIZnxsULGwpFUQPyV1nleUV6JmE 4CXg== X-Gm-Message-State: AOJu0Yzyv+K7oXHH+aLbff5Y+ELitSQ+MsFAbCsufWIruAytLDI/i3fp /okIXA16GxYBVFZbiWt30hlWPrXYUl68Ol0GBe/UyE9MdSdyCVk7g2B/RWYiG47lNJgB2NkChAM qO7xHvdYoSJLMCwEBBM0T9BMBrzCTmLVP1D8L2n3W X-Gm-Gg: ASbGnctyRjjne8eHUb4wzPyTLYJExJGYGLS9rKxBIt1K3jb4ZgXcRvouQzfJk5IMYyz yZrP20Ll3gt4l6cMLLsLPsC0wsnKQ0b6AsS1hCvFibnDXiB51b8ab0uQZqS7kpd+DMduVgfo0H2 BOEgYgFrjwPU0h5QmSwihHD5VZUHZsB9f0aHVzTjeACrPD3aBiR1Jnzn8eaQXZ64UNGmAX0IRBz u7fhqNZRMlUd/b+H0O7dCFw9Dd7Af1SPvwHsO3nwBQ94UKUOIqyyBnkOWrD80Bz5S58uud46ZiU r6CvghL2bXtGEw2c/5duOGWM9EtabHV4OlPR X-Google-Smtp-Source: AGHT+IESvWR936lQh/hyyR7BqSGHjxQkboq+qdQyU4z0tjcBBRpbXKFzK3xs2ThzFXj40iekeFObxukEAFAm X-Received: by 2002:a17:902:e5cf:b0:215:94eb:adb6 with SMTP id d9443c01a7336-22bea4efe58mr269404605ad.40.1744709050189; Tue, 15 Apr 2025 02:24:10 -0700 (PDT) Received: from postal.iol.unh.edu (postal.iol.unh.edu. [132.177.123.84]) by smtp-relay.gmail.com with ESMTPS id d9443c01a7336-22ac7cafd76sm6907605ad.107.2025.04.15.02.24.10 (version=TLS1_2 cipher=ECDHE-ECDSA-AES128-GCM-SHA256 bits=128/128); Tue, 15 Apr 2025 02:24:10 -0700 (PDT) X-Relaying-Domain: iol.unh.edu Date: Tue, 15 Apr 2025 02:24:10 -0700 (PDT) Message-ID: <67fe25ba.170a0220.813cc.34d9SMTPIN_ADDED_MISSING@mx.google.com> Received: from [172.17.0.5] (unknown [172.18.0.217]) by postal.iol.unh.edu (Postfix) with ESMTP id 47DC26052471; Tue, 15 Apr 2025 05:24:09 -0400 (EDT) Subject: |SUCCESS| [GIT MASTER] 076c6f28ae606d6d2059b8903208fd728187cbff From: dpdklab@iol.unh.edu To: Test Report Cc: dpdk-test-reports@iol.unh.edu, Stephen Hemminger Content-Type: text/plain X-BeenThere: test-report@dpdk.org X-Mailman-Version: 2.1.29 Precedence: list List-Id: automatic DPDK test reports List-Unsubscribe: , List-Archive: List-Post: List-Help: List-Subscribe: , Errors-To: test-report-bounces@dpdk.org _Testing PASS_ Branch: dpdk-next-net 076c6f28ae606d6d2059b8903208fd728187cbff --> testing pass Upstream job id: Generic-DPDK-Compile-Meson#380074 Test environment and result as below: +-----------------------------------+--------------------+-------------------+------------------+-------------------+-------------------------+----------------------+ | Environment | dpdk_meson_compile | dpdk_compile_spdk | dpdk_compile_ovs | dpdk_msvc_compile | dpdk_llvm_clang_compile | dpdk_mingw64_compile | +===================================+====================+===================+==================+===================+=========================+======================+ | CentOS Stream 9 | PASS | PASS | SKIPPED | SKIPPED | SKIPPED | SKIPPED | +-----------------------------------+--------------------+-------------------+------------------+-------------------+-------------------------+----------------------+ | CentOS Stream 10 | PASS | SKIPPED | SKIPPED | SKIPPED | SKIPPED | SKIPPED | +-----------------------------------+--------------------+-------------------+------------------+-------------------+-------------------------+----------------------+ | Debian 12 | PASS | PASS | SKIPPED | SKIPPED | SKIPPED | SKIPPED | +-----------------------------------+--------------------+-------------------+------------------+-------------------+-------------------------+----------------------+ | Fedora 40 | PASS | PASS | SKIPPED | SKIPPED | SKIPPED | SKIPPED | +-----------------------------------+--------------------+-------------------+------------------+-------------------+-------------------------+----------------------+ | Fedora 40 (Clang) | PASS | PASS | SKIPPED | SKIPPED | SKIPPED | SKIPPED | +-----------------------------------+--------------------+-------------------+------------------+-------------------+-------------------------+----------------------+ | Fedora 41 (Clang) | PASS | PASS | PASS | SKIPPED | SKIPPED | SKIPPED | +-----------------------------------+--------------------+-------------------+------------------+-------------------+-------------------------+----------------------+ | Fedora 41 | PASS | PASS | PASS | SKIPPED | SKIPPED | SKIPPED | +-----------------------------------+--------------------+-------------------+------------------+-------------------+-------------------------+----------------------+ | openSUSE Leap 15 | PASS | SKIPPED | SKIPPED | SKIPPED | SKIPPED | SKIPPED | +-----------------------------------+--------------------+-------------------+------------------+-------------------+-------------------------+----------------------+ | RHEL8 | PASS | SKIPPED | SKIPPED | SKIPPED | SKIPPED | SKIPPED | +-----------------------------------+--------------------+-------------------+------------------+-------------------+-------------------------+----------------------+ | RHEL9 | PASS | SKIPPED | SKIPPED | SKIPPED | SKIPPED | SKIPPED | +-----------------------------------+--------------------+-------------------+------------------+-------------------+-------------------------+----------------------+ | Ubuntu 20.04 | PASS | SKIPPED | SKIPPED | SKIPPED | SKIPPED | SKIPPED | +-----------------------------------+--------------------+-------------------+------------------+-------------------+-------------------------+----------------------+ | Ubuntu 22.04 | PASS | PASS | SKIPPED | SKIPPED | SKIPPED | SKIPPED | +-----------------------------------+--------------------+-------------------+------------------+-------------------+-------------------------+----------------------+ | Ubuntu 24.04 | PASS | PASS | PASS | SKIPPED | SKIPPED | SKIPPED | +-----------------------------------+--------------------+-------------------+------------------+-------------------+-------------------------+----------------------+ | Ubuntu 24.04 32 Bit Cross Compile | PASS | SKIPPED | SKIPPED | SKIPPED | SKIPPED | SKIPPED | +-----------------------------------+--------------------+-------------------+------------------+-------------------+-------------------------+----------------------+ | Alpine | PASS | SKIPPED | SKIPPED | SKIPPED | SKIPPED | SKIPPED | +-----------------------------------+--------------------+-------------------+------------------+-------------------+-------------------------+----------------------+ | FreeBSD 13.5 | PASS | SKIPPED | SKIPPED | SKIPPED | SKIPPED | SKIPPED | +-----------------------------------+--------------------+-------------------+------------------+-------------------+-------------------------+----------------------+ | FreeBSD 14.2 | PASS | SKIPPED | SKIPPED | SKIPPED | SKIPPED | SKIPPED | +-----------------------------------+--------------------+-------------------+------------------+-------------------+-------------------------+----------------------+ | Windows Server 2022 | SKIPPED | SKIPPED | SKIPPED | PASS | PASS | PASS | +-----------------------------------+--------------------+-------------------+------------------+-------------------+-------------------------+----------------------+ CentOS Stream 9 Kernel: Depends on container host Compiler: gcc 11.5.0 20240719 (Red Hat 11.5.0-2) CentOS Stream 10 Kernel: Depends on container host Compiler: gcc 14.2.1 20241104 (Red Hat 14.2.1-6) Debian 12 Kernel: Depends on container host Compiler: gcc (Debian 12.2.0-14) 12.2.0 Fedora 40 Kernel: Depends on container host Compiler: gcc 14.2.1 20240912 (Red Hat 14.2.1-3) Fedora 40 (Clang) Kernel: Depends on container host Compiler: clang 18.1.8 (Fedora 18.1.8-1.fc40) Fedora 41 (Clang) Kernel: Depends on container host Compiler: clang 19.1.5 (Fedora 19.1.5-1.fc41) Fedora 41 Kernel: Depends on container host Compiler: gcc 14.2.1 20240912 (Red Hat 14.2.1-3) openSUSE Leap 15 Kernel: Depends on container host Compiler: gcc (SUSE Linux) 7.5.0 RHEL8 Kernel: Depends on container host Compiler: gcc 8.5.0 20210514 (Red Hat 8.5.0-22) RHEL9 Kernel: Depends on container host Compiler: gcc 11.5.0 20240719 (Red Hat 11.5.0-2) Ubuntu 20.04 Kernel: Depends on container host Compiler: gcc (Ubuntu 9.4.0-1ubuntu1~20.04.2) 9.4.0 Ubuntu 22.04 Kernel: Depends on container host Compiler: gcc (Ubuntu 11.4.0-1ubuntu1~22.04) 11.4.0 Ubuntu 24.04 Kernel: Depends on container host Compiler: gcc (Ubuntu 13.3.0-6ubuntu2~24.04) 13.3.0 Ubuntu 24.04 32 Bit Cross Compile Kernel: Depends on container host Compiler: gcc (Ubuntu 13.3.0-6ubuntu2~24.04) 13.3.0 Alpine Kernel: Depends on container host Compiler: gcc (Alpine 14.2.0) 14.2.0 FreeBSD 13.5 Kernel: 13.5-RELEASE Compiler: clang 19.1.7 FreeBSD 14.2 Kernel: 14.2-RELEASE Compiler: clang 18.1.6 Windows Server 2022 Kernel: 10.0.20348.2031 Compiler: clang 15.0.7, gcc 14.1.0 (MinGW), and MSVC VS 19.39.33521 To view detailed results, visit: https://lab.dpdk.org/results/dashboard/tarballs/33254/ UNH-IOL DPDK Community Lab To manage your email subscriptions, visit: https://lab.dpdk.org/results/dashboard/preferences/subscriptions/