From mboxrd@z Thu Jan  1 00:00:00 1970
Return-Path: <test-report-bounces@dpdk.org>
Received: from mails.dpdk.org (mails.dpdk.org [217.70.189.124])
	by inbox.dpdk.org (Postfix) with ESMTP id 4E98F46599
	for <public@inbox.dpdk.org>; Tue, 15 Apr 2025 12:07:38 +0200 (CEST)
Received: from mails.dpdk.org (localhost [127.0.0.1])
	by mails.dpdk.org (Postfix) with ESMTP id 25DEC402A1;
	Tue, 15 Apr 2025 12:07:38 +0200 (CEST)
Received: from mail-io1-f99.google.com (mail-io1-f99.google.com
 [209.85.166.99]) by mails.dpdk.org (Postfix) with ESMTP id 069C440289
 for <test-report@dpdk.org>; Tue, 15 Apr 2025 12:07:36 +0200 (CEST)
Received: by mail-io1-f99.google.com with SMTP id
 ca18e2360f4ac-85e15dc801aso432703239f.2
 for <test-report@dpdk.org>; Tue, 15 Apr 2025 03:07:35 -0700 (PDT)
DKIM-Signature: v=1; a=rsa-sha256; c=relaxed/relaxed;
 d=iol.unh.edu; s=unh-iol; t=1744711655; x=1745316455; darn=dpdk.org;
 h=references:in-reply-to:cc:to:from:subject:message-id:date:from:to
 :cc:subject:date:message-id:reply-to;
 bh=v5HCw7Iv2DjTz7IHr+XfN/5h8ADDpTe89EtGKcs1eow=;
 b=OhkQeDr6O/ZlTLtW5UWo0uJc1LyITC8NjqVtEoroxs3ohoq10IjmMyIOXIfsgKNKBR
 F6tOFCPlCF/173flKdT50FlMfJUl4YsCjm+yPs6jr0lpjdJbzYJ1CdZhxseasyCSf1I5
 536ETkvn5QgDsoky49l0+iOxHbOhSWyXAn48E=
X-Google-DKIM-Signature: v=1; a=rsa-sha256; c=relaxed/relaxed;
 d=1e100.net; s=20230601; t=1744711655; x=1745316455;
 h=references:in-reply-to:cc:to:from:subject:message-id:date
 :x-gm-message-state:from:to:cc:subject:date:message-id:reply-to;
 bh=v5HCw7Iv2DjTz7IHr+XfN/5h8ADDpTe89EtGKcs1eow=;
 b=icqr74BB/xGmbcONQMMmZLTYm2yF68wGlsrCM4sauONfPFLcvK1Q/k0UebP6GCniz1
 DDC5oGGSTOXD2bvOiDuaJ/ALSRPTEqKBEl6i2xGWefb/+TNaxVP6y6wzP/lMK3OiSnas
 xhW6m5CNZPTPf+C5NqvDXG8NKt+x1JMG+tanf7KG6d8Ge0hNhwrC2eYCOi4nl+0ghSGv
 R6cQamujIwpKLPFI6lvsJPYP1jv0lppfRRtl4SV/VzoRdeLvKy5mk/Kw5BZzOPBDYunj
 Ya3m516/Rnnj5ulT9ckSrrk/uhsXuDjOWoFlUPOQUPh/Y9ChIugWEZn2fljkef0htdjS
 yZbg==
X-Gm-Message-State: AOJu0YzmOD4L4U7ll42g1tBk+6icwWf/lNxMeTGdBFqQh8BepSl9fkLf
 dUeojhtp+Vvh3SSazG3pBpAeo6Q0Jf/RiZyy2BwNsjAd/Xy9/UoJ89JXLsIh38VxVeLy9ucjyVR
 XQ+5fObie7mL9SBmGG6DUfEH85Wk6l5+WtVh4xlUyBx8pWY6vpB9lJfKy
X-Gm-Gg: ASbGncsiFzzNu9SfeCmxdHL0JgT9LPi+08jkdsT8jk8FbDPTYKwL50M6/bZ+VUejC0H
 c7A3z68g9PZs5a//Z6ffxQrc9a6noj+eI1CPIPYRUJPp6zGCGH7V663EUj6opLDT9Zorhmz49FP
 AlePZlzzKCUmdOVAYsZeiS3lgSrfOp23H77aQc0kQaaPi+vidAS7o7qaZuVnVDOwBgYtjeZIFHe
 P71WFUpq5qYxPB6ArRaaQiUmZt3DSYpCG006H7wMGVhLtOUEpU/5lTIZS1nZsiHhU2M4NxpzVKj
 G4vVJdu6UeHv4jcADIdr3zCT2jynTF7dUhFKfVGsXcZPphfX
X-Google-Smtp-Source: AGHT+IGh2RMvYeqovCf30706ezoi8BW/W1jSCb4CTp9/Yt3xT3ykb4JU7ayTUnPVGbUy/pLeAxX9GFOv6VJj
X-Received: by 2002:a05:6e02:1f0e:b0:3d5:8103:1a77 with SMTP id
 e9e14a558f8ab-3d7ec1dc7d5mr172264505ab.1.1744711655206; 
 Tue, 15 Apr 2025 03:07:35 -0700 (PDT)
Received: from postal.iol.unh.edu (postal.iol.unh.edu.
 [2606:4100:3880:1234::84]) by smtp-relay.gmail.com with ESMTPS id
 e9e14a558f8ab-3d7dba8caacsm7101955ab.18.2025.04.15.03.07.35
 (version=TLS1_2 cipher=ECDHE-ECDSA-AES128-GCM-SHA256 bits=128/128);
 Tue, 15 Apr 2025 03:07:35 -0700 (PDT)
X-Relaying-Domain: iol.unh.edu
Date: Tue, 15 Apr 2025 03:07:35 -0700 (PDT)
Message-ID: <67fe2fe7.050a0220.1e2d02.3764SMTPIN_ADDED_MISSING@mx.google.com>
Received: from [172.21.0.6] (unknown [172.18.0.240])
 by postal.iol.unh.edu (Postfix) with ESMTP id A25696052471;
 Tue, 15 Apr 2025 06:07:34 -0400 (EDT)
Subject: |SUCCESS| pw152916 [PATCH] net/e1000: fix eeprom dump failure
From: dpdklab@iol.unh.edu
To: Test Report <test-report@dpdk.org>
Cc: dpdk-test-reports@iol.unh.edu
In-Reply-To: <20250415074802.454733-1-yuanx.wang@intel.com>
References: <20250415074802.454733-1-yuanx.wang@intel.com>
Content-Type: text/plain
X-BeenThere: test-report@dpdk.org
X-Mailman-Version: 2.1.29
Precedence: list
List-Id: automatic DPDK test reports <test-report.dpdk.org>
List-Unsubscribe: <https://mails.dpdk.org/options/test-report>,
 <mailto:test-report-request@dpdk.org?subject=unsubscribe>
List-Archive: <http://mails.dpdk.org/archives/test-report/>
List-Post: <mailto:test-report@dpdk.org>
List-Help: <mailto:test-report-request@dpdk.org?subject=help>
List-Subscribe: <https://mails.dpdk.org/listinfo/test-report>,
 <mailto:test-report-request@dpdk.org?subject=subscribe>
Errors-To: test-report-bounces@dpdk.org

Test-Label: iol-abi-testing
Test-Status: SUCCESS
http://dpdk.org/patch/152916

_Testing PASS_

Submitter: Yuan Wang <yuanx.wang@intel.com>
Date: Tuesday, April 15 2025 07:48:02 
DPDK git baseline: Repo:dpdk
  Branch: master
  CommitID:d7817c378fecd07c59360667f93c25dff4b1a145

152916 --> testing pass

Upstream job id: Generic-DPDK-Compile-ABI#123361

Test environment and result as below:

+-------------------+----------+
|    Environment    | abi_test |
+===================+==========+
| CentOS Stream 9   | PASS     |
+-------------------+----------+
| CentOS Stream 10  | PASS     |
+-------------------+----------+
| Fedora 40 (Clang) | PASS     |
+-------------------+----------+
| Debian 12         | PASS     |
+-------------------+----------+
| Fedora 40         | PASS     |
+-------------------+----------+
| Fedora 41         | PASS     |
+-------------------+----------+
| Fedora 41 (Clang) | PASS     |
+-------------------+----------+
| openSUSE Leap 15  | PASS     |
+-------------------+----------+
| RHEL8             | PASS     |
+-------------------+----------+
| RHEL9             | PASS     |
+-------------------+----------+
| Ubuntu 22.04      | PASS     |
+-------------------+----------+
| Ubuntu 24.04      | PASS     |
+-------------------+----------+


CentOS Stream 9
	Kernel: Depends on container host
	Compiler: gcc 11.5.0 20240719 (Red Hat 11.5.0-2)

CentOS Stream 10
	Kernel: Depends on container host
	Compiler: gcc 14.2.1 20241104 (Red Hat 14.2.1-6)

Fedora 40 (Clang)
	Kernel: Depends on container host
	Compiler: clang 18.1.8 (Fedora 18.1.8-1.fc40)

Debian 12
	Kernel: Depends on container host
	Compiler: gcc (Debian 12.2.0-14) 12.2.0

Fedora 40
	Kernel: Depends on container host
	Compiler: gcc 14.2.1 20240912 (Red Hat 14.2.1-3)

Fedora 41
	Kernel: Depends on container host
	Compiler: gcc 14.2.1 20240912 (Red Hat 14.2.1-3)

Fedora 41 (Clang)
	Kernel: Depends on container host
	Compiler: clang 19.1.5 (Fedora 19.1.5-1.fc41)

openSUSE Leap 15
	Kernel: Depends on container host
	Compiler: gcc (SUSE Linux) 7.5.0

RHEL8
	Kernel: Depends on container host
	Compiler: gcc 8.5.0 20210514 (Red Hat 8.5.0-22)

RHEL9
	Kernel: Depends on container host
	Compiler: gcc 11.5.0 20240719 (Red Hat 11.5.0-2)

Ubuntu 22.04
	Kernel: Depends on container host
	Compiler: gcc (Ubuntu 11.4.0-1ubuntu1~22.04) 11.4.0

Ubuntu 24.04
	Kernel: Depends on container host
	Compiler: gcc (Ubuntu 13.3.0-6ubuntu2~24.04) 13.3.0

To view detailed results, visit:
https://lab.dpdk.org/results/dashboard/patchsets/33007/

UNH-IOL DPDK Community Lab

To manage your email subscriptions, visit: 
https://lab.dpdk.org/results/dashboard/preferences/subscriptions/