From mboxrd@z Thu Jan 1 00:00:00 1970 Return-Path: Received: from mails.dpdk.org (mails.dpdk.org [217.70.189.124]) by inbox.dpdk.org (Postfix) with ESMTP id 4A87A46599 for ; Tue, 15 Apr 2025 12:08:14 +0200 (CEST) Received: from mails.dpdk.org (localhost [127.0.0.1]) by mails.dpdk.org (Postfix) with ESMTP id 46B78402A1; Tue, 15 Apr 2025 12:08:14 +0200 (CEST) Received: from mail-qk1-f225.google.com (mail-qk1-f225.google.com [209.85.222.225]) by mails.dpdk.org (Postfix) with ESMTP id 9CEAB40289 for ; Tue, 15 Apr 2025 12:08:12 +0200 (CEST) Received: by mail-qk1-f225.google.com with SMTP id af79cd13be357-7c081915cf3so674379585a.1 for ; Tue, 15 Apr 2025 03:08:12 -0700 (PDT) DKIM-Signature: v=1; a=rsa-sha256; c=relaxed/relaxed; d=iol.unh.edu; s=unh-iol; t=1744711692; x=1745316492; darn=dpdk.org; h=references:in-reply-to:cc:to:from:subject:message-id:date:from:to :cc:subject:date:message-id:reply-to; bh=E1j/xznKggaR81kXNpmuHmPvHfnGfuO6wI8Ob6UplDU=; b=EiLVVAh3KD9v1uMxOP2qNnLI0Bug3dkHio3hphyAvqh8ou0QD7d0dkSuC3xW64BzzP sA6z71ivkaKE+5rq6h3F4ZpNzxI6Z4GbEeiNZnSmV86rhf/50ocQaghAWDhPZ04pULsy wxpSfekIHr4kZhoYMZxp4alVrooF9jJl2yfIo= X-Google-DKIM-Signature: v=1; a=rsa-sha256; c=relaxed/relaxed; d=1e100.net; s=20230601; t=1744711692; x=1745316492; h=references:in-reply-to:cc:to:from:subject:message-id:date :x-gm-message-state:from:to:cc:subject:date:message-id:reply-to; bh=E1j/xznKggaR81kXNpmuHmPvHfnGfuO6wI8Ob6UplDU=; b=den4gmhcAKOVkpIqows19amRfdgqpnIPplQ72QLpAIbYdZTqX6aXNGUirn4i+RPsco wMHH0EN3dTofB80L7+1J12DdxwwyLk+OUFPy6EePjWhJfiy5oXpN/X3U/ahZIF/gvKz6 yxvklX8tb/MYilHabckbhRD76Q96Wmwwiu+Fccalp4JwrFHJiUQO8Cyq8amJw+9Z/P8k +QOKDe1oXUBWSHhlRaQBpg1GeJ7Q3NFe5YQm+91/eNPgswbFypZTJV3hS4mFTvsJbUiC 912H8OrC8y7M6Vz2NOFcIEt1YaXkR+qdAkGQlyKNamgoFh+hmuDZim06Fkmnv7UfQEiw 0NpQ== X-Gm-Message-State: AOJu0YxB08lJb7gkSwhhHsTpGLN1EATaoMtJ4UVKH41YIh21B7M5uKhy Iurd4iM6p3WLvx94KvoIprnVkSr2t5QrjBnqQ7n5t951fNiwFHl7Rmr3J4y+KVt08s6AgYUpIo5 dpS/Rz95v/2eRba/bTUiBHD3f7VXnAfLBkzbmmwCbEUPMGKpCnaCtVfg4 X-Gm-Gg: ASbGncso7Dg7k88q498rAYzBkUXRUXQyQOG6GnlVvtwnneKvu5x8KFb+TxBq4CXOLup Ugz76WJC+aw+6Sf3qkPxSIWzBHSi9fy8mYZvTktuUCl9nsRFiGZDu+DKj8J1XFOTxiQtVu7Evnu 0g4GY4QVn8VRajWXr9RsMK31TZz5NiFi2mF+0EoBcwMxuBbyPV25ZeXBb4y1ECp2HZJU3IxedRO J0pUL7qFzYI3IkJ8rdCLxwDEGH54jABfLP/NtSfTCawWXadGxO07VBCWFgPUStkqGqI0J7jCBBO WkWH2HpOpJAdCVMrSBCVZMKZUX8OnSq+2h6D+kEo6z2rA9Xv X-Google-Smtp-Source: AGHT+IGHhI5GQaC4ueMzCPCPGUNIq5M8QPGURT4PPZgzbvfdXJoDsZQ9KY/33zsO+9Hi6UjTyh2jTZlT2ClL X-Received: by 2002:a05:620a:6a1b:b0:7c7:b5dc:2e36 with SMTP id af79cd13be357-7c7b5dc2feamr1371433585a.18.1744711691886; Tue, 15 Apr 2025 03:08:11 -0700 (PDT) Received: from postal.iol.unh.edu (postal.iol.unh.edu. [2606:4100:3880:1234::84]) by smtp-relay.gmail.com with ESMTPS id 6a1803df08f44-6f0de959c32sm7285976d6.3.2025.04.15.03.08.11 (version=TLS1_2 cipher=ECDHE-ECDSA-AES128-GCM-SHA256 bits=128/128); Tue, 15 Apr 2025 03:08:11 -0700 (PDT) X-Relaying-Domain: iol.unh.edu Date: Tue, 15 Apr 2025 03:08:11 -0700 (PDT) Message-ID: <67fe300b.050a0220.2baffb.37bdSMTPIN_ADDED_MISSING@mx.google.com> Received: from [172.21.0.5] (unknown [172.18.0.240]) by postal.iol.unh.edu (Postfix) with ESMTP id 8859E6052471; Tue, 15 Apr 2025 06:08:11 -0400 (EDT) Subject: |SUCCESS| pw152916 [PATCH] net/e1000: fix eeprom dump failure From: dpdklab@iol.unh.edu To: Test Report Cc: dpdk-test-reports@iol.unh.edu In-Reply-To: <20250415074802.454733-1-yuanx.wang@intel.com> References: <20250415074802.454733-1-yuanx.wang@intel.com> Content-Type: text/plain X-BeenThere: test-report@dpdk.org X-Mailman-Version: 2.1.29 Precedence: list List-Id: automatic DPDK test reports List-Unsubscribe: , List-Archive: List-Post: List-Help: List-Subscribe: , Errors-To: test-report-bounces@dpdk.org Test-Label: iol-abi-testing Test-Status: SUCCESS http://dpdk.org/patch/152916 _Testing PASS_ Submitter: Yuan Wang Date: Tuesday, April 15 2025 07:48:02 DPDK git baseline: Repo:dpdk Branch: master CommitID:d7817c378fecd07c59360667f93c25dff4b1a145 152916 --> testing pass Upstream job id: Generic-DPDK-Compile-ABI#123354 Test environment and result as below: +-------------------+----------+ | Environment | abi_test | +===================+==========+ | CentOS Stream 9 | PASS | +-------------------+----------+ | CentOS Stream 10 | PASS | +-------------------+----------+ | Fedora 40 (Clang) | PASS | +-------------------+----------+ | Debian 12 | PASS | +-------------------+----------+ | Fedora 40 | PASS | +-------------------+----------+ | Fedora 41 | PASS | +-------------------+----------+ | Fedora 41 (Clang) | PASS | +-------------------+----------+ | openSUSE Leap 15 | PASS | +-------------------+----------+ | RHEL8 | PASS | +-------------------+----------+ | RHEL9 | PASS | +-------------------+----------+ | Ubuntu 22.04 | PASS | +-------------------+----------+ | Ubuntu 24.04 | PASS | +-------------------+----------+ CentOS Stream 9 Kernel: Depends on container host Compiler: gcc 11.5.0 20240719 (Red Hat 11.5.0-2) CentOS Stream 10 Kernel: Depends on container host Compiler: gcc 14.2.1 20241104 (Red Hat 14.2.1-6) Fedora 40 (Clang) Kernel: Depends on container host Compiler: clang 18.1.8 (Fedora 18.1.8-1.fc40) Debian 12 Kernel: Depends on container host Compiler: gcc (Debian 12.2.0-14) 12.2.0 Fedora 40 Kernel: Depends on container host Compiler: gcc 14.2.1 20240912 (Red Hat 14.2.1-3) Fedora 41 Kernel: Depends on container host Compiler: gcc 14.2.1 20240912 (Red Hat 14.2.1-3) Fedora 41 (Clang) Kernel: Depends on container host Compiler: clang 19.1.5 (Fedora 19.1.5-1.fc41) openSUSE Leap 15 Kernel: Depends on container host Compiler: gcc (SUSE Linux) 7.5.0 RHEL8 Kernel: Depends on container host Compiler: gcc 8.5.0 20210514 (Red Hat 8.5.0-22) RHEL9 Kernel: Depends on container host Compiler: gcc 11.5.0 20240719 (Red Hat 11.5.0-2) Ubuntu 22.04 Kernel: Depends on container host Compiler: gcc (Ubuntu 11.4.0-1ubuntu1~22.04) 11.4.0 Ubuntu 24.04 Kernel: Depends on container host Compiler: gcc (Ubuntu 13.3.0-6ubuntu2~24.04) 13.3.0 To view detailed results, visit: https://lab.dpdk.org/results/dashboard/patchsets/33007/ UNH-IOL DPDK Community Lab To manage your email subscriptions, visit: https://lab.dpdk.org/results/dashboard/preferences/subscriptions/