From mboxrd@z Thu Jan  1 00:00:00 1970
Return-Path: <test-report-bounces@dpdk.org>
Received: from mails.dpdk.org (mails.dpdk.org [217.70.189.124])
	by inbox.dpdk.org (Postfix) with ESMTP id 3F10546599
	for <public@inbox.dpdk.org>; Tue, 15 Apr 2025 12:17:18 +0200 (CEST)
Received: from mails.dpdk.org (localhost [127.0.0.1])
	by mails.dpdk.org (Postfix) with ESMTP id 1A560402A1;
	Tue, 15 Apr 2025 12:17:18 +0200 (CEST)
Received: from mail-oo1-f98.google.com (mail-oo1-f98.google.com
 [209.85.161.98]) by mails.dpdk.org (Postfix) with ESMTP id 5B0A540289
 for <test-report@dpdk.org>; Tue, 15 Apr 2025 12:17:16 +0200 (CEST)
Received: by mail-oo1-f98.google.com with SMTP id
 006d021491bc7-601ebdf02daso2670878eaf.0
 for <test-report@dpdk.org>; Tue, 15 Apr 2025 03:17:16 -0700 (PDT)
DKIM-Signature: v=1; a=rsa-sha256; c=relaxed/relaxed;
 d=iol.unh.edu; s=unh-iol; t=1744712235; x=1745317035; darn=dpdk.org;
 h=cc:to:from:subject:message-id:date:from:to:cc:subject:date
 :message-id:reply-to;
 bh=M7ZTSKAo2Nlb/CK5OV0Xclf8HeYG7VHe8DSfyuUf+n4=;
 b=YbfeAPN5OTztywV5DsoPpYtWsT/YNyuPdsZ3I2o+20SCMjPkJxxhAmrVXr26GDTT89
 zNJopQMUTzJyK1yui8HRsMQG0uQrF3jjulhvVsu71eKGlDAry/w+m6PvTSkdyiPup5AU
 4LNsMPHC+Mjt8/xfrvYPA6s9KI4dEGUUDtQYE=
X-Google-DKIM-Signature: v=1; a=rsa-sha256; c=relaxed/relaxed;
 d=1e100.net; s=20230601; t=1744712235; x=1745317035;
 h=cc:to:from:subject:message-id:date:x-gm-message-state:from:to:cc
 :subject:date:message-id:reply-to;
 bh=M7ZTSKAo2Nlb/CK5OV0Xclf8HeYG7VHe8DSfyuUf+n4=;
 b=PqkyQu08nXoRj0U/n97w12mps3LYgMJMmyzffZFLDhCpJ5rfnulYKuWdzwXWOoIC77
 kOvB/c70Vc11FDOdHvTmCdJ7jQY/ZOZ6I1BNtD8dNTNmJCQRsiji5EgJ1QPX7NE9ALDw
 toqQ2c9UmublTIrzEjTcZceZc3wLM0LJgJlh/u0t98g9untVWjboGDpedK3ez5RSBjXc
 fYFiHFG/WJyYTCmcgts+jOOdcZux/9mclesTcR0nca1hFW9CfewIcNV9qEj/AMdClBH+
 1idf2s+MJ6+kurcPwkEq5thqvO+AC+j4MyOIe0qhiOF17VGjO1y3QfAMN64UrTPdOLFg
 BnFg==
X-Gm-Message-State: AOJu0YxGtyAnC/vPZM3DXAu3mHpzq1P/jrdcKsVH8Vlmua9DgJ4QALEJ
 DSTMd5k8MJWkvx7hM/Gl8kJ/LxsIogN2/B32ZIQ2MYjwm3SwmPP5ZulhNXpfV04gghNagcsyHVS
 ZK9Njroon6byWwamaZCz940xit7bPrvCTNIwqkjMc
X-Gm-Gg: ASbGnctwsJZL0CYbQuhLnggvMTsNMFZbQrUeD0FCyZHBexI0Srw3k/2ph450iLOlkgP
 SLhg2OWT+1Si48a37H2kFx+QUJJ9tjYeYWMRpdnKaWOlpktSErgKWIFRa/ra6T9ArMTwk0TrOMf
 +6sq625bwwVJDESl0rBQI3ZyzGas8hYsZLUK0HHLtcSBHHJJnCTzLDkJzVFoRJafs39pYLMQh7D
 TLcvy6KA1CB1tXW19L/00d0VI/KKIEsNlZJ5UCxuGN/yBpWvbxHyvSSsFGRsG2yMedOKMSYBv4m
 mYGSEVlCI8ta8Y64r+nwmaOhIyu6l5KhXYVq
X-Google-Smtp-Source: AGHT+IGIG4HwSU6+zFISoGlbB9qfToA4ApONAwqN27zXw8Fj1eb7USGihsyCF+yJ2JUWDbJNcFDFqZ+5AQwB
X-Received: by 2002:a05:6820:c15:b0:601:acdc:8f84 with SMTP id
 006d021491bc7-6049a1380cbmr1437726eaf.0.1744712235550; 
 Tue, 15 Apr 2025 03:17:15 -0700 (PDT)
Received: from postal.iol.unh.edu (postal.iol.unh.edu. [132.177.123.84])
 by smtp-relay.gmail.com with ESMTPS id
 006d021491bc7-6045f5c7aacsm288706eaf.23.2025.04.15.03.17.15
 (version=TLS1_2 cipher=ECDHE-ECDSA-AES128-GCM-SHA256 bits=128/128);
 Tue, 15 Apr 2025 03:17:15 -0700 (PDT)
X-Relaying-Domain: iol.unh.edu
Date: Tue, 15 Apr 2025 03:17:15 -0700 (PDT)
Message-ID: <67fe322b.050a0220.1511dc.c208SMTPIN_ADDED_MISSING@mx.google.com>
Received: from [172.21.0.5] (unknown [172.18.0.240])
 by postal.iol.unh.edu (Postfix) with ESMTP id E8B136052471;
 Tue, 15 Apr 2025 06:17:14 -0400 (EDT)
Subject: |SUCCESS| [GIT MASTER] 076c6f28ae606d6d2059b8903208fd728187cbff
From: dpdklab@iol.unh.edu
To: Test Report <test-report@dpdk.org>
Cc: dpdk-test-reports@iol.unh.edu,
 Stephen Hemminger <stephen@networkplumber.org>
Content-Type: text/plain
X-BeenThere: test-report@dpdk.org
X-Mailman-Version: 2.1.29
Precedence: list
List-Id: automatic DPDK test reports <test-report.dpdk.org>
List-Unsubscribe: <https://mails.dpdk.org/options/test-report>,
 <mailto:test-report-request@dpdk.org?subject=unsubscribe>
List-Archive: <http://mails.dpdk.org/archives/test-report/>
List-Post: <mailto:test-report@dpdk.org>
List-Help: <mailto:test-report-request@dpdk.org?subject=help>
List-Subscribe: <https://mails.dpdk.org/listinfo/test-report>,
 <mailto:test-report-request@dpdk.org?subject=subscribe>
Errors-To: test-report-bounces@dpdk.org

_Testing PASS_

Branch: dpdk-next-net

076c6f28ae606d6d2059b8903208fd728187cbff --> testing pass

Upstream job id: Generic-DPDK-Compile-Meson#380087

Test environment and result as below:

+----------------------------------------+--------------------+
|              Environment               | dpdk_meson_compile |
+========================================+====================+
| RHEL9 (ARM)                            | PASS               |
+----------------------------------------+--------------------+
| Ubuntu 20.04 ARM GCC Cross Compile     | PASS               |
+----------------------------------------+--------------------+
| Ubuntu 20.04 ARM SVE                   | PASS               |
+----------------------------------------+--------------------+
| Fedora 40 (ARM)                        | PASS               |
+----------------------------------------+--------------------+
| Debian 12 with MUSDK                   | PASS               |
+----------------------------------------+--------------------+
| Fedora 40 (ARM Clang)                  | PASS               |
+----------------------------------------+--------------------+
| Fedora 41 (ARM Clang)                  | PASS               |
+----------------------------------------+--------------------+
| Fedora 41 (ARM)                        | PASS               |
+----------------------------------------+--------------------+
| Ubuntu 24.04 (ARM)                     | PASS               |
+----------------------------------------+--------------------+
| Ubuntu 22.04 (ARM)                     | PASS               |
+----------------------------------------+--------------------+
| Ubuntu 20.04 (ARM)                     | PASS               |
+----------------------------------------+--------------------+
| CentOS Stream 10 (ARM)                 | PASS               |
+----------------------------------------+--------------------+
| Debian 12 (arm)                        | PASS               |
+----------------------------------------+--------------------+
| Ubuntu 20.04 ARM Clang Cross Compile   | PASS               |
+----------------------------------------+--------------------+
| Ubuntu 20.04 aarch32 GCC Cross Compile | PASS               |
+----------------------------------------+--------------------+
| CentOS Stream 9 (ARM)                  | PASS               |
+----------------------------------------+--------------------+


RHEL9 (ARM)
	Kernel: Depends on container host
	Compiler: gcc 11.5.0 20240719 (Red Hat 11.5.0-2)

Ubuntu 20.04 ARM GCC Cross Compile
	Kernel: Depends on container host
	Compiler: aarch64-linux-gnu-gcc (Ubuntu 9.4.0-1ubuntu1~20.04.2) 9.4.0

Ubuntu 20.04 ARM SVE
	Kernel: Depends on container host
	Compiler: gcc (Ubuntu 10.5.0-1ubuntu1~20.04) 10.5.0

Fedora 40 (ARM)
	Kernel: Depends on container host
	Compiler: gcc 14.2.1 20240912 (Red Hat 14.2.1-3)

Debian 12 with MUSDK
	Kernel: Depends on container host
	Compiler: gcc (Debian 12.2.0-14) 12.2.0

Fedora 40 (ARM Clang)
	Kernel: Depends on container host
	Compiler: clang 18.1.8 (Fedora 18.1.8-1.fc40)

Fedora 41 (ARM Clang)
	Kernel: Depends on container host
	Compiler: clang 19.1.5 (Fedora 19.1.5-1.fc41)

Fedora 41 (ARM)
	Kernel: Depends on container host
	Compiler: gcc 14.2.1 20240912 (Red Hat 14.2.1-3)

Ubuntu 24.04 (ARM)
	Kernel: Depends on container host
	Compiler: gcc (Ubuntu 13.3.0-6ubuntu2~24.04) 13.3.0

Ubuntu 22.04 (ARM)
	Kernel: Depends on container host
	Compiler: gcc (Ubuntu 11.4.0-1ubuntu1~22.04) 11.4.0

Ubuntu 20.04 (ARM)
	Kernel: Depends on container host
	Compiler: gcc (Ubuntu 9.4.0-1ubuntu1~20.04.2) 9.4.0

CentOS Stream 10 (ARM)
	Kernel: Depends on container host
	Compiler: gcc 14.2.1 20241104 (Red Hat 14.2.1-6)

Debian 12 (arm)
	Kernel: Depends on container host
	Compiler: gcc (Debian 12.2.0-14) 12.2.0

Ubuntu 20.04 ARM Clang Cross Compile
	Kernel: Depends on container host
	Compiler: clang 10.0.0-4ubuntu1

Ubuntu 20.04 aarch32 GCC Cross Compile
	Kernel: Depends on container host
	Compiler: gcc 9.4.0

CentOS Stream 9 (ARM)
	Kernel: Depends on container host
	Compiler: gcc 11.5.0 20240719 (Red Hat 11.5.0-2)

To view detailed results, visit:
https://lab.dpdk.org/results/dashboard/tarballs/33254/

UNH-IOL DPDK Community Lab

To manage your email subscriptions, visit: 
https://lab.dpdk.org/results/dashboard/preferences/subscriptions/