From mboxrd@z Thu Jan 1 00:00:00 1970 Return-Path: Received: from mails.dpdk.org (mails.dpdk.org [217.70.189.124]) by inbox.dpdk.org (Postfix) with ESMTP id 237B046599 for ; Tue, 15 Apr 2025 13:24:23 +0200 (CEST) Received: from mails.dpdk.org (localhost [127.0.0.1]) by mails.dpdk.org (Postfix) with ESMTP id E9DA2402A1; Tue, 15 Apr 2025 13:24:22 +0200 (CEST) Received: from mail-vk1-f225.google.com (mail-vk1-f225.google.com [209.85.221.225]) by mails.dpdk.org (Postfix) with ESMTP id 0DB8840289 for ; Tue, 15 Apr 2025 13:24:22 +0200 (CEST) Received: by mail-vk1-f225.google.com with SMTP id 71dfb90a1353d-5259327a93bso2150363e0c.2 for ; Tue, 15 Apr 2025 04:24:21 -0700 (PDT) DKIM-Signature: v=1; a=rsa-sha256; c=relaxed/relaxed; d=iol.unh.edu; s=unh-iol; t=1744716261; x=1745321061; darn=dpdk.org; h=references:in-reply-to:cc:to:from:subject:message-id:date:from:to :cc:subject:date:message-id:reply-to; bh=JnHJbafgBTG07BX+SHctWtrhKnZUWcPq4qgxtj+BNJA=; b=gVrYq82ZjBIZNaQZArZ1/r2BzDRMv4Yw6jIDRkhf0VDw1EqxzW9mdFTZLNtm2TaFsr uEihxoaav3tmG2UHn+Vguby+u6B6RHJIcpZA+Dzw+Fe3GXuLkvgYiJBR93HhgrHZwE/C ejMMap9ZbcZOjNDVpjdwA1pVwxK4Hog5ULy4g= X-Google-DKIM-Signature: v=1; a=rsa-sha256; c=relaxed/relaxed; d=1e100.net; s=20230601; t=1744716261; x=1745321061; h=references:in-reply-to:cc:to:from:subject:message-id:date :x-gm-message-state:from:to:cc:subject:date:message-id:reply-to; bh=JnHJbafgBTG07BX+SHctWtrhKnZUWcPq4qgxtj+BNJA=; b=fgfC2OAaaZazF0bBdNSGuKWWDhzcYVKfz4EI+2Rv+xx7tgclc5379eztB+irccjV7X J2QH30GMUZXJi/X6xENjwuWBq02piwgepO9qDP0E7ZASNQLmKBjO3JMrUqHs/LwKzM+9 YY7EC/JeL2FP1yP5zA33O5eiZjSeQd1hjyOE2JeiiA2KMsz1v0eJz3smaqyQIwdnghDi WEJ4sNQdzoawfe1qoHEAJrCNqN1oG+9GDmvcDRPWrOMoP6nSwkTPAJL6JVyTh4R4rkVL OHJA6GkNPRf/HrwKaaDdPiaR1S836G8JyMcJeTpG8M88GI3vvwUT2ide+CzbmbEBGnZU SxmA== X-Gm-Message-State: AOJu0Yyiw96aKTBI2NchS7rYCKXK+dJN2y+RjRg/y7HjNQ35ONkrKUA9 Bxm80hrG0sH5w/QJ2oyGoSOgP+T2tDV3OuZwDoOVFyAxXXsye0XpZvslG7PED3Z7d0X9qG1HS/J /jST77+Jx1oAInGwNZnrE3xEmHtkAMSsEncLuSpwHsiMCzpMQdEA9Z3OI X-Gm-Gg: ASbGncv5eU15346ZuStgWJPyZluOospI43UBbhCb6T4E5zkjRwGS09E7iY5NepRp6EP sr8QkMuVkVHic4JllOVxMOSEzRhm/uZZy3kLvgX5Pomtfn7LNXgToRNP/2nwowWcp5quW/eZ41W U/goxIONJV4TUgW2EOBlKa+HuqyIFOEVngRs2bbZHzIVXWRU9iXpEcYY9SUknFjHm1tmhHft6Bt hYuGKqDzaqdY7JDTmZUUGsOi+IPg3UE9AISIvNnwLlJ7YWLn9Ov+MNJiU11JZOLdU84P/B8qJJf Fo8moqjH46q/8jVNsFg4VOjZAFrIQ5cvkDbMwd9+pGr0eXTh X-Google-Smtp-Source: AGHT+IH2cYso4VfgsqOG3etCq+Mx9F8qdFpp5rlT7KWPfVNbsvkZ775sErka0DHiZaKYb6+PqG9MMWfiqZZD X-Received: by 2002:a05:6122:2218:b0:518:7ab7:afbb with SMTP id 71dfb90a1353d-527c35c618cmr9481762e0c.8.1744716261295; Tue, 15 Apr 2025 04:24:21 -0700 (PDT) Received: from postal.iol.unh.edu (postal.iol.unh.edu. [2606:4100:3880:1234::84]) by smtp-relay.gmail.com with ESMTPS id 71dfb90a1353d-527abe70371sm791700e0c.8.2025.04.15.04.24.21 (version=TLS1_2 cipher=ECDHE-ECDSA-AES128-GCM-SHA256 bits=128/128); Tue, 15 Apr 2025 04:24:21 -0700 (PDT) X-Relaying-Domain: iol.unh.edu Date: Tue, 15 Apr 2025 04:24:21 -0700 (PDT) Message-ID: <67fe41e5.050a0220.255a3f.6f97SMTPIN_ADDED_MISSING@mx.google.com> Received: from [172.21.0.8] (unknown [172.18.0.240]) by postal.iol.unh.edu (Postfix) with ESMTP id D4F556052471; Tue, 15 Apr 2025 07:24:20 -0400 (EDT) Subject: |SUCCESS| pw152916 [PATCH] net/e1000: fix eeprom dump failure From: dpdklab@iol.unh.edu To: Test Report Cc: dpdk-test-reports@iol.unh.edu In-Reply-To: <20250415074802.454733-1-yuanx.wang@intel.com> References: <20250415074802.454733-1-yuanx.wang@intel.com> Content-Type: text/plain X-BeenThere: test-report@dpdk.org X-Mailman-Version: 2.1.29 Precedence: list List-Id: automatic DPDK test reports List-Unsubscribe: , List-Archive: List-Post: List-Help: List-Subscribe: , Errors-To: test-report-bounces@dpdk.org Test-Label: iol-unit-amd64-testing Test-Status: SUCCESS http://dpdk.org/patch/152916 _Testing PASS_ Submitter: Yuan Wang Date: Tuesday, April 15 2025 07:48:02 DPDK git baseline: Repo:dpdk Branch: master CommitID:d7817c378fecd07c59360667f93c25dff4b1a145 152916 --> testing pass Upstream job id: Generic-VM-Unit-Test-DPDK#27982 Test environment and result as below: +---------------------+----------------+ | Environment | dpdk_unit_test | +=====================+================+ | CentOS Stream 10 | PASS | +---------------------+----------------+ | CentOS Stream 9 | PASS | +---------------------+----------------+ | Debian 12 | PASS | +---------------------+----------------+ | Fedora 40 | PASS | +---------------------+----------------+ | Fedora 41 | PASS | +---------------------+----------------+ | Fedora 40 (Clang) | PASS | +---------------------+----------------+ | Ubuntu 20.04 | PASS | +---------------------+----------------+ | Fedora 41 (Clang) | PASS | +---------------------+----------------+ | Ubuntu 22.04 | PASS | +---------------------+----------------+ | RHEL9 | PASS | +---------------------+----------------+ | RHEL8 | PASS | +---------------------+----------------+ | Ubuntu 24.04 | PASS | +---------------------+----------------+ | Windows Server 2022 | PASS | +---------------------+----------------+ CentOS Stream 10 Kernel: Depends on container host Compiler: gcc 14.2.1 20241104 (Red Hat 14.2.1-6) CentOS Stream 9 Kernel: Depends on container host Compiler: gcc 11.5.0 20240719 (Red Hat 11.5.0-2) Debian 12 Kernel: Depends on container host Compiler: gcc (Debian 12.2.0-14) 12.2.0 Fedora 40 Kernel: Depends on container host Compiler: gcc 14.2.1 20240912 (Red Hat 14.2.1-3) Fedora 41 Kernel: Depends on container host Compiler: gcc 14.2.1 20240912 (Red Hat 14.2.1-3) Fedora 40 (Clang) Kernel: Depends on container host Compiler: clang 18.1.8 (Fedora 18.1.8-1.fc40) Ubuntu 20.04 Kernel: Depends on container host Compiler: gcc (Ubuntu 9.4.0-1ubuntu1~20.04.2) 9.4.0 Fedora 41 (Clang) Kernel: Depends on container host Compiler: clang 19.1.5 (Fedora 19.1.5-1.fc41) Ubuntu 22.04 Kernel: Depends on container host Compiler: gcc (Ubuntu 11.4.0-1ubuntu1~22.04) 11.4.0 RHEL9 Kernel: Depends on container host Compiler: gcc 11.5.0 20240719 (Red Hat 11.5.0-2) RHEL8 Kernel: Depends on container host Compiler: gcc 8.5.0 20210514 (Red Hat 8.5.0-22) Ubuntu 24.04 Kernel: Depends on container host Compiler: gcc (Ubuntu 13.3.0-6ubuntu2~24.04) 13.3.0 Windows Server 2022 Kernel: 10.0.20348.2031 Compiler: clang 15.0.7, gcc 14.1.0 (MinGW), and MSVC VS 19.39.33521 To view detailed results, visit: https://lab.dpdk.org/results/dashboard/patchsets/33007/ UNH-IOL DPDK Community Lab To manage your email subscriptions, visit: https://lab.dpdk.org/results/dashboard/preferences/subscriptions/