From mboxrd@z Thu Jan 1 00:00:00 1970 Return-Path: Received: from mails.dpdk.org (mails.dpdk.org [217.70.189.124]) by inbox.dpdk.org (Postfix) with ESMTP id 5A61A46599 for ; Tue, 15 Apr 2025 13:38:10 +0200 (CEST) Received: from mails.dpdk.org (localhost [127.0.0.1]) by mails.dpdk.org (Postfix) with ESMTP id 5555F402A1; Tue, 15 Apr 2025 13:38:10 +0200 (CEST) Received: from mail-yw1-f225.google.com (mail-yw1-f225.google.com [209.85.128.225]) by mails.dpdk.org (Postfix) with ESMTP id 1881540289 for ; Tue, 15 Apr 2025 13:38:09 +0200 (CEST) Received: by mail-yw1-f225.google.com with SMTP id 00721157ae682-6fead317874so47265427b3.0 for ; Tue, 15 Apr 2025 04:38:09 -0700 (PDT) DKIM-Signature: v=1; a=rsa-sha256; c=relaxed/relaxed; d=iol.unh.edu; s=unh-iol; t=1744717088; x=1745321888; darn=dpdk.org; h=references:in-reply-to:cc:to:from:subject:message-id:date:from:to :cc:subject:date:message-id:reply-to; bh=zg0bKrkkZ9X6lBKsJjTlulwHfRuZJbllMlF+uciY3HQ=; b=VC1tYjEzpXikiDjCHH7JnqHTJsvNcyNpGyDkGw/SyiPFXZ93LDb5kPUAzr3OxFuflS qMo2MD0HhgUt3ECB9PuYw/evgCJnFv49MVdx9fs4qKP4d8SchCrSo7rIFUzkSeMcRKoy h/SQq5U6ywd532VdqP/LIF7sf3hTH2i9yH7vM= X-Google-DKIM-Signature: v=1; a=rsa-sha256; c=relaxed/relaxed; d=1e100.net; s=20230601; t=1744717088; x=1745321888; h=references:in-reply-to:cc:to:from:subject:message-id:date :x-gm-message-state:from:to:cc:subject:date:message-id:reply-to; bh=zg0bKrkkZ9X6lBKsJjTlulwHfRuZJbllMlF+uciY3HQ=; b=JBXHlb6VZil+Xv12zaYotGjfCbrLg+JxU3wSTKgWidWCqDGkQip36ak205JpNHnrnR njvq0buf7MuNsYDriqoBSgle4tKkTHhwzT/UVTh9zH1INEWAKCI0hygO5N+Xyh60P133 uKhW1pKm3JUUJC6AhVPI5e5070lLWVaR/B6Wc7HxFUcYX6RZV//Lm+ol96lyGFpatKc1 fo/85JGH4sOu3nBdYnL8fkwdyhTvMDoVtDSDbEqq0IGdpf6VZkqzySP0h05f6nWRWVfk VsJ9xPzqv1keK4nmxkDNFIp//+bdD4iZJ9nkzY3jVQ0ml3Fe1kStdzBZKmMs9hfsY095 Gt8w== X-Gm-Message-State: AOJu0Yx0f5iHchZXqIiDMramFOy9xsL+j6ScvUDTz7egG2GWQ4JpFzqZ EMA+ZXiBF9Gsz+F0odWejFcSsW7ZuDTB9091B30v+IzAhrzC/Niyh1bidradR9YE5RfC3lACKbK hSW2/RenqKBhp6SoP6gffzk2JiN6z1FgnMbZ2FHu6oZjBtkcHhlxwm08U X-Gm-Gg: ASbGncujsMPpfpOvioiFgx2iAlFE7vEVFWZpp1EGT0+B3BusNwcD/0bkA+km4TibUAf 2VaYTLLYYSAiko8t0j9oR633TueKJCwLXQVI4i/84+yWS4DUneQks5lmuvGLmuOTxq5ReqI1JsO vaSsa9Qc6aGZUTkp892cR5lvEtrMH1lutYe7EaZ0UlFqF49XnhbmMTNjRynSGdbeOQO1ykd0P/g +XG4UWxiyab6I011cRHWBRy7x77dh40PMB6WMkbY4vvFXd+AKYZ5YEwQQZZdJ6Xoe0GkIQBTpPr HpFDpNbw9ZwntcbcAl6dCmkACPbrJbFaBsCINXuFI/V9LR5a X-Google-Smtp-Source: AGHT+IHsswnbgD7D1CQEhOrA9i/juOQYbfM8uNKFADhxk5sYt1Id7qzoFKApCiufSz7/9qrbSs8Kb9XWgIAb X-Received: by 2002:a05:690c:7484:b0:703:aea2:6bbb with SMTP id 00721157ae682-70559aaf5dcmr284602057b3.31.1744717088326; Tue, 15 Apr 2025 04:38:08 -0700 (PDT) Received: from postal.iol.unh.edu (postal.iol.unh.edu. [2606:4100:3880:1234::84]) by smtp-relay.gmail.com with ESMTPS id 00721157ae682-7053e3827fcsm6448057b3.64.2025.04.15.04.38.08 (version=TLS1_2 cipher=ECDHE-ECDSA-AES128-GCM-SHA256 bits=128/128); Tue, 15 Apr 2025 04:38:08 -0700 (PDT) X-Relaying-Domain: iol.unh.edu Date: Tue, 15 Apr 2025 04:38:08 -0700 (PDT) Message-ID: <67fe4520.050a0220.26c19f.f61fSMTPIN_ADDED_MISSING@mx.google.com> Received: from [172.17.0.3] (unknown [172.18.0.217]) by postal.iol.unh.edu (Postfix) with ESMTP id E17466052471; Tue, 15 Apr 2025 07:38:07 -0400 (EDT) Subject: |SUCCESS| pw152916 [PATCH] net/e1000: fix eeprom dump failure From: dpdklab@iol.unh.edu To: Test Report Cc: dpdk-test-reports@iol.unh.edu In-Reply-To: <20250415074802.454733-1-yuanx.wang@intel.com> References: <20250415074802.454733-1-yuanx.wang@intel.com> Content-Type: text/plain X-BeenThere: test-report@dpdk.org X-Mailman-Version: 2.1.29 Precedence: list List-Id: automatic DPDK test reports List-Unsubscribe: , List-Archive: List-Post: List-Help: List-Subscribe: , Errors-To: test-report-bounces@dpdk.org Test-Label: iol-compile-amd64-testing Test-Status: SUCCESS http://dpdk.org/patch/152916 _Testing PASS_ Submitter: Yuan Wang Date: Tuesday, April 15 2025 07:48:02 DPDK git baseline: Repo:dpdk Branch: master CommitID:d7817c378fecd07c59360667f93c25dff4b1a145 152916 --> testing pass Upstream job id: Generic-DPDK-Compile-Meson#380105 Test environment and result as below: +-----------------------------------+--------------------+-------------------+------------------+-------------------------+-------------------+----------------------+ | Environment | dpdk_meson_compile | dpdk_compile_spdk | dpdk_compile_ovs | dpdk_llvm_clang_compile | dpdk_msvc_compile | dpdk_mingw64_compile | +===================================+====================+===================+==================+=========================+===================+======================+ | CentOS Stream 9 | PASS | PASS | SKIPPED | SKIPPED | SKIPPED | SKIPPED | +-----------------------------------+--------------------+-------------------+------------------+-------------------------+-------------------+----------------------+ | CentOS Stream 10 | PASS | SKIPPED | SKIPPED | SKIPPED | SKIPPED | SKIPPED | +-----------------------------------+--------------------+-------------------+------------------+-------------------------+-------------------+----------------------+ | Fedora 40 | PASS | PASS | SKIPPED | SKIPPED | SKIPPED | SKIPPED | +-----------------------------------+--------------------+-------------------+------------------+-------------------------+-------------------+----------------------+ | Fedora 41 (Clang) | PASS | PASS | PASS | SKIPPED | SKIPPED | SKIPPED | +-----------------------------------+--------------------+-------------------+------------------+-------------------------+-------------------+----------------------+ | Debian 12 | PASS | PASS | SKIPPED | SKIPPED | SKIPPED | SKIPPED | +-----------------------------------+--------------------+-------------------+------------------+-------------------------+-------------------+----------------------+ | Fedora 40 (Clang) | PASS | PASS | SKIPPED | SKIPPED | SKIPPED | SKIPPED | +-----------------------------------+--------------------+-------------------+------------------+-------------------------+-------------------+----------------------+ | Fedora 41 | PASS | PASS | PASS | SKIPPED | SKIPPED | SKIPPED | +-----------------------------------+--------------------+-------------------+------------------+-------------------------+-------------------+----------------------+ | Ubuntu 20.04 | PASS | SKIPPED | SKIPPED | SKIPPED | SKIPPED | SKIPPED | +-----------------------------------+--------------------+-------------------+------------------+-------------------------+-------------------+----------------------+ | RHEL9 | PASS | SKIPPED | SKIPPED | SKIPPED | SKIPPED | SKIPPED | +-----------------------------------+--------------------+-------------------+------------------+-------------------------+-------------------+----------------------+ | RHEL8 | PASS | SKIPPED | SKIPPED | SKIPPED | SKIPPED | SKIPPED | +-----------------------------------+--------------------+-------------------+------------------+-------------------------+-------------------+----------------------+ | openSUSE Leap 15 | PASS | SKIPPED | SKIPPED | SKIPPED | SKIPPED | SKIPPED | +-----------------------------------+--------------------+-------------------+------------------+-------------------------+-------------------+----------------------+ | Ubuntu 22.04 | PASS | PASS | SKIPPED | SKIPPED | SKIPPED | SKIPPED | +-----------------------------------+--------------------+-------------------+------------------+-------------------------+-------------------+----------------------+ | Ubuntu 24.04 | PASS | PASS | PASS | SKIPPED | SKIPPED | SKIPPED | +-----------------------------------+--------------------+-------------------+------------------+-------------------------+-------------------+----------------------+ | Alpine | PASS | SKIPPED | SKIPPED | SKIPPED | SKIPPED | SKIPPED | +-----------------------------------+--------------------+-------------------+------------------+-------------------------+-------------------+----------------------+ | Ubuntu 24.04 32 Bit Cross Compile | PASS | SKIPPED | SKIPPED | SKIPPED | SKIPPED | SKIPPED | +-----------------------------------+--------------------+-------------------+------------------+-------------------------+-------------------+----------------------+ | FreeBSD 13.5 | PASS | SKIPPED | SKIPPED | SKIPPED | SKIPPED | SKIPPED | +-----------------------------------+--------------------+-------------------+------------------+-------------------------+-------------------+----------------------+ | FreeBSD 14.2 | PASS | SKIPPED | SKIPPED | SKIPPED | SKIPPED | SKIPPED | +-----------------------------------+--------------------+-------------------+------------------+-------------------------+-------------------+----------------------+ | Windows Server 2022 | SKIPPED | SKIPPED | SKIPPED | PASS | PASS | PASS | +-----------------------------------+--------------------+-------------------+------------------+-------------------------+-------------------+----------------------+ CentOS Stream 9 Kernel: Depends on container host Compiler: gcc 11.5.0 20240719 (Red Hat 11.5.0-2) CentOS Stream 10 Kernel: Depends on container host Compiler: gcc 14.2.1 20241104 (Red Hat 14.2.1-6) Fedora 40 Kernel: Depends on container host Compiler: gcc 14.2.1 20240912 (Red Hat 14.2.1-3) Fedora 41 (Clang) Kernel: Depends on container host Compiler: clang 19.1.5 (Fedora 19.1.5-1.fc41) Debian 12 Kernel: Depends on container host Compiler: gcc (Debian 12.2.0-14) 12.2.0 Fedora 40 (Clang) Kernel: Depends on container host Compiler: clang 18.1.8 (Fedora 18.1.8-1.fc40) Fedora 41 Kernel: Depends on container host Compiler: gcc 14.2.1 20240912 (Red Hat 14.2.1-3) Ubuntu 20.04 Kernel: Depends on container host Compiler: gcc (Ubuntu 9.4.0-1ubuntu1~20.04.2) 9.4.0 RHEL9 Kernel: Depends on container host Compiler: gcc 11.5.0 20240719 (Red Hat 11.5.0-2) RHEL8 Kernel: Depends on container host Compiler: gcc 8.5.0 20210514 (Red Hat 8.5.0-22) openSUSE Leap 15 Kernel: Depends on container host Compiler: gcc (SUSE Linux) 7.5.0 Ubuntu 22.04 Kernel: Depends on container host Compiler: gcc (Ubuntu 11.4.0-1ubuntu1~22.04) 11.4.0 Ubuntu 24.04 Kernel: Depends on container host Compiler: gcc (Ubuntu 13.3.0-6ubuntu2~24.04) 13.3.0 Alpine Kernel: Depends on container host Compiler: gcc (Alpine 14.2.0) 14.2.0 Ubuntu 24.04 32 Bit Cross Compile Kernel: Depends on container host Compiler: gcc (Ubuntu 13.3.0-6ubuntu2~24.04) 13.3.0 FreeBSD 13.5 Kernel: 13.5-RELEASE Compiler: clang 19.1.7 FreeBSD 14.2 Kernel: 14.2-RELEASE Compiler: clang 18.1.6 Windows Server 2022 Kernel: 10.0.20348.2031 Compiler: clang 15.0.7, gcc 14.1.0 (MinGW), and MSVC VS 19.39.33521 To view detailed results, visit: https://lab.dpdk.org/results/dashboard/patchsets/33007/ UNH-IOL DPDK Community Lab To manage your email subscriptions, visit: https://lab.dpdk.org/results/dashboard/preferences/subscriptions/