From mboxrd@z Thu Jan 1 00:00:00 1970 Return-Path: Received: from mails.dpdk.org (mails.dpdk.org [217.70.189.124]) by inbox.dpdk.org (Postfix) with ESMTP id B7AF44659A for ; Tue, 15 Apr 2025 14:58:41 +0200 (CEST) Received: from mails.dpdk.org (localhost [127.0.0.1]) by mails.dpdk.org (Postfix) with ESMTP id 8FA92402A1; Tue, 15 Apr 2025 14:58:41 +0200 (CEST) Received: from mail-pl1-f225.google.com (mail-pl1-f225.google.com [209.85.214.225]) by mails.dpdk.org (Postfix) with ESMTP id 3EBCA40289 for ; Tue, 15 Apr 2025 14:58:40 +0200 (CEST) Received: by mail-pl1-f225.google.com with SMTP id d9443c01a7336-22423adf751so49983985ad.2 for ; Tue, 15 Apr 2025 05:58:40 -0700 (PDT) DKIM-Signature: v=1; a=rsa-sha256; c=relaxed/relaxed; d=iol.unh.edu; s=unh-iol; t=1744721919; x=1745326719; darn=dpdk.org; h=references:in-reply-to:cc:to:from:subject:message-id:date:from:to :cc:subject:date:message-id:reply-to; bh=Qqj6veKmYLuezBrcWIbURpgAFvGN/f53rEbFv3+QjN0=; b=hvHrh2H5A0Pxc55LviCizLC39Xnwvd5h0qd1JuKKfe9H7cnDWl7MaEcQO2pTdxYqMz b+IZdHf+CrlhQd0s7fwOKwN22ZD59opg4lPL5cazXKt6WiUE+ItuN8uWp33UB58dxd/y eeONow+rB+2pYqqUCGMu7JFDRuFXMMxJ7trDQ= X-Google-DKIM-Signature: v=1; a=rsa-sha256; c=relaxed/relaxed; d=1e100.net; s=20230601; t=1744721919; x=1745326719; h=references:in-reply-to:cc:to:from:subject:message-id:date :x-gm-message-state:from:to:cc:subject:date:message-id:reply-to; bh=Qqj6veKmYLuezBrcWIbURpgAFvGN/f53rEbFv3+QjN0=; b=S5VIZOOb1K2tX8HWEQs0yJVCKAW1fhwHQDmZsZTPL5CE4y1c2FGP2NSYREVg1aXsQp grOaeG8DjW2yalaIGqTESPCIyHVGXZYPh7zD339Ku7KXJC9eDvWuVeHdybs/geHVRm5i 6Pa0aoU8fGw8I9q9JfplNWaeeLDQDB4iAWT/u9sznXmSqO7gTsqFL75dbXa9Y2Y3L6uw 55MNouZ5h79rU1MV9cmdQ43tRZCywXbG1TuUmLRCYV+9z8smBT+Km33x2oA6cx/di2a3 wZWOXZWAAYR4rT1RvvY8XCIxdAj75yXfpCEf4+Vx+e+lZPOGkOgWTbSYd0z7eitn58ot pnfA== X-Gm-Message-State: AOJu0Yya90uETwZZukvtnNdxva/wo/regTiPHsEZtcPlaIveAp8cMM7v gmcre1VfmtUzBzXf9SGEFnv/xUjXEjdjRCBMMHNZwBKMkk43ac0Yt355epTalrvy3K/qJHLohWv ZYvfcrkDokutDjnqyoBxs/cMjfPUAuNXipeckxQEiER+SKf/bmdlAYcOZ X-Gm-Gg: ASbGnct2mMBphxjTYQ8npdfJuzkFyNAs2gjvctujK19YSwEbEyYCd2CWbFx8HnugPzy C57YXhg0IOm2qVTH4IV//TeqkMI3Mb2ma/d/57Zh0yahF0eQhf67Axp677KqfofzChyXeQydQjf Wu1Diaqi49SBaQNLmVdiZl2IwvgISW8Pin1DKDr442glYU0C5o6RYngaB7pAKVtDIWkpxuISTEe ffyiKRdA/NHm1bUHZ3VF8qAgzPsYtzz5kNV0pT2KDlk+o7CE15RVF5oJroz6kb/oGEjIatoTOzw 8E52Nma9FPqyvRGB8vwYchz/FiUt6Njjn/cmMckPCbv+CASD X-Google-Smtp-Source: AGHT+IGOQfpXmM2Kk4b7lqHsVrez2UKVhrtNXkJSKR05aaS0Vbgjv8asfW3V9E36mtRkhIZmwnT/NAs3Kzud X-Received: by 2002:a17:902:fc4f:b0:229:1717:8826 with SMTP id d9443c01a7336-22bea4c0072mr290184925ad.28.1744721919371; Tue, 15 Apr 2025 05:58:39 -0700 (PDT) Received: from postal.iol.unh.edu (postal.iol.unh.edu. [2606:4100:3880:1234::84]) by smtp-relay.gmail.com with ESMTPS id d9443c01a7336-22ac7b6c5c1sm7262825ad.45.2025.04.15.05.58.39 (version=TLS1_2 cipher=ECDHE-ECDSA-AES128-GCM-SHA256 bits=128/128); Tue, 15 Apr 2025 05:58:39 -0700 (PDT) X-Relaying-Domain: iol.unh.edu Date: Tue, 15 Apr 2025 05:58:39 -0700 (PDT) Message-ID: <67fe57ff.170a0220.27df1f.5c19SMTPIN_ADDED_MISSING@mx.google.com> Received: from [172.21.0.5] (unknown [172.18.0.240]) by postal.iol.unh.edu (Postfix) with ESMTP id 789E86052471; Tue, 15 Apr 2025 08:58:38 -0400 (EDT) Subject: |SUCCESS| pw152918 [PATCH] dts: add ICMP to packet filter config From: dpdklab@iol.unh.edu To: Test Report Cc: dpdk-test-reports@iol.unh.edu In-Reply-To: <20250415094923.487014-1-luca.vizzarro@arm.com> References: <20250415094923.487014-1-luca.vizzarro@arm.com> Content-Type: text/plain X-BeenThere: test-report@dpdk.org X-Mailman-Version: 2.1.29 Precedence: list List-Id: automatic DPDK test reports List-Unsubscribe: , List-Archive: List-Post: List-Help: List-Subscribe: , Errors-To: test-report-bounces@dpdk.org Test-Label: iol-unit-amd64-testing Test-Status: SUCCESS http://dpdk.org/patch/152918 _Testing PASS_ Submitter: Luca Vizzarro Date: Tuesday, April 15 2025 09:48:49 DPDK git baseline: Repo:dpdk Branch: master CommitID:c933d60a7f8696695eb08ae655f2d809aedc29d5 152918 --> testing pass Upstream job id: Generic-Unit-Test-DPDK#331117 Test environment and result as below: +-------------------+----------------+ | Environment | dpdk_unit_test | +===================+================+ | Fedora 40 (Clang) | PASS | +-------------------+----------------+ | CentOS Stream 9 | PASS | +-------------------+----------------+ | Ubuntu 20.04 | PASS | +-------------------+----------------+ | Fedora 41 (Clang) | PASS | +-------------------+----------------+ | Fedora 41 | PASS | +-------------------+----------------+ | Debian 12 | PASS | +-------------------+----------------+ | RHEL9 | PASS | +-------------------+----------------+ | CentOS Stream 10 | PASS | +-------------------+----------------+ | Fedora 40 | PASS | +-------------------+----------------+ | Ubuntu 22.04 | PASS | +-------------------+----------------+ | Ubuntu 24.04 | PASS | +-------------------+----------------+ | RHEL8 | PASS | +-------------------+----------------+ Fedora 40 (Clang) Kernel: Depends on container host Compiler: clang 18.1.8 (Fedora 18.1.8-1.fc40) CentOS Stream 9 Kernel: Depends on container host Compiler: gcc 11.5.0 20240719 (Red Hat 11.5.0-2) Ubuntu 20.04 Kernel: Depends on container host Compiler: gcc (Ubuntu 9.4.0-1ubuntu1~20.04.2) 9.4.0 Fedora 41 (Clang) Kernel: Depends on container host Compiler: clang 19.1.5 (Fedora 19.1.5-1.fc41) Fedora 41 Kernel: Depends on container host Compiler: gcc 14.2.1 20240912 (Red Hat 14.2.1-3) Debian 12 Kernel: Depends on container host Compiler: gcc (Debian 12.2.0-14) 12.2.0 RHEL9 Kernel: Depends on container host Compiler: gcc 11.5.0 20240719 (Red Hat 11.5.0-2) CentOS Stream 10 Kernel: Depends on container host Compiler: gcc 14.2.1 20241104 (Red Hat 14.2.1-6) Fedora 40 Kernel: Depends on container host Compiler: gcc 14.2.1 20240912 (Red Hat 14.2.1-3) Ubuntu 22.04 Kernel: Depends on container host Compiler: gcc (Ubuntu 11.4.0-1ubuntu1~22.04) 11.4.0 Ubuntu 24.04 Kernel: Depends on container host Compiler: gcc (Ubuntu 13.3.0-6ubuntu2~24.04) 13.3.0 RHEL8 Kernel: Depends on container host Compiler: gcc 8.5.0 20210514 (Red Hat 8.5.0-22) To view detailed results, visit: https://lab.dpdk.org/results/dashboard/patchsets/33009/ UNH-IOL DPDK Community Lab To manage your email subscriptions, visit: https://lab.dpdk.org/results/dashboard/preferences/subscriptions/