From mboxrd@z Thu Jan 1 00:00:00 1970 Return-Path: Received: from mails.dpdk.org (mails.dpdk.org [217.70.189.124]) by inbox.dpdk.org (Postfix) with ESMTP id E09754659A for ; Tue, 15 Apr 2025 15:01:18 +0200 (CEST) Received: from mails.dpdk.org (localhost [127.0.0.1]) by mails.dpdk.org (Postfix) with ESMTP id CC387402A1; Tue, 15 Apr 2025 15:01:18 +0200 (CEST) Received: from mail-pl1-f227.google.com (mail-pl1-f227.google.com [209.85.214.227]) by mails.dpdk.org (Postfix) with ESMTP id 9646340289 for ; Tue, 15 Apr 2025 15:01:17 +0200 (CEST) Received: by mail-pl1-f227.google.com with SMTP id d9443c01a7336-2241053582dso75290285ad.1 for ; Tue, 15 Apr 2025 06:01:17 -0700 (PDT) DKIM-Signature: v=1; a=rsa-sha256; c=relaxed/relaxed; d=iol.unh.edu; s=unh-iol; t=1744722077; x=1745326877; darn=dpdk.org; h=references:in-reply-to:cc:to:from:subject:message-id:date:from:to :cc:subject:date:message-id:reply-to; bh=/uF8myyb28DfNYJbD+DEyr/JTH8EQ33fOrGjNNNWvZ8=; b=aDWH1SPK2T/PMngN2tPQWuNiS5Fd+jLJnK+SNy5/kF6VjIjCGgSM8vpHeVMlJmH1KE 66fV/QY0Vt+ICKFcMlotRsJi6pn5sPmjbt+ocxGISy88mjc7iHdpeiI0vPlsb/GgbPAz SPiiQTVCaNylj5GzKztRfUhiW3p3xy83LG3uU= X-Google-DKIM-Signature: v=1; a=rsa-sha256; c=relaxed/relaxed; d=1e100.net; s=20230601; t=1744722077; x=1745326877; h=references:in-reply-to:cc:to:from:subject:message-id:date :x-gm-message-state:from:to:cc:subject:date:message-id:reply-to; bh=/uF8myyb28DfNYJbD+DEyr/JTH8EQ33fOrGjNNNWvZ8=; b=OslhrfFqVFAoYYSr1z3MRK7rKkmzU6UXOsAxSNEqvefM0V/mVehGoz0KYj9KmSFxb9 Zhi5Gzdkto8k+Ct+l5Xoa6109sJxv2fjG/miD+lUPgEQDD6zHIQSPMorvypDePxrZPIA LcLr9p19Dmyg+/6XIrs5+Qhtj74zNUzMvZPDg+K9iQaVziSaI0vBtyV5fvorXw2FB2QR mCeoq4LCIUtZxCmZY/agOdyUs8aEkdGTzZ6/SA4NcbztWjZnJEQ1JjGVI42y6d4aDx/g a2A80QWQAQIzbq/qxz3d13h2MILTNNDM77tI8T35e5CDRklap68KkvglvYQ+3xluNizK CJHw== X-Gm-Message-State: AOJu0YwNUVyJIPTtVfElED5LUvAfq5CMiXIi2pM1MaCNzim8GOwvV0af AudGMXqBSd12olzIW2ux10BrIZNo/alVoJWx8UzZslpQKFmEbqBLj9rxETVyJtUjbY9Py1/18Qs Ri/fhqWNwQJYhZuYPc8biZ2fd53Lbbv7WhvV0xn42QjzzdglkK5fSnNQo X-Gm-Gg: ASbGncsXAkDpJEhLUFgUupmjqmfO7bjzyAt5S9QcAuJnDn0XWnIBwBi5hJq1X2BY/yf ta/WG0a1plKrXzHvvvQomW9R5JcAJmJ/pxFFJNYVn3AZWB3TafFn/Ah7PUtXvo7U2/zhdYRE8EK ed9go9N50VQQTVxeFbhQCr+dBm0FVhBs6/a6BK4VZZJMZW9wcamwo3BW4anuja5GWFOTJ2g1bs+ 5xbVskZRX2ycfoK5J7GVLHaiz8Omv5YMXotMngwWrHufyhABvmZuJg8Wumk/X+Y+ZTWXKrd4l91 kmGS3MAEimzEfriWV6NUxGF8g2eVgSQQ1ePbQc/ZVNWxgVTB X-Google-Smtp-Source: AGHT+IGVzZRJs5iXB0TFcYQmWAhFtSfjnnUA6h9A+gjHmJzlGnQAZpkGoS4CEj9DSI2JDNfGw6yGOKSmygjQ X-Received: by 2002:a17:902:d2c2:b0:227:e6fe:2908 with SMTP id d9443c01a7336-22bea50bd27mr228698855ad.48.1744722075890; Tue, 15 Apr 2025 06:01:15 -0700 (PDT) Received: from postal.iol.unh.edu (postal.iol.unh.edu. [2606:4100:3880:1234::84]) by smtp-relay.gmail.com with ESMTPS id d9443c01a7336-22ac7cb5357sm6905205ad.118.2025.04.15.06.01.15 (version=TLS1_2 cipher=ECDHE-ECDSA-AES128-GCM-SHA256 bits=128/128); Tue, 15 Apr 2025 06:01:15 -0700 (PDT) X-Relaying-Domain: iol.unh.edu Date: Tue, 15 Apr 2025 06:01:15 -0700 (PDT) Message-ID: <67fe589b.170a0220.1d3777.2e33SMTPIN_ADDED_MISSING@mx.google.com> Received: from [172.21.0.7] (unknown [172.18.0.240]) by postal.iol.unh.edu (Postfix) with ESMTP id 49AAD6052471; Tue, 15 Apr 2025 09:01:15 -0400 (EDT) Subject: |SUCCESS| pw152918 [PATCH] dts: add ICMP to packet filter config From: dpdklab@iol.unh.edu To: Test Report Cc: dpdk-test-reports@iol.unh.edu In-Reply-To: <20250415094923.487014-1-luca.vizzarro@arm.com> References: <20250415094923.487014-1-luca.vizzarro@arm.com> Content-Type: text/plain X-BeenThere: test-report@dpdk.org X-Mailman-Version: 2.1.29 Precedence: list List-Id: automatic DPDK test reports List-Unsubscribe: , List-Archive: List-Post: List-Help: List-Subscribe: , Errors-To: test-report-bounces@dpdk.org Test-Label: iol-unit-arm64-testing Test-Status: SUCCESS http://dpdk.org/patch/152918 _Testing PASS_ Submitter: Luca Vizzarro Date: Tuesday, April 15 2025 09:48:49 DPDK git baseline: Repo:dpdk Branch: master CommitID:c933d60a7f8696695eb08ae655f2d809aedc29d5 152918 --> testing pass Upstream job id: Generic-Unit-Test-DPDK#331121 Test environment and result as below: +-----------------------------+----------------+------------------------------+---------------------------+--------------+ | Environment | dpdk_unit_test | cryptodev_sw_snow3g_autotest | cryptodev_sw_zuc_autotest | lpm_autotest | +=============================+================+==============================+===========================+==============+ | 32-bit Ubuntu 22.04.4 (ARM) | PASS | SKIPPED | SKIPPED | SKIPPED | +-----------------------------+----------------+------------------------------+---------------------------+--------------+ | Fedora 40 (ARM) | PASS | SKIPPED | SKIPPED | SKIPPED | +-----------------------------+----------------+------------------------------+---------------------------+--------------+ | CentOS Stream 10 (ARM) | PASS | SKIPPED | SKIPPED | SKIPPED | +-----------------------------+----------------+------------------------------+---------------------------+--------------+ | CentOS Stream 9 (ARM) | PASS | SKIPPED | SKIPPED | SKIPPED | +-----------------------------+----------------+------------------------------+---------------------------+--------------+ | Debian 12 (arm) | PASS | PASS | PASS | SKIPPED | +-----------------------------+----------------+------------------------------+---------------------------+--------------+ | Fedora 41 (ARM Clang) | PASS | SKIPPED | SKIPPED | SKIPPED | +-----------------------------+----------------+------------------------------+---------------------------+--------------+ | Fedora 40 (ARM Clang) | PASS | SKIPPED | SKIPPED | SKIPPED | +-----------------------------+----------------+------------------------------+---------------------------+--------------+ | Ubuntu 20.04 (ARM) | PASS | SKIPPED | SKIPPED | SKIPPED | +-----------------------------+----------------+------------------------------+---------------------------+--------------+ | Fedora 41 (ARM) | PASS | SKIPPED | SKIPPED | SKIPPED | +-----------------------------+----------------+------------------------------+---------------------------+--------------+ | Ubuntu 22.04 (ARM) | PASS | SKIPPED | SKIPPED | SKIPPED | +-----------------------------+----------------+------------------------------+---------------------------+--------------+ | RHEL9 (ARM) | PASS | SKIPPED | SKIPPED | SKIPPED | +-----------------------------+----------------+------------------------------+---------------------------+--------------+ | Ubuntu 24.04 (ARM) | PASS | SKIPPED | SKIPPED | SKIPPED | +-----------------------------+----------------+------------------------------+---------------------------+--------------+ | Ubuntu 20.04 ARM SVE | SKIPPED | SKIPPED | SKIPPED | PASS | +-----------------------------+----------------+------------------------------+---------------------------+--------------+ 32-bit Ubuntu 22.04.4 (ARM) Kernel: 5.15.83+ aarch64 Compiler: gcc (Ubuntu 11.4.0-1ubuntu1~22.04) 11.4.0 Fedora 40 (ARM) Kernel: Depends on container host Compiler: gcc 14.2.1 20240912 (Red Hat 14.2.1-3) CentOS Stream 10 (ARM) Kernel: Depends on container host Compiler: gcc 14.2.1 20241104 (Red Hat 14.2.1-6) CentOS Stream 9 (ARM) Kernel: Depends on container host Compiler: gcc 11.5.0 20240719 (Red Hat 11.5.0-2) Debian 12 (arm) Kernel: Depends on container host Compiler: gcc (Debian 12.2.0-14) 12.2.0 Fedora 41 (ARM Clang) Kernel: Depends on container host Compiler: clang 19.1.5 (Fedora 19.1.5-1.fc41) Fedora 40 (ARM Clang) Kernel: Depends on container host Compiler: clang 18.1.8 (Fedora 18.1.8-1.fc40) Ubuntu 20.04 (ARM) Kernel: Depends on container host Compiler: gcc (Ubuntu 9.4.0-1ubuntu1~20.04.2) 9.4.0 Fedora 41 (ARM) Kernel: Depends on container host Compiler: gcc 14.2.1 20240912 (Red Hat 14.2.1-3) Ubuntu 22.04 (ARM) Kernel: Depends on container host Compiler: gcc (Ubuntu 11.4.0-1ubuntu1~22.04) 11.4.0 RHEL9 (ARM) Kernel: Depends on container host Compiler: gcc 11.5.0 20240719 (Red Hat 11.5.0-2) Ubuntu 24.04 (ARM) Kernel: Depends on container host Compiler: gcc (Ubuntu 13.3.0-6ubuntu2~24.04) 13.3.0 Ubuntu 20.04 ARM SVE Kernel: Depends on container host Compiler: gcc (Ubuntu 10.5.0-1ubuntu1~20.04) 10.5.0 To view detailed results, visit: https://lab.dpdk.org/results/dashboard/patchsets/33009/ UNH-IOL DPDK Community Lab To manage your email subscriptions, visit: https://lab.dpdk.org/results/dashboard/preferences/subscriptions/