From mboxrd@z Thu Jan 1 00:00:00 1970 Return-Path: Received: from mails.dpdk.org (mails.dpdk.org [217.70.189.124]) by inbox.dpdk.org (Postfix) with ESMTP id 50D314659A for ; Tue, 15 Apr 2025 15:23:45 +0200 (CEST) Received: from mails.dpdk.org (localhost [127.0.0.1]) by mails.dpdk.org (Postfix) with ESMTP id 3001640289; Tue, 15 Apr 2025 15:23:45 +0200 (CEST) Received: from mail-pl1-f225.google.com (mail-pl1-f225.google.com [209.85.214.225]) by mails.dpdk.org (Postfix) with ESMTP id B13CD40263 for ; Tue, 15 Apr 2025 15:23:43 +0200 (CEST) Received: by mail-pl1-f225.google.com with SMTP id d9443c01a7336-225477548e1so52969065ad.0 for ; Tue, 15 Apr 2025 06:23:43 -0700 (PDT) DKIM-Signature: v=1; a=rsa-sha256; c=relaxed/relaxed; d=iol.unh.edu; s=unh-iol; t=1744723423; x=1745328223; darn=dpdk.org; h=references:in-reply-to:cc:to:from:subject:message-id:date:from:to :cc:subject:date:message-id:reply-to; bh=RfFmVmahopgMNFKlCBmKe7yT7+dyDa10CBEEJxgERBg=; b=XG++t7YH5YYMTWq1YE6timnJRK8IkarTTh/4SycZy9+yVe4Mwnb9h4mTbAoDAYwAhq qAy8q9ATWWSmjpEhkQxmYwZqiETOFbAdfpYwta5w1nIxpoLcWFuANBWZeBGk9lNN7bnx Adjlis+gRllgbnG/nNk0qwh2j/mFZza31AqWg= X-Google-DKIM-Signature: v=1; a=rsa-sha256; c=relaxed/relaxed; d=1e100.net; s=20230601; t=1744723423; x=1745328223; h=references:in-reply-to:cc:to:from:subject:message-id:date :x-gm-message-state:from:to:cc:subject:date:message-id:reply-to; bh=RfFmVmahopgMNFKlCBmKe7yT7+dyDa10CBEEJxgERBg=; b=bOCZzFLLvUWvRmpUHeZDzAJmnvYIkZ4Hkn78upJznCd7j8mgQ/l/4fgbu5xtEXr5Jd 671+XL2KCAD6x6hA8t+TBPDJRlSbUrYf8jZKKxkxwJKKUIczninUUnJMeoD+/Gb7lLk3 8Pl1DZIGSHarVCmtZmTbtbWKIe5jcSJnrgzFoVcSIqd3I0BJc77vfuXlGndzZPzSzthY 1bfQp4UN2pdYKuwaPsWM9nHByc+OOGSnf835nmGc45j1ORSVKf3FRGOH9Mcucjtc7Uwo 4eN7bUGB4OYt7HWJjVzcUG9d3okFiFQYmQU3P7mt8A4CNeNYGhZZCgX/YVdCG/n5EUAp 9PpQ== X-Gm-Message-State: AOJu0YwMuR0u5Qu3J4PQhCqR9CJMb73677k9SEYJ5LtDUuwFEbc4VjOj n6KRCrXCeQVyAeIAFdtq2mSM36V7Qa2HR5EwRM53QTdFbacMI2yH3lK2pklT5rDLXcRiOM/jH60 6Gu4I+rXqUn/cCIJAh5FU5xUuHzenoxiH7XBMQAIw/l1kMmVfHMw/OHGk X-Gm-Gg: ASbGncsbieKCYFI5Ldc6IkKcNygrOq6cuff/nXt/gA2aOOXEfQOPzLdFQQrERH1MM94 fX7ua2NJ1cVHgEzj5UVWzgpWh/pokTjkD7gsqGTBQjMAbwCuJq9K2tT3fi7YALQTrbsilU7vfs2 nllKOhYgRUZ95CKpkCP1FbTxn2I0E3LwReqsqRhyIDFclhCwTyjHZdzyjjU6qAJRCax360DNZAP d6VYC5GrzGM9Au3ZEQD8KFeczLg62pyfDJ8mna1aeGWzKOGst617oQFlOmA+CMr1hBGCc76wNVS YyfQqbX+ZKC7uHNnAx83JbvEwX/k/OBGlMo9BX1Xl+KozMOh X-Google-Smtp-Source: AGHT+IHg4N8GUTYXB7rgvHrjVbow/6p3HbqIks1PlvZLCf/3C+B582Q9M2F/885E0elXhDKLwmq4wMryryin X-Received: by 2002:a17:903:41c8:b0:224:256e:5e4e with SMTP id d9443c01a7336-22bea4ab925mr207944505ad.16.1744723422613; Tue, 15 Apr 2025 06:23:42 -0700 (PDT) Received: from postal.iol.unh.edu (postal.iol.unh.edu. [2606:4100:3880:1234::84]) by smtp-relay.gmail.com with ESMTPS id d9443c01a7336-22ac75b9544sm7313665ad.0.2025.04.15.06.23.42 (version=TLS1_2 cipher=ECDHE-ECDSA-AES128-GCM-SHA256 bits=128/128); Tue, 15 Apr 2025 06:23:42 -0700 (PDT) X-Relaying-Domain: iol.unh.edu Date: Tue, 15 Apr 2025 06:23:42 -0700 (PDT) Message-ID: <67fe5dde.170a0220.70fb1.62c8SMTPIN_ADDED_MISSING@mx.google.com> Received: from [172.21.0.5] (unknown [172.18.0.240]) by postal.iol.unh.edu (Postfix) with ESMTP id B2B4E6052471; Tue, 15 Apr 2025 09:23:41 -0400 (EDT) Subject: |SUCCESS| pw152918 [PATCH] dts: add ICMP to packet filter config From: dpdklab@iol.unh.edu To: Test Report Cc: dpdk-test-reports@iol.unh.edu In-Reply-To: <20250415094923.487014-1-luca.vizzarro@arm.com> References: <20250415094923.487014-1-luca.vizzarro@arm.com> Content-Type: text/plain X-BeenThere: test-report@dpdk.org X-Mailman-Version: 2.1.29 Precedence: list List-Id: automatic DPDK test reports List-Unsubscribe: , List-Archive: List-Post: List-Help: List-Subscribe: , Errors-To: test-report-bounces@dpdk.org Test-Label: iol-unit-amd64-testing Test-Status: SUCCESS http://dpdk.org/patch/152918 _Testing PASS_ Submitter: Luca Vizzarro Date: Tuesday, April 15 2025 09:48:49 DPDK git baseline: Repo:dpdk Branch: master CommitID:c933d60a7f8696695eb08ae655f2d809aedc29d5 152918 --> testing pass Upstream job id: Generic-VM-Unit-Test-DPDK#27985 Test environment and result as below: +---------------------+----------------+ | Environment | dpdk_unit_test | +=====================+================+ | Fedora 40 (Clang) | PASS | +---------------------+----------------+ | CentOS Stream 9 | PASS | +---------------------+----------------+ | Ubuntu 20.04 | PASS | +---------------------+----------------+ | Fedora 41 (Clang) | PASS | +---------------------+----------------+ | Fedora 41 | PASS | +---------------------+----------------+ | Debian 12 | PASS | +---------------------+----------------+ | RHEL9 | PASS | +---------------------+----------------+ | CentOS Stream 10 | PASS | +---------------------+----------------+ | Fedora 40 | PASS | +---------------------+----------------+ | Ubuntu 22.04 | PASS | +---------------------+----------------+ | Ubuntu 24.04 | PASS | +---------------------+----------------+ | RHEL8 | PASS | +---------------------+----------------+ | Windows Server 2022 | PASS | +---------------------+----------------+ Fedora 40 (Clang) Kernel: Depends on container host Compiler: clang 18.1.8 (Fedora 18.1.8-1.fc40) CentOS Stream 9 Kernel: Depends on container host Compiler: gcc 11.5.0 20240719 (Red Hat 11.5.0-2) Ubuntu 20.04 Kernel: Depends on container host Compiler: gcc (Ubuntu 9.4.0-1ubuntu1~20.04.2) 9.4.0 Fedora 41 (Clang) Kernel: Depends on container host Compiler: clang 19.1.5 (Fedora 19.1.5-1.fc41) Fedora 41 Kernel: Depends on container host Compiler: gcc 14.2.1 20240912 (Red Hat 14.2.1-3) Debian 12 Kernel: Depends on container host Compiler: gcc (Debian 12.2.0-14) 12.2.0 RHEL9 Kernel: Depends on container host Compiler: gcc 11.5.0 20240719 (Red Hat 11.5.0-2) CentOS Stream 10 Kernel: Depends on container host Compiler: gcc 14.2.1 20241104 (Red Hat 14.2.1-6) Fedora 40 Kernel: Depends on container host Compiler: gcc 14.2.1 20240912 (Red Hat 14.2.1-3) Ubuntu 22.04 Kernel: Depends on container host Compiler: gcc (Ubuntu 11.4.0-1ubuntu1~22.04) 11.4.0 Ubuntu 24.04 Kernel: Depends on container host Compiler: gcc (Ubuntu 13.3.0-6ubuntu2~24.04) 13.3.0 RHEL8 Kernel: Depends on container host Compiler: gcc 8.5.0 20210514 (Red Hat 8.5.0-22) Windows Server 2022 Kernel: 10.0.20348.2031 Compiler: clang 15.0.7, gcc 14.1.0 (MinGW), and MSVC VS 19.39.33521 To view detailed results, visit: https://lab.dpdk.org/results/dashboard/patchsets/33009/ UNH-IOL DPDK Community Lab To manage your email subscriptions, visit: https://lab.dpdk.org/results/dashboard/preferences/subscriptions/