From mboxrd@z Thu Jan 1 00:00:00 1970 Return-Path: Received: from mails.dpdk.org (mails.dpdk.org [217.70.189.124]) by inbox.dpdk.org (Postfix) with ESMTP id 7E9954659A for ; Tue, 15 Apr 2025 15:30:02 +0200 (CEST) Received: from mails.dpdk.org (localhost [127.0.0.1]) by mails.dpdk.org (Postfix) with ESMTP id 7636440289; Tue, 15 Apr 2025 15:30:02 +0200 (CEST) Received: from mail-pf1-f228.google.com (mail-pf1-f228.google.com [209.85.210.228]) by mails.dpdk.org (Postfix) with ESMTP id 2E08A40263 for ; Tue, 15 Apr 2025 15:30:01 +0200 (CEST) Received: by mail-pf1-f228.google.com with SMTP id d2e1a72fcca58-73972a54919so4636391b3a.3 for ; Tue, 15 Apr 2025 06:30:01 -0700 (PDT) DKIM-Signature: v=1; a=rsa-sha256; c=relaxed/relaxed; d=iol.unh.edu; s=unh-iol; t=1744723800; x=1745328600; darn=dpdk.org; h=references:in-reply-to:cc:to:from:subject:message-id:date:from:to :cc:subject:date:message-id:reply-to; bh=iYMh50vQqHOGTmD8rRDVG5c8KWiA/+oMQ6DegPNKVTI=; b=JbAp8Y+yTFTTQK28dLlEDGF2XIS9GIPOjHSjBINGPUIXGwZEMSDkQii90FDx6T/HKQ 3eccPnNlBeRpdra+KhkyOCzCVP7o522RZx3jKJyVpAau3QfN8btALwTgXTvpGdBNWlPC m3+fO0Pe2EAcrw7qRR6gDZKs3XcHAeSX8XK4U= X-Google-DKIM-Signature: v=1; a=rsa-sha256; c=relaxed/relaxed; d=1e100.net; s=20230601; t=1744723800; x=1745328600; h=references:in-reply-to:cc:to:from:subject:message-id:date :x-gm-message-state:from:to:cc:subject:date:message-id:reply-to; bh=iYMh50vQqHOGTmD8rRDVG5c8KWiA/+oMQ6DegPNKVTI=; b=jovnezKY7Wk/o+AtR1kRlloOY7k48favf8rUmIeyY6RuIjeI8Zt/Yl2gb0w0wK05Nw /QqZV5nULlKAZZLH8Iiv7KvBGE+uak03HtnuyVlVrE9SdYS4et5o0NUdiL+/mt4wqRtr mIJ9rsuXrybbmCOZxYGscrtcCghMeserrJNQxWKUHvoNuskQY7yYI+uNq4hkQIFPwdXU 4hjM4J2O3/N3A49ZCNqjS+U5u15wGE+9oa8J4FDvmxlLkGVvqlLyQEqvhWdHTcowiM4A xlaOhPfxNuLCxjbka7qUBvamuqTcXJlSH2aUaUmCtd6L+hNpN1KLSGts98RRP4AAFQL7 fRjg== X-Gm-Message-State: AOJu0Yx3vtCn4ji/SIwyBFlJXUman5kPS/ZYMrHRO9ep+2baENdhmdKs DIAswN6JZAE4vUlu9BrL4/VubgXkh0xvfaIjXhI9rFD54H8m4GnIt4AQ6MEaF5fPoodrB+Rx3vS elXd/3eprcDE1vlh0EBs5J3DzQJiNoVpJgPyD+VZmlYg7Mn2I1pqvGK+B X-Gm-Gg: ASbGncvpG4Y/xXLdARsinl29b8VXcZLvxMs8OWGIHLs1COp4SUFBKmNXRDwcP3WP1SH 5z7s3NRv/p/FPRu/0a5j4M2qAcxB2xK7Ph/p7H0eB3Ca281gbXCArtJngNjxVri3YJn3m0Tz/Xz gBE+ZaeXN2UeWu096q7yum41UWiEWpQ7lqprQP9ftux5rGw0yBpzCsJXWmuBh/EUVeEwqWB0Smt rWDEkT7T1IkQ9UeOEs1qd7p51y/2J11/BeEQQWDxD9v0fs+eWZ8LUVNEm3NAk3gyXxaZO6uWiTP uk0cNDBrSG1q25YqbqFMawjbVrF1zCu9saFQOlYyxHbO6g0B X-Google-Smtp-Source: AGHT+IGHuSdKyPV0pjb9rtgxYVCaKYyukZaCYedrn3COU/9LpOTK+ekXa998MY5BFjUElwTf6XWslkXCVjgv X-Received: by 2002:a05:6a21:3281:b0:1f5:889c:3cdb with SMTP id adf61e73a8af0-20179787801mr24853454637.8.1744723800330; Tue, 15 Apr 2025 06:30:00 -0700 (PDT) Received: from postal.iol.unh.edu (postal.iol.unh.edu. [2606:4100:3880:1234::84]) by smtp-relay.gmail.com with ESMTPS id 41be03b00d2f7-b02a350d814sm863577a12.31.2025.04.15.06.30.00 (version=TLS1_2 cipher=ECDHE-ECDSA-AES128-GCM-SHA256 bits=128/128); Tue, 15 Apr 2025 06:30:00 -0700 (PDT) X-Relaying-Domain: iol.unh.edu Date: Tue, 15 Apr 2025 06:30:00 -0700 (PDT) Message-ID: <67fe5f58.630a0220.3f58e.d4d5SMTPIN_ADDED_MISSING@mx.google.com> Received: from [172.21.0.6] (unknown [172.18.0.240]) by postal.iol.unh.edu (Postfix) with ESMTP id 2099F6052471; Tue, 15 Apr 2025 09:29:59 -0400 (EDT) Subject: |SUCCESS| pw152918 [PATCH] dts: add ICMP to packet filter config From: dpdklab@iol.unh.edu To: Test Report Cc: dpdk-test-reports@iol.unh.edu In-Reply-To: <20250415094923.487014-1-luca.vizzarro@arm.com> References: <20250415094923.487014-1-luca.vizzarro@arm.com> Content-Type: text/plain X-BeenThere: test-report@dpdk.org X-Mailman-Version: 2.1.29 Precedence: list List-Id: automatic DPDK test reports List-Unsubscribe: , List-Archive: List-Post: List-Help: List-Subscribe: , Errors-To: test-report-bounces@dpdk.org Test-Label: iol-abi-testing Test-Status: SUCCESS http://dpdk.org/patch/152918 _Testing PASS_ Submitter: Luca Vizzarro Date: Tuesday, April 15 2025 09:48:49 DPDK git baseline: Repo:dpdk Branch: master CommitID:c933d60a7f8696695eb08ae655f2d809aedc29d5 152918 --> testing pass Upstream job id: Generic-DPDK-Compile-ABI#123378 Test environment and result as below: +-------------------+----------+ | Environment | abi_test | +===================+==========+ | CentOS Stream 9 | PASS | +-------------------+----------+ | CentOS Stream 10 | PASS | +-------------------+----------+ | Fedora 40 (Clang) | PASS | +-------------------+----------+ | Debian 12 | PASS | +-------------------+----------+ | openSUSE Leap 15 | PASS | +-------------------+----------+ | Fedora 41 | PASS | +-------------------+----------+ | Fedora 41 (Clang) | PASS | +-------------------+----------+ | RHEL8 | PASS | +-------------------+----------+ | Fedora 40 | PASS | +-------------------+----------+ | RHEL9 | PASS | +-------------------+----------+ | Ubuntu 22.04 | PASS | +-------------------+----------+ | Ubuntu 24.04 | PASS | +-------------------+----------+ CentOS Stream 9 Kernel: Depends on container host Compiler: gcc 11.5.0 20240719 (Red Hat 11.5.0-2) CentOS Stream 10 Kernel: Depends on container host Compiler: gcc 14.2.1 20241104 (Red Hat 14.2.1-6) Fedora 40 (Clang) Kernel: Depends on container host Compiler: clang 18.1.8 (Fedora 18.1.8-1.fc40) Debian 12 Kernel: Depends on container host Compiler: gcc (Debian 12.2.0-14) 12.2.0 openSUSE Leap 15 Kernel: Depends on container host Compiler: gcc (SUSE Linux) 7.5.0 Fedora 41 Kernel: Depends on container host Compiler: gcc 14.2.1 20240912 (Red Hat 14.2.1-3) Fedora 41 (Clang) Kernel: Depends on container host Compiler: clang 19.1.5 (Fedora 19.1.5-1.fc41) RHEL8 Kernel: Depends on container host Compiler: gcc 8.5.0 20210514 (Red Hat 8.5.0-22) Fedora 40 Kernel: Depends on container host Compiler: gcc 14.2.1 20240912 (Red Hat 14.2.1-3) RHEL9 Kernel: Depends on container host Compiler: gcc 11.5.0 20240719 (Red Hat 11.5.0-2) Ubuntu 22.04 Kernel: Depends on container host Compiler: gcc (Ubuntu 11.4.0-1ubuntu1~22.04) 11.4.0 Ubuntu 24.04 Kernel: Depends on container host Compiler: gcc (Ubuntu 13.3.0-6ubuntu2~24.04) 13.3.0 To view detailed results, visit: https://lab.dpdk.org/results/dashboard/patchsets/33009/ UNH-IOL DPDK Community Lab To manage your email subscriptions, visit: https://lab.dpdk.org/results/dashboard/preferences/subscriptions/