From mboxrd@z Thu Jan 1 00:00:00 1970 Return-Path: Received: from mails.dpdk.org (mails.dpdk.org [217.70.189.124]) by inbox.dpdk.org (Postfix) with ESMTP id E6CB84659A for ; Tue, 15 Apr 2025 15:53:19 +0200 (CEST) Received: from mails.dpdk.org (localhost [127.0.0.1]) by mails.dpdk.org (Postfix) with ESMTP id DE31F40289; Tue, 15 Apr 2025 15:53:19 +0200 (CEST) Received: from mail-io1-f100.google.com (mail-io1-f100.google.com [209.85.166.100]) by mails.dpdk.org (Postfix) with ESMTP id 0596440263 for ; Tue, 15 Apr 2025 15:53:18 +0200 (CEST) Received: by mail-io1-f100.google.com with SMTP id ca18e2360f4ac-855bd88ee2cso150718439f.0 for ; Tue, 15 Apr 2025 06:53:17 -0700 (PDT) DKIM-Signature: v=1; a=rsa-sha256; c=relaxed/relaxed; d=iol.unh.edu; s=unh-iol; t=1744725197; x=1745329997; darn=dpdk.org; h=references:in-reply-to:cc:to:from:subject:message-id:date:from:to :cc:subject:date:message-id:reply-to; bh=RhbR1a86lokE/H40JjI0SCo+o3e25cnRT3j8LfUwgwE=; b=ZtYP/FPHe6i1+38wGLFW4aYAnbK9XZ6uTOytVHwA1Yp9c9bgrICndCoHS50RPjiEMq eWCGndjLdkYt6FznRu7+f/n3kTOPfvRL4gDyKpEVl825Dz1aAWceu1a4MrrwaL4YH+ny 882oHFWTZChsNdlILyMdTkU/uBS/HC/uo3HIY= X-Google-DKIM-Signature: v=1; a=rsa-sha256; c=relaxed/relaxed; d=1e100.net; s=20230601; t=1744725197; x=1745329997; h=references:in-reply-to:cc:to:from:subject:message-id:date :x-gm-message-state:from:to:cc:subject:date:message-id:reply-to; bh=RhbR1a86lokE/H40JjI0SCo+o3e25cnRT3j8LfUwgwE=; b=L3J4tbisljtEUgId6FOAsslyVRRcQzhj9h7/OZhapvjEjvFyp1QyuydzLIqeXFH+SZ xFKR3TPVI4yj8wN9Mc+MTprDoIk8JENB3Mz20EzDAlLUHFfeAX9fWOb4G7Q1NDxV/wLr yzMhfhi9Qhi1S71ZP7AYCSR7PZgbSpTRa8VKdhoS4qQcOotzzrDVk11vFWW4fu3PIdJI DcFg0h6f9aMPkVNZo9/HQaxU8ppPps0pQXKOU0nh/Xcq31fzssL22geDImtdszT/hXaj Tmix+PCQzlnvVOdYfaJnzMKWUIabdXxaSWhkclCXTXPfNab2bU1hgh4284H9Po1UVW1j BICg== X-Gm-Message-State: AOJu0Yy2uY+cFRU0G9tXid//RDPwQfdZA1+AWnKJNQe4e0e/NxrNthZv 2Q1aKRs1hPqpLCmFroRtMS+K/v6ss1LPWk+fbJKVVMFuIkotdV0q6YJevBXc+OIhp65qnA/PTTT 3IgarXKeqiorUSmJEPWb1pyYivsrfAnk14yB6xWpm X-Gm-Gg: ASbGncupd/rNsYARmkjand57LO/Iu6PolIJE1bdyl6XKranQuiya9XmQsMQW98I1Fa5 1VEq6Dfaj+fnH+NNgU/Oc1RNrs4prghDiSupHwzO8NeH1okr+iSutxDCjxiBMYlu9bBgIh7pQau 3sc5DQ0eZ0W9XS6eaB8nILAcwKGS4EUH1cfu/1wEovwJTJ9v2KkQJF6hHR2G1wrhhdKlco/gTJY OeYfI1QI8HamWSRIu+DvhlGsMu/EtJp5N9S2zRkWgOZy1mlsNMngbiOsZsE+oIHLW7YVxZFF5un 1c7GHk8ueqs6q2V4CJKwmgbir5bI/K444fNH X-Google-Smtp-Source: AGHT+IGo+sduyt89yGvR6WvGSfQtO4VLft5+ATECnjhV8iVNgsmA/GnHuCexo+FFtnF7DtI89fEQK1SOfLxd X-Received: by 2002:a05:6e02:12e6:b0:3d0:4b3d:75ba with SMTP id e9e14a558f8ab-3d7ec1d9aa7mr166206245ab.4.1744725197308; Tue, 15 Apr 2025 06:53:17 -0700 (PDT) Received: from postal.iol.unh.edu (postal.iol.unh.edu. [132.177.123.84]) by smtp-relay.gmail.com with ESMTPS id e9e14a558f8ab-3d7dbaa43d5sm7313195ab.38.2025.04.15.06.53.17 (version=TLS1_2 cipher=ECDHE-ECDSA-AES128-GCM-SHA256 bits=128/128); Tue, 15 Apr 2025 06:53:17 -0700 (PDT) X-Relaying-Domain: iol.unh.edu Date: Tue, 15 Apr 2025 06:53:17 -0700 (PDT) Message-ID: <67fe64cd.050a0220.2db78c.384fSMTPIN_ADDED_MISSING@mx.google.com> Received: from [172.21.0.5] (unknown [172.18.0.240]) by postal.iol.unh.edu (Postfix) with ESMTP id DC7076052471; Tue, 15 Apr 2025 09:53:16 -0400 (EDT) Subject: |SUCCESS| pw152918 [PATCH] dts: add ICMP to packet filter config From: dpdklab@iol.unh.edu To: Test Report Cc: dpdk-test-reports@iol.unh.edu In-Reply-To: <20250415094923.487014-1-luca.vizzarro@arm.com> References: <20250415094923.487014-1-luca.vizzarro@arm.com> Content-Type: text/plain X-BeenThere: test-report@dpdk.org X-Mailman-Version: 2.1.29 Precedence: list List-Id: automatic DPDK test reports List-Unsubscribe: , List-Archive: List-Post: List-Help: List-Subscribe: , Errors-To: test-report-bounces@dpdk.org Test-Label: iol-unit-amd64-testing Test-Status: SUCCESS http://dpdk.org/patch/152918 _Testing PASS_ Submitter: Luca Vizzarro Date: Tuesday, April 15 2025 09:48:49 DPDK git baseline: Repo:dpdk Branch: master CommitID:c933d60a7f8696695eb08ae655f2d809aedc29d5 152918 --> testing pass Upstream job id: Generic-VM-Unit-Test-DPDK#27986 Test environment and result as below: +---------------------+----------------+ | Environment | dpdk_unit_test | +=====================+================+ | Fedora 40 (Clang) | PASS | +---------------------+----------------+ | CentOS Stream 9 | PASS | +---------------------+----------------+ | Ubuntu 20.04 | PASS | +---------------------+----------------+ | Fedora 41 (Clang) | PASS | +---------------------+----------------+ | Fedora 41 | PASS | +---------------------+----------------+ | Debian 12 | PASS | +---------------------+----------------+ | RHEL9 | PASS | +---------------------+----------------+ | CentOS Stream 10 | PASS | +---------------------+----------------+ | Fedora 40 | PASS | +---------------------+----------------+ | Ubuntu 22.04 | PASS | +---------------------+----------------+ | Ubuntu 24.04 | PASS | +---------------------+----------------+ | RHEL8 | PASS | +---------------------+----------------+ | Windows Server 2022 | PASS | +---------------------+----------------+ Fedora 40 (Clang) Kernel: Depends on container host Compiler: clang 18.1.8 (Fedora 18.1.8-1.fc40) CentOS Stream 9 Kernel: Depends on container host Compiler: gcc 11.5.0 20240719 (Red Hat 11.5.0-2) Ubuntu 20.04 Kernel: Depends on container host Compiler: gcc (Ubuntu 9.4.0-1ubuntu1~20.04.2) 9.4.0 Fedora 41 (Clang) Kernel: Depends on container host Compiler: clang 19.1.5 (Fedora 19.1.5-1.fc41) Fedora 41 Kernel: Depends on container host Compiler: gcc 14.2.1 20240912 (Red Hat 14.2.1-3) Debian 12 Kernel: Depends on container host Compiler: gcc (Debian 12.2.0-14) 12.2.0 RHEL9 Kernel: Depends on container host Compiler: gcc 11.5.0 20240719 (Red Hat 11.5.0-2) CentOS Stream 10 Kernel: Depends on container host Compiler: gcc 14.2.1 20241104 (Red Hat 14.2.1-6) Fedora 40 Kernel: Depends on container host Compiler: gcc 14.2.1 20240912 (Red Hat 14.2.1-3) Ubuntu 22.04 Kernel: Depends on container host Compiler: gcc (Ubuntu 11.4.0-1ubuntu1~22.04) 11.4.0 Ubuntu 24.04 Kernel: Depends on container host Compiler: gcc (Ubuntu 13.3.0-6ubuntu2~24.04) 13.3.0 RHEL8 Kernel: Depends on container host Compiler: gcc 8.5.0 20210514 (Red Hat 8.5.0-22) Windows Server 2022 Kernel: 10.0.20348.2031 Compiler: clang 15.0.7, gcc 14.1.0 (MinGW), and MSVC VS 19.39.33521 To view detailed results, visit: https://lab.dpdk.org/results/dashboard/patchsets/33009/ UNH-IOL DPDK Community Lab To manage your email subscriptions, visit: https://lab.dpdk.org/results/dashboard/preferences/subscriptions/