From mboxrd@z Thu Jan 1 00:00:00 1970 Return-Path: Received: from mails.dpdk.org (mails.dpdk.org [217.70.189.124]) by inbox.dpdk.org (Postfix) with ESMTP id F299C4659A for ; Tue, 15 Apr 2025 16:18:35 +0200 (CEST) Received: from mails.dpdk.org (localhost [127.0.0.1]) by mails.dpdk.org (Postfix) with ESMTP id CA8C440289; Tue, 15 Apr 2025 16:18:35 +0200 (CEST) Received: from mail-pl1-f228.google.com (mail-pl1-f228.google.com [209.85.214.228]) by mails.dpdk.org (Postfix) with ESMTP id CA2ED40263 for ; Tue, 15 Apr 2025 16:18:34 +0200 (CEST) Received: by mail-pl1-f228.google.com with SMTP id d9443c01a7336-22548a28d0cso81148455ad.3 for ; Tue, 15 Apr 2025 07:18:34 -0700 (PDT) DKIM-Signature: v=1; a=rsa-sha256; c=relaxed/relaxed; d=iol.unh.edu; s=unh-iol; t=1744726714; x=1745331514; darn=dpdk.org; h=references:in-reply-to:cc:to:from:subject:message-id:date:from:to :cc:subject:date:message-id:reply-to; bh=rcHGpKoNmWztxM5BlIuCn277MOm5v+YgtCE1r2bKbb8=; b=NDS/r1cUzGfGSGzhY8/BR1v6S7fwdvMT3urTCelmRRLlEAbX09/UGchVVnXL7GvCDq oUpnQOoZkfS+z2o2McKOrV2NGu5pioHMf81NPLzg7WOYIsH6Z4NNqD1pULQiiYJgmh7H diLiiHS/2eW7x5FXcxHyDzyMutH934SXBJqco= X-Google-DKIM-Signature: v=1; a=rsa-sha256; c=relaxed/relaxed; d=1e100.net; s=20230601; t=1744726714; x=1745331514; h=references:in-reply-to:cc:to:from:subject:message-id:date :x-gm-message-state:from:to:cc:subject:date:message-id:reply-to; bh=rcHGpKoNmWztxM5BlIuCn277MOm5v+YgtCE1r2bKbb8=; b=Lxt/edhLRlPXi7FhayKfeQgp1uc+DLSG5BOkLMa+YBjFWYXw2t6VzUCnBwrh7X906b +jCj4O6AbrxTDtfvw25w6ZEK902H5Y/RvjzG6VaJDyo8UP6Bgx2TCv6c+aiBLJ5Y6t6D sqtEvc4Fo/fvRAK/BXL1CJ1+WPzJLjnZfr3Iwzhs/70V93zKib/zlD+VomWRr04XQbfQ y+d18YmKNfqoEzZNJo+k6oB/LRdzIOi6P99i1QLBXWk3gUbq8fPbgmQXntmDwPkbG8UC BzQ4UUNqQMqJfdbbgXfsfJ4NxH7oyPD/cQkgGVgL2DUygEfWrttWb5RoOKtFPSDv+M4X bqLQ== X-Gm-Message-State: AOJu0YxVIc98khZOCo/medkZLa5HCA5Bf0LrLUAN9lAOF9ItCR/rC+NZ 8Jv6ekrEG66hM0RP+5ruHTZKhipLdbfB4aQ1UH+sYMBs7rsxiV92n8W3wssVLH3J8eNfuDBMcTj sW/1DrUk4L+kTyRoHYQwBJgc1N1T7cl1zFm9B3Co+ufdCR/Q9S9V3b/78 X-Gm-Gg: ASbGnct65kQVm/gnbFe5huJXeGVttVDsMQBP7GnbgbO1eUUaGLG+qrYmZrz3XZZrZyo lF1/WLtjHl3z9/ajCmmEZ6SNb7QXFNlEwwlpPiu49dSKAekNdDbyt6hrCd7PQ+Jy+R30gXOA32t hcMtPnsjVueoHCj5XCc3LyYuQJ2m5XPV0sHklmarFfkDOFGXFyANZvuWW4vNLXQiC+l1uiifFnZ 5beWDGCLcXo+qbH0gGQiUjW1m5dA68XCs00Fg4wWCIuys1NDegKNJgG1rYIvd66tBIc+F3wA/Fb pUg+pXPPT6CuUy3cXQCpzisckvAXVS09r59ozrNyqPi7RehP X-Google-Smtp-Source: AGHT+IFkldBedTJ2OGI7iQx5kCc5DAnOVCT3llZVii4lhwfb2tJkmTIsvaiFwnblKQDBRIGoDv7S5wgkEu7I X-Received: by 2002:a17:902:f68a:b0:225:ac99:ae0f with SMTP id d9443c01a7336-22bea495743mr217548015ad.1.1744726713711; Tue, 15 Apr 2025 07:18:33 -0700 (PDT) Received: from postal.iol.unh.edu (postal.iol.unh.edu. [2606:4100:3880:1234::84]) by smtp-relay.gmail.com with ESMTPS id d9443c01a7336-22ac7b6ba20sm7374005ad.39.2025.04.15.07.18.33 (version=TLS1_2 cipher=ECDHE-ECDSA-AES128-GCM-SHA256 bits=128/128); Tue, 15 Apr 2025 07:18:33 -0700 (PDT) X-Relaying-Domain: iol.unh.edu Date: Tue, 15 Apr 2025 07:18:33 -0700 (PDT) Message-ID: <67fe6ab9.170a0220.2b88af.6780SMTPIN_ADDED_MISSING@mx.google.com> Received: from [172.21.0.6] (unknown [172.18.0.240]) by postal.iol.unh.edu (Postfix) with ESMTP id C897F6052471; Tue, 15 Apr 2025 10:18:32 -0400 (EDT) Subject: |SUCCESS| pw152918 [PATCH] dts: add ICMP to packet filter config From: dpdklab@iol.unh.edu To: Test Report Cc: dpdk-test-reports@iol.unh.edu In-Reply-To: <20250415094923.487014-1-luca.vizzarro@arm.com> References: <20250415094923.487014-1-luca.vizzarro@arm.com> Content-Type: text/plain X-BeenThere: test-report@dpdk.org X-Mailman-Version: 2.1.29 Precedence: list List-Id: automatic DPDK test reports List-Unsubscribe: , List-Archive: List-Post: List-Help: List-Subscribe: , Errors-To: test-report-bounces@dpdk.org Test-Label: iol-compile-amd64-testing Test-Status: SUCCESS http://dpdk.org/patch/152918 _Testing PASS_ Submitter: Luca Vizzarro Date: Tuesday, April 15 2025 09:48:49 DPDK git baseline: Repo:dpdk Branch: master CommitID:c933d60a7f8696695eb08ae655f2d809aedc29d5 152918 --> testing pass Upstream job id: Generic-DPDK-Compile-Meson#380167 Test environment and result as below: +-----------------------------------+--------------------+-------------------+------------------+-------------------------+-------------------+----------------------+ | Environment | dpdk_meson_compile | dpdk_compile_spdk | dpdk_compile_ovs | dpdk_llvm_clang_compile | dpdk_msvc_compile | dpdk_mingw64_compile | +===================================+====================+===================+==================+=========================+===================+======================+ | CentOS Stream 10 | PASS | SKIPPED | SKIPPED | SKIPPED | SKIPPED | SKIPPED | +-----------------------------------+--------------------+-------------------+------------------+-------------------------+-------------------+----------------------+ | CentOS Stream 9 | PASS | PASS | SKIPPED | SKIPPED | SKIPPED | SKIPPED | +-----------------------------------+--------------------+-------------------+------------------+-------------------------+-------------------+----------------------+ | Fedora 40 (Clang) | PASS | PASS | SKIPPED | SKIPPED | SKIPPED | SKIPPED | +-----------------------------------+--------------------+-------------------+------------------+-------------------------+-------------------+----------------------+ | Fedora 40 | PASS | PASS | SKIPPED | SKIPPED | SKIPPED | SKIPPED | +-----------------------------------+--------------------+-------------------+------------------+-------------------------+-------------------+----------------------+ | Debian 12 | PASS | PASS | SKIPPED | SKIPPED | SKIPPED | SKIPPED | +-----------------------------------+--------------------+-------------------+------------------+-------------------------+-------------------+----------------------+ | Fedora 41 (Clang) | PASS | PASS | PASS | SKIPPED | SKIPPED | SKIPPED | +-----------------------------------+--------------------+-------------------+------------------+-------------------------+-------------------+----------------------+ | Fedora 41 | PASS | PASS | PASS | SKIPPED | SKIPPED | SKIPPED | +-----------------------------------+--------------------+-------------------+------------------+-------------------------+-------------------+----------------------+ | openSUSE Leap 15 | PASS | SKIPPED | SKIPPED | SKIPPED | SKIPPED | SKIPPED | +-----------------------------------+--------------------+-------------------+------------------+-------------------------+-------------------+----------------------+ | RHEL8 | PASS | SKIPPED | SKIPPED | SKIPPED | SKIPPED | SKIPPED | +-----------------------------------+--------------------+-------------------+------------------+-------------------------+-------------------+----------------------+ | RHEL9 | PASS | SKIPPED | SKIPPED | SKIPPED | SKIPPED | SKIPPED | +-----------------------------------+--------------------+-------------------+------------------+-------------------------+-------------------+----------------------+ | Ubuntu 20.04 | PASS | SKIPPED | SKIPPED | SKIPPED | SKIPPED | SKIPPED | +-----------------------------------+--------------------+-------------------+------------------+-------------------------+-------------------+----------------------+ | Ubuntu 22.04 | PASS | PASS | SKIPPED | SKIPPED | SKIPPED | SKIPPED | +-----------------------------------+--------------------+-------------------+------------------+-------------------------+-------------------+----------------------+ | Ubuntu 24.04 | PASS | PASS | PASS | SKIPPED | SKIPPED | SKIPPED | +-----------------------------------+--------------------+-------------------+------------------+-------------------------+-------------------+----------------------+ | Alpine | PASS | SKIPPED | SKIPPED | SKIPPED | SKIPPED | SKIPPED | +-----------------------------------+--------------------+-------------------+------------------+-------------------------+-------------------+----------------------+ | Ubuntu 24.04 32 Bit Cross Compile | PASS | SKIPPED | SKIPPED | SKIPPED | SKIPPED | SKIPPED | +-----------------------------------+--------------------+-------------------+------------------+-------------------------+-------------------+----------------------+ | FreeBSD 13.5 | PASS | SKIPPED | SKIPPED | SKIPPED | SKIPPED | SKIPPED | +-----------------------------------+--------------------+-------------------+------------------+-------------------------+-------------------+----------------------+ | FreeBSD 14.2 | PASS | SKIPPED | SKIPPED | SKIPPED | SKIPPED | SKIPPED | +-----------------------------------+--------------------+-------------------+------------------+-------------------------+-------------------+----------------------+ | Windows Server 2022 | SKIPPED | SKIPPED | SKIPPED | PASS | PASS | PASS | +-----------------------------------+--------------------+-------------------+------------------+-------------------------+-------------------+----------------------+ CentOS Stream 10 Kernel: Depends on container host Compiler: gcc 14.2.1 20241104 (Red Hat 14.2.1-6) CentOS Stream 9 Kernel: Depends on container host Compiler: gcc 11.5.0 20240719 (Red Hat 11.5.0-2) Fedora 40 (Clang) Kernel: Depends on container host Compiler: clang 18.1.8 (Fedora 18.1.8-1.fc40) Fedora 40 Kernel: Depends on container host Compiler: gcc 14.2.1 20240912 (Red Hat 14.2.1-3) Debian 12 Kernel: Depends on container host Compiler: gcc (Debian 12.2.0-14) 12.2.0 Fedora 41 (Clang) Kernel: Depends on container host Compiler: clang 19.1.5 (Fedora 19.1.5-1.fc41) Fedora 41 Kernel: Depends on container host Compiler: gcc 14.2.1 20240912 (Red Hat 14.2.1-3) openSUSE Leap 15 Kernel: Depends on container host Compiler: gcc (SUSE Linux) 7.5.0 RHEL8 Kernel: Depends on container host Compiler: gcc 8.5.0 20210514 (Red Hat 8.5.0-22) RHEL9 Kernel: Depends on container host Compiler: gcc 11.5.0 20240719 (Red Hat 11.5.0-2) Ubuntu 20.04 Kernel: Depends on container host Compiler: gcc (Ubuntu 9.4.0-1ubuntu1~20.04.2) 9.4.0 Ubuntu 22.04 Kernel: Depends on container host Compiler: gcc (Ubuntu 11.4.0-1ubuntu1~22.04) 11.4.0 Ubuntu 24.04 Kernel: Depends on container host Compiler: gcc (Ubuntu 13.3.0-6ubuntu2~24.04) 13.3.0 Alpine Kernel: Depends on container host Compiler: gcc (Alpine 14.2.0) 14.2.0 Ubuntu 24.04 32 Bit Cross Compile Kernel: Depends on container host Compiler: gcc (Ubuntu 13.3.0-6ubuntu2~24.04) 13.3.0 FreeBSD 13.5 Kernel: 13.5-RELEASE Compiler: clang 19.1.7 FreeBSD 14.2 Kernel: 14.2-RELEASE Compiler: clang 18.1.6 Windows Server 2022 Kernel: 10.0.20348.2031 Compiler: clang 15.0.7, gcc 14.1.0 (MinGW), and MSVC VS 19.39.33521 To view detailed results, visit: https://lab.dpdk.org/results/dashboard/patchsets/33009/ UNH-IOL DPDK Community Lab To manage your email subscriptions, visit: https://lab.dpdk.org/results/dashboard/preferences/subscriptions/